BEGIN:VCALENDAR
VERSION:2.0
PRODID:-//Transition Woodbridge - ECPv6.15.20//NONSGML v1.0//EN
CALSCALE:GREGORIAN
METHOD:PUBLISH
X-WR-CALNAME:Transition Woodbridge
X-ORIGINAL-URL:https://transitionwoodbridge.org.uk
X-WR-CALDESC:Events for Transition Woodbridge
REFRESH-INTERVAL;VALUE=DURATION:PT1H
X-Robots-Tag:noindex
X-PUBLISHED-TTL:PT1H
BEGIN:VTIMEZONE
TZID:Europe/London
BEGIN:DAYLIGHT
TZOFFSETFROM:+0000
TZOFFSETTO:+0100
TZNAME:BST
DTSTART:20240331T010000
END:DAYLIGHT
BEGIN:STANDARD
TZOFFSETFROM:+0100
TZOFFSETTO:+0000
TZNAME:GMT
DTSTART:20241027T010000
END:STANDARD
BEGIN:DAYLIGHT
TZOFFSETFROM:+0000
TZOFFSETTO:+0100
TZNAME:BST
DTSTART:20250330T010000
END:DAYLIGHT
BEGIN:STANDARD
TZOFFSETFROM:+0100
TZOFFSETTO:+0000
TZNAME:GMT
DTSTART:20251026T010000
END:STANDARD
BEGIN:DAYLIGHT
TZOFFSETFROM:+0000
TZOFFSETTO:+0100
TZNAME:BST
DTSTART:20260329T010000
END:DAYLIGHT
BEGIN:STANDARD
TZOFFSETFROM:+0100
TZOFFSETTO:+0000
TZNAME:GMT
DTSTART:20261025T010000
END:STANDARD
END:VTIMEZONE
BEGIN:VEVENT
DTSTART;TZID=Europe/London:20251101T140000
DTEND;TZID=Europe/London:20251101T163000
DTSTAMP:20260424T004616
CREATED:20251015T152122Z
LAST-MODIFIED:20251015T153237Z
UID:16785-1762005600-1762014600@transitionwoodbridge.org.uk
SUMMARY:Cultivating Communities - Gardening for people and planet
DESCRIPTION:Come along and join Wild About Campsea on Saturday 1 November for this event exploring regenerative and community gardening\, with the chance to make a bird nest box for the birds in your own garden too! \nFree event but donations are welcome which will go to support the local hedgehog rescue centre. \nFind out more.
URL:https://transitionwoodbridge.org.uk/event/cultivating-communities-gardening-for-people-and-planet/
LOCATION:Campsea Ashe Village Hall\, Station Rd\,\, Woodbridge\, Suffolk\, IP13 0PT\, United Kingdom
CATEGORIES:Upcoming
ATTACH;FMTTYPE=image/jpeg:https://transitionwoodbridge.org.uk/wp-content/uploads/2025/03/buttercups.jpg
ORGANIZER;CN="Wild About Campsea":MAILTO:daniw82@googlemail.com
END:VEVENT
BEGIN:VEVENT
DTSTART;TZID=Europe/London:20251103T100000
DTEND;TZID=Europe/London:20251103T120000
DTSTAMP:20260424T004616
CREATED:20241216T100811Z
LAST-MODIFIED:20241216T100817Z
UID:15474-1762164000-1762171200@transitionwoodbridge.org.uk
SUMMARY:Repair Cafe
DESCRIPTION:
URL:https://transitionwoodbridge.org.uk/event/repair-cafe-22/
LOCATION:St. John’s Church\, St. John's Church\, Woodbridge\, Suffolk\, IP12 1HS\, United Kingdom
CATEGORIES:Upcoming
ATTACH;FMTTYPE=image/jpeg:https://transitionwoodbridge.org.uk/wp-content/uploads/2019/07/Transistion-Woodbridge_LOGO-2.jpg
END:VEVENT
BEGIN:VEVENT
DTSTART;TZID=Europe/London:20251108T093000
DTEND;TZID=Europe/London:20251108T153000
DTSTAMP:20260424T004616
CREATED:20250908T143909Z
LAST-MODIFIED:20250908T143909Z
UID:16697-1762594200-1762615800@transitionwoodbridge.org.uk
SUMMARY:Community Networking Event
DESCRIPTION:The Suffolk Climate Action Team are hosting a free networking event for community groups and others involved in community environmental action like parish/town councils in Suffolk\, to come together and share knowledge. \nThe event will include morning speakers and three afternoon workshops exploring a different range of topics\, led by experienced community groups and organisations. \n\nMorning speakers: Climate Change Gardening & Climate Hub Development\nAfternoon workshop themes (choose one): biodiversity; active travel; energy efficiency in older buildings\n\nThe event will run from 9:30 to 15:30 and a light vegetarian lunch will be provided. \nPlaces will be allocated on a first come\, first served basis so please register by 19 September.
URL:https://transitionwoodbridge.org.uk/event/community-networking-event/
LOCATION:Kesgrave Community and Conference Centre\, Twelve Acre Approach\, Kesgrave\, Suffolk\, IP5 1JF\, United Kingdom
CATEGORIES:Upcoming
ATTACH;FMTTYPE=image/jpeg:https://transitionwoodbridge.org.uk/wp-content/uploads/2025/09/community.jpg
END:VEVENT
BEGIN:VEVENT
DTSTART;TZID=Europe/London:20251108T093000
DTEND;TZID=Europe/London:20251108T153000
DTSTAMP:20260424T004616
CREATED:20251015T153039Z
LAST-MODIFIED:20251015T153039Z
UID:16787-1762594200-1762615800@transitionwoodbridge.org.uk
SUMMARY:Sustainable Communities Action Day
DESCRIPTION:The Suffolk Climate Action Team are hosting a free networking event for community groups and others involved in community environmental action like parish/town councils in Suffolk\, to come together and share knowledge. \nThere will be morning speakers and a great choice of afternoon workshops led by organisations such as the Deben Climate Centre\, Hadleigh Environmental Action Team\, Colchester LEAF\, the Suffolk Tree Warden Network\, and more! \nThe event will run from 9:30-15:30 and lunch will be provided. \nWorkshop themes: \n\nBiodiversity\nWater and Rivers\nCommunity Energy\nSustainable Food\n\nFind out more and book your place.
URL:https://transitionwoodbridge.org.uk/event/sustainable-communities-action-day/
LOCATION:Kesgrave Community and Conference Centre\, Twelve Acre Approach\, Kesgrave\, Suffolk\, IP5 1JF\, United Kingdom
CATEGORIES:Upcoming
ATTACH;FMTTYPE=image/png:https://transitionwoodbridge.org.uk/wp-content/uploads/2025/10/sussuffolk.png
END:VEVENT
BEGIN:VEVENT
DTSTART;TZID=Europe/London:20251113T190000
DTEND;TZID=Europe/London:20251113T203000
DTSTAMP:20260424T004616
CREATED:20250915T120131Z
LAST-MODIFIED:20250915T120252Z
UID:16720-1763060400-1763065800@transitionwoodbridge.org.uk
SUMMARY:Transition Woodbridge AGM
DESCRIPTION:Transition Woodbridge AGM – more details to follow.
URL:https://transitionwoodbridge.org.uk/event/transition-woodbridge-agm-2/
LOCATION:The Royal British Legion\, 81 Thoroughfare\,\, Woodbridge\, Suffolk\, IP12 1AH
CATEGORIES:Upcoming
ATTACH;FMTTYPE=image/jpeg:https://transitionwoodbridge.org.uk/wp-content/uploads/2019/07/Transistion-Woodbridge_LOGO-2.jpg
ORGANIZER;CN="Transition Woodbridge":MAILTO:hello@transitionwoodbridge.org.uk
END:VEVENT
BEGIN:VEVENT
DTSTART;TZID=Europe/London:20251117T193000
DTEND;TZID=Europe/London:20251117T213000
DTSTAMP:20260424T004616
CREATED:20251103T105726Z
LAST-MODIFIED:20251103T121057Z
UID:16797-1763407800-1763415000@transitionwoodbridge.org.uk
SUMMARY:Screening of the film Power Station
DESCRIPTION:Join Deben Climate Centre at The Riverside on 17 November where they’re hosting a screening of ‘Power Station’\, followed by a discussion with filmmaker Dan Edelstyn. \nThis vibrant\, inspiring\, and heartwarming documentary follows two artists in Walthamstow as they set out to take their street off the grid\, kickstarting a solar-powered energy revolution. It’s a testament to what can be achieved when a community works together and has a real vision for a collaborative and sustainable future! \nBook your tickets now.
URL:https://transitionwoodbridge.org.uk/event/screening-of-the-film-power-station/
LOCATION:Riverside Theatre\, Quayside\, Woodbridge\, Suffolk\, IP12 1BH\, United Kingdom
CATEGORIES:Upcoming
ATTACH;FMTTYPE=image/jpeg:https://transitionwoodbridge.org.uk/wp-content/uploads/2024/06/film.jpg
END:VEVENT
BEGIN:VEVENT
DTSTART;TZID=Europe/London:20251128T150000
DTEND;TZID=Europe/London:20251128T200000
DTSTAMP:20260424T004616
CREATED:20251103T120217Z
LAST-MODIFIED:20251103T120217Z
UID:16799-1764342000-1764360000@transitionwoodbridge.org.uk
SUMMARY:Woods for Water\, drop in
DESCRIPTION:Join the Forestry Commission\, the Woodland Trust\, Essex & Suffolk Rivers Trust\, Suffolk Wildlife Trust\, Environmental Agency and Suffolk Tree Wardens for ‘Woods for Water’- a drop in afternoon to discuss opportunities for tree planting and connecting existing woodlands\, hedgerows and habitats in the catchment of the River Deben to increase biodiversity\, improve habitat connectivity\, and help towards better water quality. \nAttendees will have the chance to speak one-to-one with experts from each organisation about your own projects\, ideas and aspirations. Discover how trees can benefit your land\, wellbeing and our local wildlife. \nFind out more and register your attendance.
URL:https://transitionwoodbridge.org.uk/event/woods-for-water-drop-in/
LOCATION:Wickham Market Village Hall\, Wickham Market\, Woodbridge\, Suffolk\, IP13 0HE\, United Kingdom
CATEGORIES:Upcoming
ATTACH;FMTTYPE=image/jpeg:https://transitionwoodbridge.org.uk/wp-content/uploads/2024/09/oak.jpg
END:VEVENT
END:VCALENDAR