BEGIN:VCALENDAR
VERSION:2.0
PRODID:-//Transition Woodbridge - ECPv6.15.20//NONSGML v1.0//EN
CALSCALE:GREGORIAN
METHOD:PUBLISH
X-WR-CALNAME:Transition Woodbridge
X-ORIGINAL-URL:https://transitionwoodbridge.org.uk
X-WR-CALDESC:Events for Transition Woodbridge
REFRESH-INTERVAL;VALUE=DURATION:PT1H
X-Robots-Tag:noindex
X-PUBLISHED-TTL:PT1H
BEGIN:VTIMEZONE
TZID:Europe/London
BEGIN:DAYLIGHT
TZOFFSETFROM:+0000
TZOFFSETTO:+0100
TZNAME:BST
DTSTART:20240331T010000
END:DAYLIGHT
BEGIN:STANDARD
TZOFFSETFROM:+0100
TZOFFSETTO:+0000
TZNAME:GMT
DTSTART:20241027T010000
END:STANDARD
BEGIN:DAYLIGHT
TZOFFSETFROM:+0000
TZOFFSETTO:+0100
TZNAME:BST
DTSTART:20250330T010000
END:DAYLIGHT
BEGIN:STANDARD
TZOFFSETFROM:+0100
TZOFFSETTO:+0000
TZNAME:GMT
DTSTART:20251026T010000
END:STANDARD
BEGIN:DAYLIGHT
TZOFFSETFROM:+0000
TZOFFSETTO:+0100
TZNAME:BST
DTSTART:20260329T010000
END:DAYLIGHT
BEGIN:STANDARD
TZOFFSETFROM:+0100
TZOFFSETTO:+0000
TZNAME:GMT
DTSTART:20261025T010000
END:STANDARD
END:VTIMEZONE
BEGIN:VEVENT
DTSTART;TZID=Europe/London:20251006T100000
DTEND;TZID=Europe/London:20251006T120000
DTSTAMP:20260424T021739
CREATED:20241216T100632Z
LAST-MODIFIED:20241216T100638Z
UID:15472-1759744800-1759752000@transitionwoodbridge.org.uk
SUMMARY:Repair Cafe
DESCRIPTION:
URL:https://transitionwoodbridge.org.uk/event/repair-cafe-21/
LOCATION:St. John’s Church\, St. John's Church\, Woodbridge\, Suffolk\, IP12 1HS\, United Kingdom
CATEGORIES:Upcoming
ATTACH;FMTTYPE=image/jpeg:https://transitionwoodbridge.org.uk/wp-content/uploads/2019/07/Transistion-Woodbridge_LOGO-2.jpg
END:VEVENT
BEGIN:VEVENT
DTSTART;TZID=Europe/London:20251011T110000
DTEND;TZID=Europe/London:20251011T123000
DTSTAMP:20260424T021739
CREATED:20250915T115631Z
LAST-MODIFIED:20250915T115631Z
UID:16715-1760180400-1760185800@transitionwoodbridge.org.uk
SUMMARY:Salt Marsh and Seagrass: the conservation of our estuarine meadows
DESCRIPTION:Waldringfield Wildlife Group Invites you to an illustrated talk on ‘Salt Marsh and Seagrass: the conservation of our estuarine meadows’\, by Dr Tim Gardiner of the Environment Agency. \nThe salt marshes and seagrass meadows are some of the most valuable coastal habitats in East Anglia. Learn more about their ecology and efforts to conserve them by a variety of organisations. The talk will focus on recent research in Essex and Suffolk. \nAdmission: \n\nNon-members and visitors – £5.00\nPaid up members – No charge\nNew members welcome (Membership £10)\n\nDr Tim Gardiner is former conservation researcher at Writtle College (University of Essex) and ecology lecturer at Nottingham Trent University. Tim has worked for the Environment Agency since 2009 as a biodiversity officer. His work includes improving rivers and sea walls in East Anglia for a range of species and this culminated in the Sea Wall Biodiversity Handbook being published in 2015. \nThe talk begins at 11am and is preceded by the AGM at 10am.
URL:https://transitionwoodbridge.org.uk/event/salt-marsh-and-seagrass-the-conservation-of-our-estuarine-meadows/
LOCATION:Waldringfield Village Hall\, School Rd\, Waldringfield\, Suffolk\, IP12 4QP\, United Kingdom
CATEGORIES:Upcoming
ATTACH;FMTTYPE=image/jpeg:https://transitionwoodbridge.org.uk/wp-content/uploads/2025/09/saltmarsh.jpg
END:VEVENT
BEGIN:VEVENT
DTSTART;TZID=Europe/London:20251011T140000
DTEND;TZID=Europe/London:20251011T170000
DTSTAMP:20260424T021739
CREATED:20250623T151823Z
LAST-MODIFIED:20250623T151835Z
UID:16615-1760191200-1760202000@transitionwoodbridge.org.uk
SUMMARY:River Clean 2025
DESCRIPTION:Transition Woodbridge will be joining the 5th Woodbridge Sea Scouts to clean up a section of the River Deben. More information to follow.
URL:https://transitionwoodbridge.org.uk/event/river-clean-2025/
CATEGORIES:Upcoming
ATTACH;FMTTYPE=image/jpeg:https://transitionwoodbridge.org.uk/wp-content/uploads/2024/09/litter.jpg
END:VEVENT
BEGIN:VEVENT
DTSTART;TZID=Europe/London:20251023T180000
DTEND;TZID=Europe/London:20251023T200000
DTSTAMP:20260424T021739
CREATED:20251006T121749Z
LAST-MODIFIED:20251006T121749Z
UID:16755-1761242400-1761249600@transitionwoodbridge.org.uk
SUMMARY:Sunset bat walk through Woodbridge green spaces (aimed at grown-ups)
DESCRIPTION:Have you ever wondered which bats we have in Woodbridge? Join us for a gentle walk around Woodbridge parks to see if we can find out more! \nFree – funded by Woodbridge Town Council. \nStarts at Longfields Café\, Kingston Fields. \nFind out more and book your free ticket (booking essential).
URL:https://transitionwoodbridge.org.uk/event/sunset-bat-walk-through-woodbridge-green-spaces-aimed-at-grown-ups/
LOCATION:Longfields Cafe\, Kingston Fields\, Woodbridge\, Suffolk\, IP12 4BA\, United Kingdom
CATEGORIES:Upcoming
ATTACH;FMTTYPE=image/png:https://transitionwoodbridge.org.uk/wp-content/uploads/2025/08/suffolkwildlife.png
ORGANIZER;CN="Suffolk Wildlife Trust":MAILTO:info@suffolkwildlifetrust.org
END:VEVENT
BEGIN:VEVENT
DTSTART;TZID=Europe/London:20251025T140000
DTEND;TZID=Europe/London:20251025T160000
DTSTAMP:20260424T021739
CREATED:20251015T151813Z
LAST-MODIFIED:20251015T151813Z
UID:16781-1761400800-1761408000@transitionwoodbridge.org.uk
SUMMARY:A changing climate: should I be doing more?
DESCRIPTION:Greener Fram is teaming up with environmentalist Simon Hooton for an afternoon of stories\, activities and discussion. Let’s dive into how we\, as individuals\, can make a difference in combating climate change. \nGreener Fram will also be presenting current projects\, including two new community ones: Low CO2 Fram and Wild About Fram. \nThe event is free\, with refreshments\, but donations are always welcome. \nFind out more. \nDrop in between 2pm – 4pm on Saturday 25th October – at the Unitarian Meeting House\, Bridge Street\, Framlingham.
URL:https://transitionwoodbridge.org.uk/event/a-changing-climate-should-i-be-doing-more/
LOCATION:Unitarian Meeting House\, Bridge Street\, Framlingham\, Suffolk\, IP13 9AJ\, United Kingdom
CATEGORIES:Upcoming
ATTACH;FMTTYPE=image/png:https://transitionwoodbridge.org.uk/wp-content/uploads/2025/10/greenerfram.png
END:VEVENT
BEGIN:VEVENT
DTSTART;TZID=Europe/London:20251027T100000
DTEND;TZID=Europe/London:20251027T120000
DTSTAMP:20260424T021739
CREATED:20251006T121808Z
LAST-MODIFIED:20251006T122056Z
UID:16751-1761559200-1761566400@transitionwoodbridge.org.uk
SUMMARY:Hedgehogs & hog home building for families
DESCRIPTION:Hedgehogs need our help! Come along and learn why they do\, and what you can do to help hedgehogs in your garden and local parks. \nFree – funded by Woodbridge Town Council. \nLongfields Café\, Kingston Fields. \nFind out more and book your free ticket (booking essential).
URL:https://transitionwoodbridge.org.uk/event/hedgehogs-hog-home-building/
LOCATION:Longfields Cafe\, Kingston Fields\, Woodbridge\, Suffolk\, IP12 4BA\, United Kingdom
CATEGORIES:Upcoming
ATTACH;FMTTYPE=image/png:https://transitionwoodbridge.org.uk/wp-content/uploads/2025/08/suffolkwildlife.png
ORGANIZER;CN="Suffolk Wildlife Trust":MAILTO:info@suffolkwildlifetrust.org
END:VEVENT
BEGIN:VEVENT
DTSTART;TZID=Europe/London:20251027T170000
DTEND;TZID=Europe/London:20251027T190000
DTSTAMP:20260424T021739
CREATED:20251006T121825Z
LAST-MODIFIED:20251006T121825Z
UID:16752-1761584400-1761591600@transitionwoodbridge.org.uk
SUMMARY:Family bat walk through Woodbridge green spaces
DESCRIPTION:Let’s explore Woodbridge as if we were a bat! Can we track down our fellow bats in Woodbridge Parks? \nFree – funded by Woodbridge Town Council. \nStarts at Longfields Café\, Kingston Fields. \nFind out more and book your free ticket (booking essential).
URL:https://transitionwoodbridge.org.uk/event/family-bat-walk-through-woodbridge-green-spaces/
LOCATION:Longfields Cafe\, Kingston Fields\, Woodbridge\, Suffolk\, IP12 4BA\, United Kingdom
CATEGORIES:Upcoming
ATTACH;FMTTYPE=image/png:https://transitionwoodbridge.org.uk/wp-content/uploads/2025/08/suffolkwildlife.png
ORGANIZER;CN="Suffolk Wildlife Trust":MAILTO:info@suffolkwildlifetrust.org
END:VEVENT
BEGIN:VEVENT
DTSTART;TZID=Europe/London:20251028T100000
DTEND;TZID=Europe/London:20251028T120000
DTSTAMP:20260424T021739
CREATED:20251006T121846Z
LAST-MODIFIED:20251006T121846Z
UID:16753-1761645600-1761652800@transitionwoodbridge.org.uk
SUMMARY:Seed harvesting & crafts for families
DESCRIPTION:Seeds\, seeds\, seeds! Come and learn about seeds and why it’s important\, and fun\, to harvest and save them at this time of year. \nFree – funded by Woodbridge Town Council. \nLongfields Café\, Kingston Fields. \nFind out more and book your free ticket (booking essential).
URL:https://transitionwoodbridge.org.uk/event/seed-harvesting-crafts-for-families/
LOCATION:Longfields Cafe\, Kingston Fields\, Woodbridge\, Suffolk\, IP12 4BA\, United Kingdom
CATEGORIES:Upcoming
ATTACH;FMTTYPE=image/png:https://transitionwoodbridge.org.uk/wp-content/uploads/2025/08/suffolkwildlife.png
ORGANIZER;CN="Suffolk Wildlife Trust":MAILTO:info@suffolkwildlifetrust.org
END:VEVENT
BEGIN:VEVENT
DTSTART;TZID=Europe/London:20251030T100000
DTEND;TZID=Europe/London:20251030T120000
DTSTAMP:20260424T021739
CREATED:20251006T121901Z
LAST-MODIFIED:20251006T121901Z
UID:16754-1761818400-1761825600@transitionwoodbridge.org.uk
SUMMARY:Bats & bat box building for families
DESCRIPTION:We need help building bat boxes for Kingston Fields bats! We have so many amazing bats locally – come and learn how you can help them! \nFree – funded by Woodbridge Town Council. \nLongfields Café\, Kingston Fields. \nFind out more and book your free ticket (booking essential).
URL:https://transitionwoodbridge.org.uk/event/bats-bat-box-building-for-families/
LOCATION:Longfields Cafe\, Kingston Fields\, Woodbridge\, Suffolk\, IP12 4BA\, United Kingdom
CATEGORIES:Upcoming
ATTACH;FMTTYPE=image/png:https://transitionwoodbridge.org.uk/wp-content/uploads/2025/08/suffolkwildlife.png
ORGANIZER;CN="Suffolk Wildlife Trust":MAILTO:info@suffolkwildlifetrust.org
END:VEVENT
END:VCALENDAR