BEGIN:VCALENDAR
VERSION:2.0
PRODID:-//Transition Woodbridge - ECPv6.15.20//NONSGML v1.0//EN
CALSCALE:GREGORIAN
METHOD:PUBLISH
X-WR-CALNAME:Transition Woodbridge
X-ORIGINAL-URL:https://transitionwoodbridge.org.uk
X-WR-CALDESC:Events for Transition Woodbridge
REFRESH-INTERVAL;VALUE=DURATION:PT1H
X-Robots-Tag:noindex
X-PUBLISHED-TTL:PT1H
BEGIN:VTIMEZONE
TZID:Europe/London
BEGIN:DAYLIGHT
TZOFFSETFROM:+0000
TZOFFSETTO:+0100
TZNAME:BST
DTSTART:20240331T010000
END:DAYLIGHT
BEGIN:STANDARD
TZOFFSETFROM:+0100
TZOFFSETTO:+0000
TZNAME:GMT
DTSTART:20241027T010000
END:STANDARD
BEGIN:DAYLIGHT
TZOFFSETFROM:+0000
TZOFFSETTO:+0100
TZNAME:BST
DTSTART:20250330T010000
END:DAYLIGHT
BEGIN:STANDARD
TZOFFSETFROM:+0100
TZOFFSETTO:+0000
TZNAME:GMT
DTSTART:20251026T010000
END:STANDARD
BEGIN:DAYLIGHT
TZOFFSETFROM:+0000
TZOFFSETTO:+0100
TZNAME:BST
DTSTART:20260329T010000
END:DAYLIGHT
BEGIN:STANDARD
TZOFFSETFROM:+0100
TZOFFSETTO:+0000
TZNAME:GMT
DTSTART:20261025T010000
END:STANDARD
END:VTIMEZONE
BEGIN:VEVENT
DTSTART;TZID=Europe/London:20250403T190000
DTEND;TZID=Europe/London:20250403T210000
DTSTAMP:20260424T113756
CREATED:20250317T152252Z
LAST-MODIFIED:20250317T165203Z
UID:15783-1743706800-1743714000@transitionwoodbridge.org.uk
SUMMARY:Climate Café Conversation
DESCRIPTION:A welcoming space to talk about the emotional impact of the ecological crisis on our wellbeing\, our futures and our planet. \n\nListening to each other’s concerns\nConnecting with nature\nSharing knowledge\nDiscussing choices\nCreating resilience\n\nLifts available from Woodbridge. Tea\, cake and community… \nThere’s no fee for attending\, just reserve your place here.
URL:https://transitionwoodbridge.org.uk/event/climate-cafe-conversation/
LOCATION:Foxborrow Farm\, Foxborrow Farm\, Melton\, Woodbridge\, Suffolk\, IP121NA\, United Kingdom
CATEGORIES:Upcoming
ATTACH;FMTTYPE=image/jpeg:https://transitionwoodbridge.org.uk/wp-content/uploads/2025/03/cafe-squarish.jpg
ORGANIZER;CN="Transition Woodbridge":MAILTO:hello@transitionwoodbridge.org.uk
END:VEVENT
BEGIN:VEVENT
DTSTART;TZID=Europe/London:20250403T200000
DTEND;TZID=Europe/London:20250403T213000
DTSTAMP:20260424T113756
CREATED:20250324T124541Z
LAST-MODIFIED:20250324T124541Z
UID:15843-1743710400-1743715800@transitionwoodbridge.org.uk
SUMMARY:Ipswich Climate Emergency Centre - online presentation
DESCRIPTION:“Find out about Climate Emergency Centres and why we need one in Ipswich.” \nThere will be a presentation by Phoenix from the Climate Emergency Centre (CEC). Their mission is to create connections and build community alliances in shared spaces. By creating a network of centres in cities across the UK\, they aim to share resources\, skills\, and ideas to strengthen resilience and adapt to social and environmental challenges. \nBoth Norwich and Colchester have CECs and this event is about exploring the possibility of having one in Ipswich. Come to the zoom and find out more. \nReserve your spot at this online event.
URL:https://transitionwoodbridge.org.uk/event/ipswich-climate-emergency-centre-online-presentation/
CATEGORIES:Upcoming
ATTACH;FMTTYPE=image/png:https://transitionwoodbridge.org.uk/wp-content/uploads/2025/03/cecs.png
END:VEVENT
BEGIN:VEVENT
DTSTART;TZID=Europe/London:20250407T100000
DTEND;TZID=Europe/London:20250407T120000
DTSTAMP:20260424T113756
CREATED:20241216T095636Z
LAST-MODIFIED:20241216T095643Z
UID:15460-1744020000-1744027200@transitionwoodbridge.org.uk
SUMMARY:Repair Cafe
DESCRIPTION:
URL:https://transitionwoodbridge.org.uk/event/repair-cafe-15/
LOCATION:St. John’s Church\, St. John's Church\, Woodbridge\, Suffolk\, IP12 1HS\, United Kingdom
CATEGORIES:Upcoming
ATTACH;FMTTYPE=image/jpeg:https://transitionwoodbridge.org.uk/wp-content/uploads/2019/07/Transistion-Woodbridge_LOGO-2.jpg
END:VEVENT
BEGIN:VEVENT
DTSTART;TZID=Europe/London:20250408T103000
DTEND;TZID=Europe/London:20250408T133000
DTSTAMP:20260424T113756
CREATED:20250304T102116Z
LAST-MODIFIED:20250304T102116Z
UID:15755-1744108200-1744119000@transitionwoodbridge.org.uk
SUMMARY:Ride session helping adults to access cycling
DESCRIPTION:Cycling sessions for adults with disabilities or other obstacles to cycling independently\, run by Bike Active North Suffolk (BANS). \nSessions start at 10.30\, 11.30 & 12.30. \nPre-booking essential – find out more.
URL:https://transitionwoodbridge.org.uk/event/ride-session-helping-adults-to-access-cycling/
LOCATION:Millenium Green\, Millenium Green\, Halesworth\, Suffolk\, IP19 8RT\, United Kingdom
CATEGORIES:Upcoming
ATTACH;FMTTYPE=image/jpeg:https://transitionwoodbridge.org.uk/wp-content/uploads/2025/03/bike.jpg
END:VEVENT
BEGIN:VEVENT
DTSTART;TZID=Europe/London:20250410T100000
DTEND;TZID=Europe/London:20250410T120000
DTSTAMP:20260424T113756
CREATED:20241216T104545Z
LAST-MODIFIED:20241216T104625Z
UID:15501-1744279200-1744286400@transitionwoodbridge.org.uk
SUMMARY:Get ready for Earth Day - get muddy!
DESCRIPTION:What better way to get ready for Earth Day\, than to celebrate the actual earth – the soil! Join us to explore soils at Martlesham Wilds as we wander around the reserve digging in the soil\, testing the soil\, listening to the soil and checking out the worms that we find! This event is aimed at primary school children and families and those that are able to walk a good mile\, Caution: we may get muddy! \nMeet at the car park near the church. \nFind out more and book.
URL:https://transitionwoodbridge.org.uk/event/get-ready-for-earth-day-get-muddy/
LOCATION:Martlesham Wilds
CATEGORIES:Upcoming
ATTACH;FMTTYPE=image/png:https://transitionwoodbridge.org.uk/wp-content/uploads/2024/09/suffolkwildlife.png
ORGANIZER;CN="Suffolk Wildlife Trust":MAILTO:info@suffolkwildlifetrust.org
END:VEVENT
BEGIN:VEVENT
DTSTART;TZID=Europe/London:20250411T190000
DTEND;TZID=Europe/London:20250411T203000
DTSTAMP:20260424T113756
CREATED:20250401T103156Z
LAST-MODIFIED:20250401T103156Z
UID:15850-1744398000-1744403400@transitionwoodbridge.org.uk
SUMMARY:Transition Woodbridge Planning Meeting
DESCRIPTION:Our next planning meeting is at the British Legion in Woodbridge from 7pm on Friday 11 April 2025. Everyone is welcome. \nPlanning business: \n1. Winter planting: Thoroughfare planters \n2. Climate Conversations Cafés: 3 April\, 5 June \n3. Earth Day ‘Power Up’: 25-27 April \n4. Wildlife Corridors – Bat survey May-September 2025\, ponds project\, Open Wild Gardens 28 June \n5. Talks/stall events – Wickham Market Aspire\, Wild about Wickham 17 May\, Melton Fete 14 June\, Martlesham Fete 19 July\, Harvest Fair 20 September \n6. Any other business
URL:https://transitionwoodbridge.org.uk/event/transition-woodbridge-planning-meeting-5/
LOCATION:The Royal British Legion\, 81 Thoroughfare\,\, Woodbridge\, Suffolk\, IP12 1AH
CATEGORIES:Upcoming
ATTACH;FMTTYPE=image/jpeg:https://transitionwoodbridge.org.uk/wp-content/uploads/2019/07/Transistion-Woodbridge_LOGO-2.jpg
ORGANIZER;CN="Transition Woodbridge":MAILTO:hello@transitionwoodbridge.org.uk
END:VEVENT
BEGIN:VEVENT
DTSTART;TZID=Europe/London:20250412T104500
DTEND;TZID=Europe/London:20250412T120000
DTSTAMP:20260424T113756
CREATED:20250304T093443Z
LAST-MODIFIED:20250304T093443Z
UID:15743-1744454700-1744459200@transitionwoodbridge.org.uk
SUMMARY:A Brief (un)Natural History of Rivers - an illustrated talk
DESCRIPTION:Waldringfield Wildlife Group presents an illustrated talk by Darren Tansley\, Wilder Rivers & Protected Species Manager\, Essex Wildlife Trust. \nFrom Brook Lamprey to Beavers\, source to sea\, rivers are one of our most diverse habitats but they have never been more threatened. Darren Tansley asks the questions\, what did rivers used to look like; what have we done to alter them and how can we make them more resilient in the face of the looming biodiversity and climate crises? \nThe talk is preceded by a members meeting at 10am.
URL:https://transitionwoodbridge.org.uk/event/a-brief-unnatural-history-of-rivers-an-illustrated-talk/
LOCATION:Waldringfield Village Hall\, School Rd\, Waldringfield\, Suffolk\, IP12 4QP\, United Kingdom
CATEGORIES:Upcoming
ATTACH;FMTTYPE=image/jpeg:https://transitionwoodbridge.org.uk/wp-content/uploads/2025/03/river.jpg
END:VEVENT
BEGIN:VEVENT
DTSTART;TZID=Europe/London:20250425T183000
DTEND;TZID=Europe/London:20250425T210000
DTSTAMP:20260424T113756
CREATED:20250304T105432Z
LAST-MODIFIED:20250407T141755Z
UID:15764-1745605800-1745614800@transitionwoodbridge.org.uk
SUMMARY:Earth Day talk - Climate Change: exploring people power
DESCRIPTION:An event to mark Earth Day. \nCome along to the Gallery at the Long Shed for a talk by Simon Hooton\, ‘Climate Change: exploring people power’. Let’s dive into how we\, as individuals\, can make a difference in combating climate change. \nThe talk is free but donations are welcome. \n6:30pm for 7pm start\, with refreshments. \nBook your free place at this event here.
URL:https://transitionwoodbridge.org.uk/event/earth-day-event-talk-on-climate-change-and-how-we-can-each-reduce-our-carbon-footprint/
LOCATION:The Longshed\, The Longshed\, Tide Mill Way\, Woodbridge\, Suffolk\, IP12 1FP\, United Kingdom
CATEGORIES:Upcoming
ATTACH;FMTTYPE=image/png:https://transitionwoodbridge.org.uk/wp-content/uploads/2025/03/earthday.png
ORGANIZER;CN="Transition Woodbridge":MAILTO:hello@transitionwoodbridge.org.uk
END:VEVENT
BEGIN:VEVENT
DTSTART;TZID=Europe/London:20250426T100000
DTEND;TZID=Europe/London:20250426T160000
DTSTAMP:20260424T113756
CREATED:20250304T105845Z
LAST-MODIFIED:20250324T114416Z
UID:15767-1745661600-1745683200@transitionwoodbridge.org.uk
SUMMARY:Earth Day event: Power Up!
DESCRIPTION:In Whisstocks Place – Power Up! A selection of stalls following the theme of Our Power\, Our Planet – 10am to 4pm \n\nTransition Woodbridge – your active local group working to reduce our carbon footprint\, improve our local environment and economy\nDeben Climate Centre – towards net zero in Woodbridge\nGreenscape – electrical contractors working with Solar Together Suffolk to increase energy efficiency and renewable energy in our homes\nVirtue Electric Bikes – get on your (electric) bike!\nSEAS and SAND – campaign groups demanding energy from North Sea Offshore wind farms uses brownfield sites and undersea cables to where it is needed\nAnd much more yet to be confirmed\n\nStreet food provided by the Woodyard and the Boathouse. \nIn the Gallery in the Long Shed – Creative activities for children and parents making toys that work – 10am to 12 noon. Free! \nIn Woodbridge Tidemill – site of renewable energy since 12th Century and open for visitors all weekend. \nStorytelling for children with Simon Hooton from 11am to 12:30pm and 1:30pm to 3pm. Sessions every half hour\, videos too. Free! \nThe Vintage Litter Museum in Jetty Lane open.
URL:https://transitionwoodbridge.org.uk/event/earth-day-event-stalls-on-the-theme-of-our-power-our-planet/
LOCATION:Whisstocks\, Tide Mill Way\, Woodbridge\, Suffolk\, IP12 1FP\, United Kingdom
CATEGORIES:Upcoming
ATTACH;FMTTYPE=image/png:https://transitionwoodbridge.org.uk/wp-content/uploads/2025/03/earthday.png
ORGANIZER;CN="Transition Woodbridge":MAILTO:hello@transitionwoodbridge.org.uk
END:VEVENT
BEGIN:VEVENT
DTSTART;TZID=Europe/London:20250427T100000
DTEND;TZID=Europe/London:20250427T120000
DTSTAMP:20260424T113756
CREATED:20250324T115413Z
LAST-MODIFIED:20250324T115521Z
UID:15832-1745748000-1745755200@transitionwoodbridge.org.uk
SUMMARY:Earth Day event: Rubbish walk
DESCRIPTION:Join a Rubbish Walk with Jason Alexander – meet at the Vintage Litter Museum on Jetty Lane in Woodbridge at 10am for litter picking around the town. Positive\, practical people power!
URL:https://transitionwoodbridge.org.uk/event/earth-day-event-rubbish-walk/
LOCATION:Vintage Litter Museum\, Jetty Lane\, The Avenue\, Woodbridge\, Suffolk\, IP12 4BA\, United Kingdom
CATEGORIES:Upcoming
ATTACH;FMTTYPE=image/png:https://transitionwoodbridge.org.uk/wp-content/uploads/2025/03/earthday.png
ORGANIZER;CN="Transition Woodbridge":MAILTO:hello@transitionwoodbridge.org.uk
END:VEVENT
BEGIN:VEVENT
DTSTART;TZID=Europe/London:20250427T133000
DTEND;TZID=Europe/London:20250427T160000
DTSTAMP:20260424T113756
CREATED:20250304T110406Z
LAST-MODIFIED:20250407T142011Z
UID:15770-1745760600-1745769600@transitionwoodbridge.org.uk
SUMMARY:Earth Day event: talk on decarbonising the shipping industry
DESCRIPTION:An event to mark Earth Day. \nCome along to the Gallery at the Long Shed\, where shipping journalist Andrew Craig-Bennett will be talking about developments in the shipping industry to transition from fossil fuels to renewables.  \n1:45pm for a 2pm start\, with refreshments. The talk is free but donations are welcome. \nBook your free place at this event here.
URL:https://transitionwoodbridge.org.uk/event/earth-day-event-talk-on-decarbonising-the-shipping-industry/
LOCATION:The Longshed\, The Longshed\, Tide Mill Way\, Woodbridge\, Suffolk\, IP12 1FP\, United Kingdom
CATEGORIES:Upcoming
ATTACH;FMTTYPE=image/png:https://transitionwoodbridge.org.uk/wp-content/uploads/2025/03/earthday.png
ORGANIZER;CN="Transition Woodbridge":MAILTO:hello@transitionwoodbridge.org.uk
END:VEVENT
BEGIN:VEVENT
DTSTART;TZID=Europe/London:20250430T190000
DTEND;TZID=Europe/London:20250430T213000
DTSTAMP:20260424T113756
CREATED:20250422T090519Z
LAST-MODIFIED:20250422T090519Z
UID:16391-1746039600-1746048600@transitionwoodbridge.org.uk
SUMMARY:Conservation and Climate Change
DESCRIPTION:A talk by Matt Wilson\, National Trust Countryside Manager\, Suffolk & Essex Coast. \nWednesday 30th April (doors open 7pm\, proceedings start 7.30) Woodbridge Community Hall. \nMatt will talk briefly about 130 years of the National Trust and its new strategy. Much of his talk will be devoted to some of his areas of responsibility\, including \n\nSutton Hoo woodlands management\nHeather at Dunwich\nGrey Seals at Orford Ness\nSalt Marsh preservation at Northey Island on the River Blackwater\n\nJeremy Young\, local Hemley photographer\, will also be there to show some of his current work. \nPrior to Matt’s talk will be the brief AGM business of the River Deben Association including a first overview of responses to the recent ‘Leisure on the Deben Estuary Survey’ (450+ respondents!). \nFree Tickets for RDA members (£5 for guests) should be booked online in advance here.
URL:https://transitionwoodbridge.org.uk/event/conservation-and-climate-change/
LOCATION:Woodbridge Community Hall\, Station Road\, Woodbridge\, Suffolk\, IP12 4AU
CATEGORIES:Upcoming
ATTACH;FMTTYPE=image/jpeg:https://transitionwoodbridge.org.uk/wp-content/uploads/2024/06/seal.jpg
ORGANIZER;CN="River Deben Association":MAILTO:chair@riverdeben.org
END:VEVENT
END:VCALENDAR