BEGIN:VCALENDAR
VERSION:2.0
PRODID:-//Transition Woodbridge - ECPv6.15.20//NONSGML v1.0//EN
CALSCALE:GREGORIAN
METHOD:PUBLISH
X-ORIGINAL-URL:https://transitionwoodbridge.org.uk
X-WR-CALDESC:Events for Transition Woodbridge
REFRESH-INTERVAL;VALUE=DURATION:PT1H
X-Robots-Tag:noindex
X-PUBLISHED-TTL:PT1H
BEGIN:VTIMEZONE
TZID:Europe/London
BEGIN:DAYLIGHT
TZOFFSETFROM:+0000
TZOFFSETTO:+0100
TZNAME:BST
DTSTART:20230326T010000
END:DAYLIGHT
BEGIN:STANDARD
TZOFFSETFROM:+0100
TZOFFSETTO:+0000
TZNAME:GMT
DTSTART:20231029T010000
END:STANDARD
BEGIN:DAYLIGHT
TZOFFSETFROM:+0000
TZOFFSETTO:+0100
TZNAME:BST
DTSTART:20240331T010000
END:DAYLIGHT
BEGIN:STANDARD
TZOFFSETFROM:+0100
TZOFFSETTO:+0000
TZNAME:GMT
DTSTART:20241027T010000
END:STANDARD
BEGIN:DAYLIGHT
TZOFFSETFROM:+0000
TZOFFSETTO:+0100
TZNAME:BST
DTSTART:20250330T010000
END:DAYLIGHT
BEGIN:STANDARD
TZOFFSETFROM:+0100
TZOFFSETTO:+0000
TZNAME:GMT
DTSTART:20251026T010000
END:STANDARD
END:VTIMEZONE
BEGIN:VEVENT
DTSTART;TZID=Europe/London:20241201T100000
DTEND;TZID=Europe/London:20241201T160000
DTSTAMP:20260424T173910
CREATED:20241118T143307Z
LAST-MODIFIED:20241128T085351Z
UID:15361-1733047200-1733068800@transitionwoodbridge.org.uk
SUMMARY:Woodbridge Christmas Street Fair
DESCRIPTION:Transition Woodbridge will have a stall at the Woodbridge Christmas Street Fair on Sunday 1 December from 10am-4pm to raise awareness of our projects and raise funds for our activities. \nWe will be in the Local Food Quarter in Quay Street with food producers Hullabaloo\, Humber Doucy Brewery\, Heart of Suffolk Distillery\, Clare Rizzo – Honey and beeswax products\, The Quince Tree\, Fair Trade\, the Tidemill\, Red House Farm – Apple and pear juice\, and Suffolk Wildlife Trust. \nCome along to a festive celebration and explore a wonderland of stalls offering unique gifts\, seasonal food and handcrafted treasures. \nFind out more.
URL:https://transitionwoodbridge.org.uk/event/woodbridge-christmas-street-fair/
LOCATION:Woodbridge Thoroughfare\, Thoroughfare\, Woodbridge\, Suffolk\, United Kingdom
CATEGORIES:Upcoming
ATTACH;FMTTYPE=image/jpeg:https://transitionwoodbridge.org.uk/wp-content/uploads/2024/11/christmassy.jpg
END:VEVENT
BEGIN:VEVENT
DTSTART;TZID=Europe/London:20241202T100000
DTEND;TZID=Europe/London:20241202T120000
DTSTAMP:20260424T173910
CREATED:20231117T093425Z
LAST-MODIFIED:20231117T093425Z
UID:3318-1733133600-1733140800@transitionwoodbridge.org.uk
SUMMARY:Repair Cafe
DESCRIPTION:
URL:https://transitionwoodbridge.org.uk/event/repair-cafe-13/
LOCATION:St. John’s Church\, St. John's Church\, Woodbridge\, Suffolk\, IP12 1HS\, United Kingdom
CATEGORIES:Upcoming
ATTACH;FMTTYPE=image/jpeg:https://transitionwoodbridge.org.uk/wp-content/uploads/2019/07/Transistion-Woodbridge_LOGO-2.jpg
END:VEVENT
BEGIN:VEVENT
DTSTART;TZID=Europe/London:20241205T190000
DTEND;TZID=Europe/London:20241205T210000
DTSTAMP:20260424T173910
CREATED:20241112T112955Z
LAST-MODIFIED:20241112T113005Z
UID:15008-1733425200-1733432400@transitionwoodbridge.org.uk
SUMMARY:Woodbridge Climate Cafe
DESCRIPTION:In the spirit of being together\, Transition Woodbridge welcomes you to our next Climate Cafe\, a time to talk about the emotional impact of the environmental crisis on our wellbeing\, our families and our futures. \n\nListening to each other’s concerns\nConnecting with nature\nSharing knowledge\nDiscussing choices\nCreating resilience\n\nThis will take place at the Education Centre at Foxburrow Nature Reserve. Find out more and book your free ticket.
URL:https://transitionwoodbridge.org.uk/event/woodbridge-climate-cafe/
LOCATION:Foxborrow Farm\, Foxborrow Farm\, Melton\, Woodbridge\, Suffolk\, IP121NA\, United Kingdom
CATEGORIES:Upcoming
ATTACH;FMTTYPE=image/jpeg:https://transitionwoodbridge.org.uk/wp-content/uploads/2024/05/climatecafe.jpg
ORGANIZER;CN="Transition Woodbridge":MAILTO:hello@transitionwoodbridge.org.uk
END:VEVENT
BEGIN:VEVENT
DTSTART;TZID=Europe/London:20241206T193000
DTEND;TZID=Europe/London:20241206T203000
DTSTAMP:20260424T173910
CREATED:20241118T145625Z
LAST-MODIFIED:20241118T145625Z
UID:15372-1733513400-1733517000@transitionwoodbridge.org.uk
SUMMARY:Measuring (and making sense of) Coastal Change
DESCRIPTION:Part of Waldringfield Village Hall’s series of Winter Talks. \nHelene Burningham is Professor of Physical Geography at University College London. She is an expert in coastal system dynamics and the drivers of shoreline change. Much of her research focuses on coastal behaviour in southeast England\, where she has investigated the movement of offshore banks\, nearshore shoals\, and shoreline beaches over the last few centuries. \nAdults £5 including refreshments; under 18s free.
URL:https://transitionwoodbridge.org.uk/event/measuring-and-making-sense-of-coastal-change/
LOCATION:Waldringfield Village Hall\, School Rd\, Waldringfield\, Suffolk\, IP12 4QP\, United Kingdom
CATEGORIES:Upcoming
ATTACH;FMTTYPE=image/jpeg:https://transitionwoodbridge.org.uk/wp-content/uploads/2024/11/coastal.jpg
END:VEVENT
BEGIN:VEVENT
DTSTART;TZID=Europe/London:20241212T190000
DTEND;TZID=Europe/London:20241212T203000
DTSTAMP:20260424T173910
CREATED:20240930T103748Z
LAST-MODIFIED:20240930T105759Z
UID:14355-1734030000-1734035400@transitionwoodbridge.org.uk
SUMMARY:Wildlife Live Webinar - Wild Landscapes
DESCRIPTION:Join us as Nick Acheson guides us through the wild landscapes of East Anglia and the habitats they provide for wildlife. \nSuffolk Wildlife Trust’s webinars take place midweek evenings from 7pm via Zoom\, and can be enjoyed in the comfort of your own home. We cannot see nor hear any attendees\, so you can relax! But everyone is invited to ask questions via the Zoom Q&A panel at the end of the presentation. \nOn account of its huge range of soils and land-use history\, and its tremendous coastline\, East Anglia is among the UK’s most diverse regions for wildlife and wild habitats. Countless rare species have their national strongholds here and many are found nowhere else. In this fascinating online talk\, Nick documents the major habitats of East Anglia from the soil and water upwards\, through their characteristic vegetation to the animals that inhabit them. \nNick Acheson is a conservationist and naturalist who grew up in North Norfolk and\, following a ten-year stint in South America and work on every continent and ocean\, has retuned to his home county. He is an ambassador for Norfolk Wildlife Trust\, a trustee of Pensthorpe Conservation Trust and a patron of Felbeck Trust. His first book The Meaning of Geese won the East Anglian Book of the Year award 2023. \nFind out more and book.
URL:https://transitionwoodbridge.org.uk/event/wildlife-live-webinar-wild-landscapes/
CATEGORIES:Upcoming
ATTACH;FMTTYPE=image/png:https://transitionwoodbridge.org.uk/wp-content/uploads/2024/09/suffolkwildlife.png
ORGANIZER;CN="Suffolk Wildlife Trust":MAILTO:info@suffolkwildlifetrust.org
END:VEVENT
BEGIN:VEVENT
DTSTART;TZID=Europe/London:20241214T100000
DTEND;TZID=Europe/London:20241214T120000
DTSTAMP:20260424T173910
CREATED:20231117T094744Z
LAST-MODIFIED:20231117T094744Z
UID:3341-1734170400-1734177600@transitionwoodbridge.org.uk
SUMMARY:Martlesham Repair Hub
DESCRIPTION:
URL:https://transitionwoodbridge.org.uk/event/martlesham-repair-hub-11/
LOCATION:Martlesham Parish Rooms\, Felixstowe Road\,\, Martlesham\, Suffolk\, IP12 4PB
CATEGORIES:Upcoming
ATTACH;FMTTYPE=image/jpeg:https://transitionwoodbridge.org.uk/wp-content/uploads/2019/07/Transistion-Woodbridge_LOGO-2.jpg
ORGANIZER;CN="Martlesham Climate Action":MAILTO:martleshamclimateaction@btinternet.com
END:VEVENT
BEGIN:VEVENT
DTSTART;TZID=Europe/London:20241214T100000
DTEND;TZID=Europe/London:20241214T233000
DTSTAMP:20260424T173910
CREATED:20241209T164521Z
LAST-MODIFIED:20241209T164521Z
UID:15447-1734170400-1734219000@transitionwoodbridge.org.uk
SUMMARY:Litter walk\, Wickham Market
DESCRIPTION:Join Sonya for Wickham Market’s next ‘Green Gym’ session\, this time taking direct action to remove litter from the environment. Meet at the Wickham Market Village Hall at 10am.
URL:https://transitionwoodbridge.org.uk/event/litter-walk-wickham-market/
LOCATION:Wickham Market Village Hall\, Wickham Market\, Woodbridge\, Suffolk\, IP13 0HE\, United Kingdom
CATEGORIES:Upcoming
ATTACH;FMTTYPE=image/jpeg:https://transitionwoodbridge.org.uk/wp-content/uploads/2024/10/litter2.jpg
END:VEVENT
BEGIN:VEVENT
DTSTART;TZID=Europe/London:20241214T110000
DTEND;TZID=Europe/London:20241214T123000
DTSTAMP:20260424T173910
CREATED:20241104T190709Z
LAST-MODIFIED:20241104T191014Z
UID:14648-1734174000-1734179400@transitionwoodbridge.org.uk
SUMMARY:Wildlife in Shingle Street: past\, present and future
DESCRIPTION:An illustrated talk by writer and naturalist Jeremy Mynott\, describing the rich flora and fauna of Shingle Street and some plans by the residents to protect and enhance this special environment even further. \nThe cost is £3 (cash preferred)\, but free for paid-up members of Waldringfield Wildlife Group. \nThe talk is preceded by a members meeting at 10.00am with refreshments available at 10.45am\, and followed by the members Bring & Share Christmas lunch.
URL:https://transitionwoodbridge.org.uk/event/wildlife-in-shingle-street-past-present-and-future/
LOCATION:Waldringfield Village Hall\, School Rd\, Waldringfield\, Suffolk\, IP12 4QP\, United Kingdom
CATEGORIES:Upcoming
ATTACH;FMTTYPE=image/jpeg:https://transitionwoodbridge.org.uk/wp-content/uploads/2024/11/flyins.jpg
END:VEVENT
BEGIN:VEVENT
DTSTART;TZID=Europe/London:20241219T193000
DTEND;TZID=Europe/London:20241219T210000
DTSTAMP:20260424T173910
CREATED:20241216T102053Z
LAST-MODIFIED:20241216T102053Z
UID:15481-1734636600-1734642000@transitionwoodbridge.org.uk
SUMMARY:Realm of the Polar Bear
DESCRIPTION:Suffolk Wildlife Trust\, Woodbridge Wildlife Group invite you to journey up to the Arctic Svalbard and learn about the birds\, wild flowers and mammals that can be found there when Chris Parfitt presents an illustrated talk entitled Realm of the Polar Bear at Woodbridge Community Hall\, Station Road\, IP12 4AU on Thursday 19 December starting at 7.30 pm. \nPhil Smith\, Chair of Suffolk Wildlife Trust’s Woodbridge Wildlife Group said “Chris has some wonderful images taken during a cruise around the Arctic Svalbard. During this trip he hoped to see and photograph polar bears\, but did he manage to do so? Come along to the talk and find out.” \nMr Smith added “Continuing on the polar bear theme\, we have a very special raffle prize for the evening\, as Jimmy’s Farm have donated a family pass to the Farm\, where you can view Europe’s largest polar bear reserve. We are extremely grateful to Jimmy’s Farm for their support.” \nAdmission to the talk is £4 for adults with under 25s free. Light refreshments will be served\, there will be a raffle and last opportunity to buy Suffolk Wildlife Trust Christmas Cards. Doors open at 7pm and there is no need to book for this talk – pay on entry with cash or card.
URL:https://transitionwoodbridge.org.uk/event/realm-of-the-polar-bear/
LOCATION:Woodbridge Community Hall\, Station Road\, Woodbridge\, Suffolk\, IP12 4AU
CATEGORIES:Upcoming
ATTACH;FMTTYPE=image/jpeg:https://transitionwoodbridge.org.uk/wp-content/uploads/2024/12/pbear253.jpg
ORGANIZER;CN="Suffolk Wildlife Trust":MAILTO:info@suffolkwildlifetrust.org
END:VEVENT
BEGIN:VEVENT
DTSTART;TZID=Europe/London:20241228T100000
DTEND;TZID=Europe/London:20241228T123000
DTSTAMP:20260424T173910
CREATED:20240930T104254Z
LAST-MODIFIED:20240930T104254Z
UID:14357-1735380000-1735389000@transitionwoodbridge.org.uk
SUMMARY:Winter walk at Martlesham Wilds Nature Reserve
DESCRIPTION:Discover winter wildlife at this fascinating reserve on the banks of the River Deben\, which is just beginning its transformation from organic farm to nature reserve. \nThe footpaths on the reserve are uneven\, so please wear stout and waterproof footwear. Bring binoculars\, if you have them and bring a drink. \nThe total distance of the walk is approximately 3km. \nPrice £5 Adults\, Under 25s free. \nFind out more and book.
URL:https://transitionwoodbridge.org.uk/event/winter-walk-at-martlesham-wilds-nature-reserve/
LOCATION:Martlesham Wilds
CATEGORIES:Upcoming
ATTACH;FMTTYPE=image/jpeg:https://transitionwoodbridge.org.uk/wp-content/uploads/2024/08/walking-small.jpg
ORGANIZER;CN="Suffolk Wildlife Trust":MAILTO:info@suffolkwildlifetrust.org
END:VEVENT
BEGIN:VEVENT
DTSTART;TZID=Europe/London:20241229T080000
DTEND;TZID=Europe/London:20241229T170000
DTSTAMP:20260424T173910
CREATED:20231114T122030Z
LAST-MODIFIED:20231114T122030Z
UID:3293-1735459200-1735491600@transitionwoodbridge.org.uk
SUMMARY:Rubbish Walk Woodbridge
DESCRIPTION:Join Jason on a litterpick around Woodbridge on the last Sunday of every month. Leave from the Tea Hut by the river at 10am.
URL:https://transitionwoodbridge.org.uk/event/rubbish-walk-woodbridge-14/
LOCATION:The Tea Hut\, The Tea Hut\, River Wall\, Woodbridge\, Suffolk\, IP12 4BB\, United Kingdom
CATEGORIES:Upcoming
ATTACH;FMTTYPE=image/jpeg:https://transitionwoodbridge.org.uk/wp-content/uploads/2019/07/Transistion-Woodbridge_LOGO-2.jpg
END:VEVENT
END:VCALENDAR