BEGIN:VCALENDAR
VERSION:2.0
PRODID:-//Transition Woodbridge - ECPv6.15.20//NONSGML v1.0//EN
CALSCALE:GREGORIAN
METHOD:PUBLISH
X-ORIGINAL-URL:https://transitionwoodbridge.org.uk
X-WR-CALDESC:Events for Transition Woodbridge
REFRESH-INTERVAL;VALUE=DURATION:PT1H
X-Robots-Tag:noindex
X-PUBLISHED-TTL:PT1H
BEGIN:VTIMEZONE
TZID:Europe/London
BEGIN:DAYLIGHT
TZOFFSETFROM:+0000
TZOFFSETTO:+0100
TZNAME:BST
DTSTART:20250330T010000
END:DAYLIGHT
BEGIN:STANDARD
TZOFFSETFROM:+0100
TZOFFSETTO:+0000
TZNAME:GMT
DTSTART:20251026T010000
END:STANDARD
BEGIN:DAYLIGHT
TZOFFSETFROM:+0000
TZOFFSETTO:+0100
TZNAME:BST
DTSTART:20260329T010000
END:DAYLIGHT
BEGIN:STANDARD
TZOFFSETFROM:+0100
TZOFFSETTO:+0000
TZNAME:GMT
DTSTART:20261025T010000
END:STANDARD
BEGIN:DAYLIGHT
TZOFFSETFROM:+0000
TZOFFSETTO:+0100
TZNAME:BST
DTSTART:20270328T010000
END:DAYLIGHT
BEGIN:STANDARD
TZOFFSETFROM:+0100
TZOFFSETTO:+0000
TZNAME:GMT
DTSTART:20271031T010000
END:STANDARD
END:VTIMEZONE
BEGIN:VEVENT
DTSTART;TZID=Europe/London:20260508T190000
DTEND;TZID=Europe/London:20260508T213000
DTSTAMP:20260424T005328
CREATED:20260413T083544Z
LAST-MODIFIED:20260413T083547Z
UID:17228-1778266800-1778275800@transitionwoodbridge.org.uk
SUMMARY:Peoples Emergency Briefing - Film Show and Expert Panel
DESCRIPTION:Deben Climate Centre and Transition Woodbridge collaborate\, with local experts\, to help us understand the impact of our Climate Emergency. \nThe National Emergency Briefing on the climate and nature crisis was held at Westminster Central Hall on 27 November and attended by over 1\,200 MPs\, peers and leaders from across UK society. It brought together senior experts to present a clear\, evidence-based account of the risks facing the UK and the scale of response required. \nThis public information programme works to ensure that both Parliament and the public are clearly and honestly briefed on the climate and nature crisis. This film extends that work to communities across the UK. \nWith a panel of well-known local experts\, Deben Climate Centre and Transition Woodbridge bring to you the National Emergency Briefing film. Covering a wide range of topics\, the film and our panel will deliver a localised view of how our region will be affected. \nReserve a spot.
URL:https://transitionwoodbridge.org.uk/event/peoples-emergency-briefing-film-show-and-expert-panel/
LOCATION:Woodbridge Community Hall\, Station Road\, Woodbridge\, Suffolk\, IP12 4AU
CATEGORIES:Upcoming
ATTACH;FMTTYPE=image/jpeg:https://transitionwoodbridge.org.uk/wp-content/uploads/2024/06/film.jpg
ORGANIZER;CN="Transition Woodbridge":MAILTO:hello@transitionwoodbridge.org.uk
END:VEVENT
BEGIN:VEVENT
DTSTART;TZID=Europe/London:20260509T110000
DTEND;TZID=Europe/London:20260509T120000
DTSTAMP:20260424T005328
CREATED:20260209T105958Z
LAST-MODIFIED:20260209T105958Z
UID:17087-1778324400-1778328000@transitionwoodbridge.org.uk
SUMMARY:How To Electrify Your Bike
DESCRIPTION:Join Geoff Robinson for a free drop-in session on how to turn your old bicycle into an electric bike where he’ll share his tips about how to install conversion kits on standard bikes. Bring your bike along\, if you wish\, and even a kit\, if you have one! \nNo need to sign up\, just drop in for these FREE sessions at The DeCC\, Ferry Quay\, IP12 1BW.
URL:https://transitionwoodbridge.org.uk/event/how-to-electrify-your-bike-4/
LOCATION:DeCC\, Ferry Quay\, Woodbridge\, Suffolk\, IP12 1BW\, United Kingdom
CATEGORIES:Upcoming
ATTACH;FMTTYPE=image/png:https://transitionwoodbridge.org.uk/wp-content/uploads/2025/02/dcc.png
END:VEVENT
BEGIN:VEVENT
DTSTART;TZID=Europe/London:20260516T073000
DTEND;TZID=Europe/London:20260516T100000
DTSTAMP:20260424T005328
CREATED:20260422T141343Z
LAST-MODIFIED:20260422T141343Z
UID:17246-1778916600-1778925600@transitionwoodbridge.org.uk
SUMMARY:Early morning wildlife walk
DESCRIPTION:Park and start from Melton Riverside Car Park\, Wilford Bridge Road\, Melton\, Woodbridge\, IP12 1LR. \nNumbers limited\, booking essential. \nPlease wear stout and waterproof shoes and bring binoculars if you have them. \nDistance walked approximately 3 km. \nAdults and children aged 10+ \n£5 per person plus EventBrite booking fee. \nUnder 25’s free. \nFind out more and book your place.
URL:https://transitionwoodbridge.org.uk/event/early-morning-wildlife-walk/
LOCATION:Melton Riverside Car Park\, IP12 2PA
CATEGORIES:Upcoming
ATTACH;FMTTYPE=image/jpeg:https://transitionwoodbridge.org.uk/wp-content/uploads/2024/08/walking-small.jpg
END:VEVENT
BEGIN:VEVENT
DTSTART;TZID=Europe/London:20260517T140000
DTEND;TZID=Europe/London:20260517T170000
DTSTAMP:20260424T005328
CREATED:20260413T085215Z
LAST-MODIFIED:20260422T135824Z
UID:17235-1779026400-1779037200@transitionwoodbridge.org.uk
SUMMARY:Open Day at Oak Tree Community Farm
DESCRIPTION:Come along to the spring open day on 17 May\, and see all that the wonderful community farm at The Oak Tree Farm in Rushmere St Andrew has to offer! \nThis free event is open to all; a £5 cash donation per car is suggested if you drive to the farm. \nThere will be lots on offer for all the family including farm tours and trail\, pond dipping\, crafts\, refreshments and more! No booking necessary\, just turn up on the day. \nFind out more.
URL:https://transitionwoodbridge.org.uk/event/open-day-at-oak-tree-community-farm/
LOCATION:Oak Tree Low Carbon Farm\, The Oak Tree Low Carbon Farm\, Playford Lane\, Rushmere St. Andrew\, Ipswich\, Suffolk\, IP5 1DW\, United Kingdom
CATEGORIES:Upcoming
ATTACH;FMTTYPE=image/jpeg:https://transitionwoodbridge.org.uk/wp-content/uploads/2024/06/harvest.jpg
ORGANIZER;CN="The Oak Tree Low Carbon Farm":MAILTO:hello@the-oak-tree.co.uk
END:VEVENT
BEGIN:VEVENT
DTSTART;TZID=Europe/London:20260601T100000
DTEND;TZID=Europe/London:20260601T120000
DTSTAMP:20260424T005328
CREATED:20251208T105337Z
LAST-MODIFIED:20251208T105339Z
UID:16871-1780308000-1780315200@transitionwoodbridge.org.uk
SUMMARY:Repair Cafe
DESCRIPTION:
URL:https://transitionwoodbridge.org.uk/event/repair-cafe-29/
LOCATION:St. John’s Church\, St. John's Church\, Woodbridge\, Suffolk\, IP12 1HS\, United Kingdom
CATEGORIES:Upcoming
ATTACH;FMTTYPE=image/jpeg:https://transitionwoodbridge.org.uk/wp-content/uploads/2019/07/Transistion-Woodbridge_LOGO-2.jpg
END:VEVENT
BEGIN:VEVENT
DTSTART;TZID=Europe/London:20260603T173000
DTEND;TZID=Europe/London:20260603T200000
DTSTAMP:20260424T005328
CREATED:20260413T084704Z
LAST-MODIFIED:20260413T084704Z
UID:17230-1780507800-1780516800@transitionwoodbridge.org.uk
SUMMARY:Summer visits to SWT Martlesham Wilds: evening tour
DESCRIPTION:Organised on behalf of the Greenprint Forum – all are welcome! \nThree years on from the Greenprint Forum’s visit in June 2023\, there have been some considerable changes to the landscape at this still relatively new nature reserve. Since acquiring the site\, the Suffolk Wildlife Trust have been continuing the journey of discovery – learning about the ecology\, history\, wildlife and stories of Martlesham Wilds. We have been invited back to see and hear about what’s changed so far as well\, as the latest vision for the future that the Trust have for this newly recovering nature reserve. \nOrganised on behalf of the Greenprint Forum\, all are welcome but current members of the Greenprint Forum will be given priority in the event of oversubscription. Attendance is free but donations directly to the SWT are welcome. \n(Two visits are available\, the content will be the same on each date so you only need to attend one date.) \nRegistration essential due to limited number of spaces. Register here.
URL:https://transitionwoodbridge.org.uk/event/summer-visits-to-swt-martlesham-wilds-evening-tour/
LOCATION:Martlesham Wilds
CATEGORIES:Upcoming
ATTACH;FMTTYPE=image/jpeg:https://transitionwoodbridge.org.uk/wp-content/uploads/2026/04/martlesham.jpg
ORGANIZER;CN="East Suffolk Council Greenprint Forum":MAILTO:greenissues@eastsuffolk.gov.uk
END:VEVENT
BEGIN:VEVENT
DTSTART;TZID=Europe/London:20260606T120000
DTEND;TZID=Europe/London:20260606T140000
DTSTAMP:20260424T005328
CREATED:20260209T104939Z
LAST-MODIFIED:20260209T104939Z
UID:17075-1780747200-1780754400@transitionwoodbridge.org.uk
SUMMARY:Demystifying Heat Pumps Q & A
DESCRIPTION:Are you considering a heat pump for your home\, or are you just curious about renewable heating? Get all the answers to your questions from independent\, unbiased experts. \nNo need to sign up\, just drop in for these FREE sessions at The DeCC\, Ferry Quay.
URL:https://transitionwoodbridge.org.uk/event/demystifying-heat-pumps-q-a-4/
LOCATION:DeCC\, Ferry Quay\, Woodbridge\, Suffolk\, IP12 1BW\, United Kingdom
CATEGORIES:Upcoming
ATTACH;FMTTYPE=image/png:https://transitionwoodbridge.org.uk/wp-content/uploads/2025/02/dcc.png
END:VEVENT
BEGIN:VEVENT
DTSTART;TZID=Europe/London:20260612T133000
DTEND;TZID=Europe/London:20260612T170000
DTSTAMP:20260424T005328
CREATED:20260408T221708Z
LAST-MODIFIED:20260408T222003Z
UID:17224-1781271000-1781283600@transitionwoodbridge.org.uk
SUMMARY:Celebrating 30 years of supporting sustainability in Suffolk
DESCRIPTION:2026 marks the year of the 30th anniversary of the Greenprint Forum. \nMembers of the public and community groups are invited to attend. A range of speakers will be giving inspiring and informative talks. There will also be space for local environmental groups to bring their stalls to promote their activities and engage with attendees. \nRegistration is open now.
URL:https://transitionwoodbridge.org.uk/event/celebrating-30-years-of-supporting-sustainability-in-suffolk/
LOCATION:Saxmundham Market Hall\, 29 High St\, Saxmundham\, Suffolk\, IP17 1AF\, United Kingdom
CATEGORIES:Upcoming
ATTACH;FMTTYPE=image/png:https://transitionwoodbridge.org.uk/wp-content/uploads/2026/02/esc.png
ORGANIZER;CN="East Suffolk Council Greenprint Forum":MAILTO:greenissues@eastsuffolk.gov.uk
END:VEVENT
BEGIN:VEVENT
DTSTART;TZID=Europe/London:20260617T100000
DTEND;TZID=Europe/London:20260617T123000
DTSTAMP:20260424T005328
CREATED:20260413T084748Z
LAST-MODIFIED:20260413T084748Z
UID:17231-1781690400-1781699400@transitionwoodbridge.org.uk
SUMMARY:Summer visits to SWT Martlesham Wilds: morning tour
DESCRIPTION:Organised on behalf of the Greenprint Forum – all are welcome! \nThree years on from the Greenprint Forum’s visit in June 2023\, there have been some considerable changes to the landscape at this still relatively new nature reserve. Since acquiring the site\, the Suffolk Wildlife Trust have been continuing the journey of discovery – learning about the ecology\, history\, wildlife and stories of Martlesham Wilds. We have been invited back to see and hear about what’s changed so far as well\, as the latest vision for the future that the Trust have for this newly recovering nature reserve. \nOrganised on behalf of the Greenprint Forum\, all are welcome but current members of the Greenprint Forum will be given priority in the event of oversubscription. Attendance is free but donations directly to the SWT are welcome. \n(Two visits are available\, the content will be the same on each date so you only need to attend one date.) \nRegistration essential due to limited number of spaces. Register here.
URL:https://transitionwoodbridge.org.uk/event/summer-visits-to-swt-martlesham-wilds-morning-tour/
LOCATION:Martlesham Wilds
CATEGORIES:Upcoming
ATTACH;FMTTYPE=image/jpeg:https://transitionwoodbridge.org.uk/wp-content/uploads/2026/04/martlesham.jpg
ORGANIZER;CN="East Suffolk Council Greenprint Forum":MAILTO:greenissues@eastsuffolk.gov.uk
END:VEVENT
BEGIN:VEVENT
DTSTART;TZID=Europe/London:20260706T100000
DTEND;TZID=Europe/London:20260706T120000
DTSTAMP:20260424T005328
CREATED:20251208T105343Z
LAST-MODIFIED:20251208T105346Z
UID:16872-1783332000-1783339200@transitionwoodbridge.org.uk
SUMMARY:Repair Cafe
DESCRIPTION:
URL:https://transitionwoodbridge.org.uk/event/repair-cafe-30/
LOCATION:St. John’s Church\, St. John's Church\, Woodbridge\, Suffolk\, IP12 1HS\, United Kingdom
CATEGORIES:Upcoming
ATTACH;FMTTYPE=image/jpeg:https://transitionwoodbridge.org.uk/wp-content/uploads/2019/07/Transistion-Woodbridge_LOGO-2.jpg
END:VEVENT
BEGIN:VEVENT
DTSTART;TZID=Europe/London:20260803T100000
DTEND;TZID=Europe/London:20260803T120000
DTSTAMP:20260424T005328
CREATED:20251208T105348Z
LAST-MODIFIED:20251208T105351Z
UID:16873-1785751200-1785758400@transitionwoodbridge.org.uk
SUMMARY:Repair Cafe
DESCRIPTION:
URL:https://transitionwoodbridge.org.uk/event/repair-cafe-31/
LOCATION:St. John’s Church\, St. John's Church\, Woodbridge\, Suffolk\, IP12 1HS\, United Kingdom
CATEGORIES:Upcoming
ATTACH;FMTTYPE=image/jpeg:https://transitionwoodbridge.org.uk/wp-content/uploads/2019/07/Transistion-Woodbridge_LOGO-2.jpg
END:VEVENT
BEGIN:VEVENT
DTSTART;TZID=Europe/London:20260907T100000
DTEND;TZID=Europe/London:20260907T120000
DTSTAMP:20260424T005328
CREATED:20251208T105404Z
LAST-MODIFIED:20251208T105407Z
UID:16874-1788775200-1788782400@transitionwoodbridge.org.uk
SUMMARY:Repair Cafe
DESCRIPTION:
URL:https://transitionwoodbridge.org.uk/event/repair-cafe-32/
LOCATION:St. John’s Church\, St. John's Church\, Woodbridge\, Suffolk\, IP12 1HS\, United Kingdom
CATEGORIES:Upcoming
ATTACH;FMTTYPE=image/jpeg:https://transitionwoodbridge.org.uk/wp-content/uploads/2019/07/Transistion-Woodbridge_LOGO-2.jpg
END:VEVENT
BEGIN:VEVENT
DTSTART;TZID=Europe/London:20261005T100000
DTEND;TZID=Europe/London:20261005T120000
DTSTAMP:20260424T005328
CREATED:20251208T105511Z
LAST-MODIFIED:20251208T105526Z
UID:16875-1791194400-1791201600@transitionwoodbridge.org.uk
SUMMARY:Repair Cafe
DESCRIPTION:
URL:https://transitionwoodbridge.org.uk/event/repair-cafe-35/
LOCATION:St. John’s Church\, St. John's Church\, Woodbridge\, Suffolk\, IP12 1HS\, United Kingdom
CATEGORIES:Upcoming
ATTACH;FMTTYPE=image/jpeg:https://transitionwoodbridge.org.uk/wp-content/uploads/2019/07/Transistion-Woodbridge_LOGO-2.jpg
END:VEVENT
BEGIN:VEVENT
DTSTART;TZID=Europe/London:20261102T100000
DTEND;TZID=Europe/London:20261102T120000
DTSTAMP:20260424T005328
CREATED:20251208T105413Z
LAST-MODIFIED:20251208T105427Z
UID:16876-1793613600-1793620800@transitionwoodbridge.org.uk
SUMMARY:Repair Cafe
DESCRIPTION:
URL:https://transitionwoodbridge.org.uk/event/repair-cafe-33/
LOCATION:St. John’s Church\, St. John's Church\, Woodbridge\, Suffolk\, IP12 1HS\, United Kingdom
CATEGORIES:Upcoming
ATTACH;FMTTYPE=image/jpeg:https://transitionwoodbridge.org.uk/wp-content/uploads/2019/07/Transistion-Woodbridge_LOGO-2.jpg
END:VEVENT
BEGIN:VEVENT
DTSTART;TZID=Europe/London:20261207T100000
DTEND;TZID=Europe/London:20261207T120000
DTSTAMP:20260424T005328
CREATED:20251208T105430Z
LAST-MODIFIED:20251208T105444Z
UID:16877-1796637600-1796644800@transitionwoodbridge.org.uk
SUMMARY:Repair Cafe
DESCRIPTION:
URL:https://transitionwoodbridge.org.uk/event/repair-cafe-34/
LOCATION:St. John’s Church\, St. John's Church\, Woodbridge\, Suffolk\, IP12 1HS\, United Kingdom
CATEGORIES:Upcoming
ATTACH;FMTTYPE=image/jpeg:https://transitionwoodbridge.org.uk/wp-content/uploads/2019/07/Transistion-Woodbridge_LOGO-2.jpg
END:VEVENT
END:VCALENDAR