BEGIN:VCALENDAR
VERSION:2.0
PRODID:-//Transition Woodbridge - ECPv6.15.20//NONSGML v1.0//EN
CALSCALE:GREGORIAN
METHOD:PUBLISH
X-WR-CALNAME:Transition Woodbridge
X-ORIGINAL-URL:https://transitionwoodbridge.org.uk
X-WR-CALDESC:Events for Transition Woodbridge
REFRESH-INTERVAL;VALUE=DURATION:PT1H
X-Robots-Tag:noindex
X-PUBLISHED-TTL:PT1H
BEGIN:VTIMEZONE
TZID:Europe/London
BEGIN:DAYLIGHT
TZOFFSETFROM:+0000
TZOFFSETTO:+0100
TZNAME:BST
DTSTART:20230326T010000
END:DAYLIGHT
BEGIN:STANDARD
TZOFFSETFROM:+0100
TZOFFSETTO:+0000
TZNAME:GMT
DTSTART:20231029T010000
END:STANDARD
BEGIN:DAYLIGHT
TZOFFSETFROM:+0000
TZOFFSETTO:+0100
TZNAME:BST
DTSTART:20240331T010000
END:DAYLIGHT
BEGIN:STANDARD
TZOFFSETFROM:+0100
TZOFFSETTO:+0000
TZNAME:GMT
DTSTART:20241027T010000
END:STANDARD
BEGIN:DAYLIGHT
TZOFFSETFROM:+0000
TZOFFSETTO:+0100
TZNAME:BST
DTSTART:20250330T010000
END:DAYLIGHT
BEGIN:STANDARD
TZOFFSETFROM:+0100
TZOFFSETTO:+0000
TZNAME:GMT
DTSTART:20251026T010000
END:STANDARD
END:VTIMEZONE
BEGIN:VEVENT
DTSTART;TZID=Europe/London:20240420T100000
DTEND;TZID=Europe/London:20240420T160000
DTSTAMP:20260425T152914
CREATED:20240312T200946Z
LAST-MODIFIED:20240401T230608Z
UID:3595-1713607200-1713628800@transitionwoodbridge.org.uk
SUMMARY:Earth Day Food Fair
DESCRIPTION:Come and join us at this Local Food and Environment Fair in Woodbridge\, celebrating Earth Day.
URL:https://transitionwoodbridge.org.uk/event/earth-day-food-fair/
LOCATION:Whisstocks\, Tide Mill Way\, Woodbridge\, Suffolk\, IP12 1FP\, United Kingdom
CATEGORIES:Upcoming
ATTACH;FMTTYPE=image/jpeg:https://transitionwoodbridge.org.uk/wp-content/uploads/2019/07/Transistion-Woodbridge_LOGO-2.jpg
ORGANIZER;CN="Transition Woodbridge":MAILTO:hello@transitionwoodbridge.org.uk
END:VEVENT
BEGIN:VEVENT
DTSTART;VALUE=DATE:20240420
DTEND;VALUE=DATE:20240421
DTSTAMP:20260425T152914
CREATED:20240107T135145Z
LAST-MODIFIED:20240107T135145Z
UID:3422-1713571200-1713657599@transitionwoodbridge.org.uk
SUMMARY:Living Willow Chairs Course
DESCRIPTION:
URL:https://transitionwoodbridge.org.uk/event/living-willow-chairs-course/
LOCATION:Wakelyns Farm
CATEGORIES:Upcoming
ATTACH;FMTTYPE=image/jpeg:https://transitionwoodbridge.org.uk/wp-content/uploads/2019/07/Transistion-Woodbridge_LOGO-2.jpg
END:VEVENT
BEGIN:VEVENT
DTSTART;TZID=Europe/London:20240419T190000
DTEND;TZID=Europe/London:20240419T213000
DTSTAMP:20260425T152914
CREATED:20240415T133659Z
LAST-MODIFIED:20240415T133659Z
UID:3819-1713553200-1713562200@transitionwoodbridge.org.uk
SUMMARY:Film showing and Q&A panel: Six Inches of Soil
DESCRIPTION:The inspiring story of young British farmers standing up against the industrial food system and transforming the way they produce food.
URL:https://transitionwoodbridge.org.uk/event/film-showing-and-qa-panel-six-inches-of-soil/
LOCATION:Woodbridge Community Hall\, Station Road\, Woodbridge\, Suffolk\, IP12 4AU
CATEGORIES:Upcoming
ATTACH;FMTTYPE=image/jpeg:https://transitionwoodbridge.org.uk/wp-content/uploads/2019/07/Transistion-Woodbridge_LOGO-2.jpg
END:VEVENT
BEGIN:VEVENT
DTSTART;TZID=Europe/London:20240418T193000
DTEND;TZID=Europe/London:20240418T193000
DTSTAMP:20260425T152914
CREATED:20240415T135441Z
LAST-MODIFIED:20240415T140017Z
UID:3827-1713468600-1713468600@transitionwoodbridge.org.uk
SUMMARY:Finding W.H. Hudson - the writer who came to Britain to save the birds
DESCRIPTION:Author Conor Jameson presents a talk entitled ‘Finding W.H. Hudson – the writer who came to Britain to save the birds’. \nLocal group chairman Phil Smith\, said “Conor’s latest book tells the story of W.H.Hudson’s pioneering role as a campaigner\, supporting the women who founded the RSPB. We are delighted to welcome Conor\, who is a wonderfully entertaining speaker\, back to Suffolk\, and this promises to be an interesting and enjoyable evening.” \nRead more about the book. \nAdmission to the talk is £3 for adults\, with under 25s free. During the evening there will be a raffle and refreshments. Doors open at 7 pm and there is no need to book for this talk.
URL:https://transitionwoodbridge.org.uk/event/finding-w-h-hudson-the-writer-who-came-to-britain-to-save-the-birds/
LOCATION:Woodbridge Community Hall\, Station Road\, Woodbridge\, Suffolk\, IP12 4AU
CATEGORIES:Upcoming
ATTACH;FMTTYPE=image/jpeg:https://transitionwoodbridge.org.uk/wp-content/uploads/2019/07/Transistion-Woodbridge_LOGO-2.jpg
ORGANIZER;CN="Suffolk Wildlife Trust":MAILTO:info@suffolkwildlifetrust.org
END:VEVENT
BEGIN:VEVENT
DTSTART;TZID=Europe/London:20240413T110000
DTEND;TZID=Europe/London:20240413T120000
DTSTAMP:20260425T152914
CREATED:20240110T065147Z
LAST-MODIFIED:20240110T065147Z
UID:3495-1713006000-1713009600@transitionwoodbridge.org.uk
SUMMARY:Illustrated talk by Simon Hooten : Suffolk Landscapes - different habitats and the different wildlife they attract in Suffolk.
DESCRIPTION:Illustrated talk by Simon Hooten : Suffolk Landscapes – different habitats and the different wildlife they attract in Suffolk. \n  \n\nWaldringfield Wildlife Group exists to conserve\, enhance and record the local wildlife; to protect wildlife habitats and encourage biodiversity; to encourage wildlife-friendly management of land\, gardens and public spaces and to encourage a greater interest in the knowledge and love of wildlife in general. \nMeetings & Talks are in the Deben Hall at the Village Hall. \nMembers meetings start at 10.00am which precede the talks. Refreshment break 10.45am. \nTalks start at 11.00am unless otherwise stated. Members: No charge.     Visitors welcome. \nAdmission charge: £3.00 for visitors and non-members. Field Trips: Please inform Linda Wilkins or Jill Winter you are joining any of the field trips/guided tours. \nNote: Priority to paid up members for all field trips. \nNew members welcome: Annual Membership £10. \n  \nFor further details contact: The Coordinator: Linda Wilkins 01473736044 mob:07788286482 linda.thequay@btinternet.com \nSecretary: Jill Winter 01473 736125      jillwinter2@gmail.com \nTreasurer: Alexis Smith 01473 736257 g1dik@btinternet.com
URL:https://transitionwoodbridge.org.uk/event/illustrated-talk-by-simon-hooten-suffolk-landscapes-different-habitats-and-the-different-wildlife-they-attract-in-suffolk/
LOCATION:Waldringfield Village Hall\, School Rd\, Waldringfield\, Suffolk\, IP12 4QP\, United Kingdom
CATEGORIES:Upcoming
ATTACH;FMTTYPE=image/jpeg:https://transitionwoodbridge.org.uk/wp-content/uploads/2019/07/Transistion-Woodbridge_LOGO-2.jpg
END:VEVENT
BEGIN:VEVENT
DTSTART;TZID=Europe/London:20240413T100000
DTEND;TZID=Europe/London:20240413T120000
DTSTAMP:20260425T152914
CREATED:20231117T093951Z
LAST-MODIFIED:20231117T093951Z
UID:3325-1713002400-1713009600@transitionwoodbridge.org.uk
SUMMARY:Martlesham Repair Hub
DESCRIPTION:
URL:https://transitionwoodbridge.org.uk/event/martlesham-repair-hub-3/
LOCATION:Martlesham Parish Rooms\, Felixstowe Road\,\, Martlesham\, Suffolk\, IP12 4PB
CATEGORIES:Upcoming
ATTACH;FMTTYPE=image/jpeg:https://transitionwoodbridge.org.uk/wp-content/uploads/2019/07/Transistion-Woodbridge_LOGO-2.jpg
ORGANIZER;CN="Martlesham Climate Action":MAILTO:martleshamclimateaction@btinternet.com
END:VEVENT
BEGIN:VEVENT
DTSTART;TZID=Europe/London:20240401T100000
DTEND;TZID=Europe/London:20240401T120000
DTSTAMP:20260425T152914
CREATED:20231117T092349Z
LAST-MODIFIED:20231117T092349Z
UID:3302-1711965600-1711972800@transitionwoodbridge.org.uk
SUMMARY:Repair Cafe
DESCRIPTION:
URL:https://transitionwoodbridge.org.uk/event/repair-cafe-4/
LOCATION:St. John’s Church\, St. John's Church\, Woodbridge\, Suffolk\, IP12 1HS\, United Kingdom
CATEGORIES:Upcoming
ATTACH;FMTTYPE=image/jpeg:https://transitionwoodbridge.org.uk/wp-content/uploads/2019/07/Transistion-Woodbridge_LOGO-2.jpg
END:VEVENT
BEGIN:VEVENT
DTSTART;TZID=Europe/London:20240331T100000
DTEND;TZID=Europe/London:20240331T120000
DTSTAMP:20260425T152914
CREATED:20231114T121408Z
LAST-MODIFIED:20231114T121408Z
UID:3275-1711879200-1711886400@transitionwoodbridge.org.uk
SUMMARY:Rubbish Walk Woodbridge
DESCRIPTION:Join Jason on a litterpick around Woodbridge on the last Sunday of every month. Leave from the Tea Hut by the river at 10am.
URL:https://transitionwoodbridge.org.uk/event/rubbish-walk-woodbridge-3/
LOCATION:The Tea Hut\, The Tea Hut\, River Wall\, Woodbridge\, Suffolk\, IP12 4BB\, United Kingdom
CATEGORIES:Upcoming
ATTACH;FMTTYPE=image/jpeg:https://transitionwoodbridge.org.uk/wp-content/uploads/2019/07/Transistion-Woodbridge_LOGO-2.jpg
END:VEVENT
BEGIN:VEVENT
DTSTART;VALUE=DATE:20240330
DTEND;VALUE=DATE:20240331
DTSTAMP:20260425T152914
CREATED:20240107T134959Z
LAST-MODIFIED:20240107T134959Z
UID:3419-1711756800-1711843199@transitionwoodbridge.org.uk
SUMMARY:Plant Supports and Berry Baskets Course
DESCRIPTION:
URL:https://transitionwoodbridge.org.uk/event/plant-supports-and-berry-baskets-course/
LOCATION:Wakelyns Farm
CATEGORIES:Upcoming
ATTACH;FMTTYPE=image/jpeg:https://transitionwoodbridge.org.uk/wp-content/uploads/2019/07/Transistion-Woodbridge_LOGO-2.jpg
END:VEVENT
BEGIN:VEVENT
DTSTART;TZID=Europe/London:20240328T190000
DTEND;TZID=Europe/London:20240328T203000
DTSTAMP:20260425T152914
CREATED:20240126T173020Z
LAST-MODIFIED:20240126T173050Z
UID:3552-1711652400-1711657800@transitionwoodbridge.org.uk
SUMMARY:Bat Survey Results Debrief
DESCRIPTION:First of all a huge thank you again for taking part in our bat survey between May and September 2023. \n\nMark Bowler from the University of Suffolk will be presenting the debrief of last year’s results on Thursday 28th March\, 7pm at Woodbridge Community Hall to which you are warmly invited\,\n\nThe results so far look really good with all the same species recorded as in 2022.  Everyone in Woodbridge and Melton has common and soprano pipistrelles and most have more species than these.   The results emphasize again the importance of woody areas such as Martlesham Creek\, Porters Wood\, Melton Woods\, Wilford Bridge lakes for potential roosts.\n\n\nThere are far fewer bat numbers though than 30 years ago so we do have to redouble our efforts to encourage bats here by planting trees and shrubs\, keeping grass longer and having patches of scrub\, and especially by installing a pond!   Join up with your neighbours and sign up through our website https://transitionwoodbridge.org.uk/local-wildlife-corridors/ to our green corridors project where we have an enewsletter and events to give people ideas for wilding their gardens or green space. \n\nHope to see you on 28th March\n\nJane and the TW team
URL:https://transitionwoodbridge.org.uk/event/bat-survey-debrief/
LOCATION:Woodbridge Community Hall\, Station Road\, Woodbridge\, Suffolk\, IP12 4AU
CATEGORIES:Upcoming
ATTACH;FMTTYPE=image/jpeg:https://transitionwoodbridge.org.uk/wp-content/uploads/2019/07/Transistion-Woodbridge_LOGO-2.jpg
ORGANIZER;CN="Transition Woodbridge":MAILTO:hello@transitionwoodbridge.org.uk
END:VEVENT
BEGIN:VEVENT
DTSTART;VALUE=DATE:20240323
DTEND;VALUE=DATE:20240324
DTSTAMP:20260425T152914
CREATED:20240107T134846Z
LAST-MODIFIED:20240107T134846Z
UID:3416-1711152000-1711238399@transitionwoodbridge.org.uk
SUMMARY:Bird Feeders Course
DESCRIPTION:
URL:https://transitionwoodbridge.org.uk/event/bird-feeders-course/
LOCATION:Wakelyns Farm
CATEGORIES:Upcoming
ATTACH;FMTTYPE=image/jpeg:https://transitionwoodbridge.org.uk/wp-content/uploads/2019/07/Transistion-Woodbridge_LOGO-2.jpg
END:VEVENT
BEGIN:VEVENT
DTSTART;VALUE=DATE:20240315
DTEND;VALUE=DATE:20240316
DTSTAMP:20260425T152914
CREATED:20240107T134640Z
LAST-MODIFIED:20240107T134640Z
UID:3413-1710460800-1710547199@transitionwoodbridge.org.uk
SUMMARY:Skepmaking Course
DESCRIPTION:
URL:https://transitionwoodbridge.org.uk/event/skepmaking-course/
LOCATION:Wakelyns Farm
CATEGORIES:Upcoming
ATTACH;FMTTYPE=image/jpeg:https://transitionwoodbridge.org.uk/wp-content/uploads/2019/07/Transistion-Woodbridge_LOGO-2.jpg
END:VEVENT
BEGIN:VEVENT
DTSTART;TZID=Europe/London:20240309T100000
DTEND;TZID=Europe/London:20240309T120000
DTSTAMP:20260425T152914
CREATED:20231117T093822Z
LAST-MODIFIED:20231117T093822Z
UID:3323-1709978400-1709985600@transitionwoodbridge.org.uk
SUMMARY:Martlesham Repair Hub
DESCRIPTION:
URL:https://transitionwoodbridge.org.uk/event/martlesham-repair-hub-2/
LOCATION:Martlesham Parish Rooms\, Felixstowe Road\,\, Martlesham\, Suffolk\, IP12 4PB
CATEGORIES:Upcoming
ATTACH;FMTTYPE=image/jpeg:https://transitionwoodbridge.org.uk/wp-content/uploads/2019/07/Transistion-Woodbridge_LOGO-2.jpg
ORGANIZER;CN="Martlesham Climate Action":MAILTO:martleshamclimateaction@btinternet.com
END:VEVENT
BEGIN:VEVENT
DTSTART;TZID=Europe/London:20240304T100000
DTEND;TZID=Europe/London:20240304T120000
DTSTAMP:20260425T152914
CREATED:20231117T092217Z
LAST-MODIFIED:20231117T092218Z
UID:3300-1709546400-1709553600@transitionwoodbridge.org.uk
SUMMARY:Repair Cafe
DESCRIPTION:
URL:https://transitionwoodbridge.org.uk/event/repair-cafe-3/
LOCATION:St. John’s Church\, St. John's Church\, Woodbridge\, Suffolk\, IP12 1HS\, United Kingdom
CATEGORIES:Upcoming
ATTACH;FMTTYPE=image/jpeg:https://transitionwoodbridge.org.uk/wp-content/uploads/2019/07/Transistion-Woodbridge_LOGO-2.jpg
END:VEVENT
BEGIN:VEVENT
DTSTART;TZID=Europe/London:20240225T100000
DTEND;TZID=Europe/London:20240225T120000
DTSTAMP:20260425T152914
CREATED:20231114T121330Z
LAST-MODIFIED:20231114T121330Z
UID:3273-1708855200-1708862400@transitionwoodbridge.org.uk
SUMMARY:Rubbish Walk Woodbridge
DESCRIPTION:Join Jason on a litterpick around Woodbridge on the last Sunday of every month. Leave from the Tea Hut by the river at 10am.
URL:https://transitionwoodbridge.org.uk/event/rubbish-walk-woodbridge-2/
LOCATION:The Tea Hut\, The Tea Hut\, River Wall\, Woodbridge\, Suffolk\, IP12 4BB\, United Kingdom
CATEGORIES:Upcoming
ATTACH;FMTTYPE=image/jpeg:https://transitionwoodbridge.org.uk/wp-content/uploads/2019/07/Transistion-Woodbridge_LOGO-2.jpg
END:VEVENT
BEGIN:VEVENT
DTSTART;VALUE=DATE:20240224
DTEND;VALUE=DATE:20240225
DTSTAMP:20260425T152914
CREATED:20240107T134440Z
LAST-MODIFIED:20240107T134440Z
UID:3410-1708732800-1708819199@transitionwoodbridge.org.uk
SUMMARY:Hazel Handled Baskets Course
DESCRIPTION:
URL:https://transitionwoodbridge.org.uk/event/hazel-handled-baskets-course/
LOCATION:Wakelyns Farm
CATEGORIES:Upcoming
ATTACH;FMTTYPE=image/jpeg:https://transitionwoodbridge.org.uk/wp-content/uploads/2019/07/Transistion-Woodbridge_LOGO-2.jpg
END:VEVENT
BEGIN:VEVENT
DTSTART;VALUE=DATE:20240217
DTEND;VALUE=DATE:20240218
DTSTAMP:20260425T152914
CREATED:20240107T133829Z
LAST-MODIFIED:20240107T133829Z
UID:3407-1708128000-1708214399@transitionwoodbridge.org.uk
SUMMARY:Living Willow Domes and Arbours Course
DESCRIPTION:
URL:https://transitionwoodbridge.org.uk/event/living-willow-domes-and-arbours-course/
LOCATION:Wakelyns Farm
CATEGORIES:Upcoming
ATTACH;FMTTYPE=image/jpeg:https://transitionwoodbridge.org.uk/wp-content/uploads/2019/07/Transistion-Woodbridge_LOGO-2.jpg
END:VEVENT
BEGIN:VEVENT
DTSTART;TZID=Europe/London:20240210T110000
DTEND;TZID=Europe/London:20240210T120000
DTSTAMP:20260425T152914
CREATED:20240110T065056Z
LAST-MODIFIED:20240110T065056Z
UID:3496-1707562800-1707566400@transitionwoodbridge.org.uk
SUMMARY:Illustrated talk by Martin Tickler: Suffolk Bird Group: House Martins.
DESCRIPTION:Illustrated talk by Martin Tickler: Suffolk Bird Group: House Martins. \n  \n\nWaldringfield Wildlife Group exists to conserve\, enhance and record the local wildlife; to protect wildlife habitats and encourage biodiversity; to encourage wildlife-friendly management of land\, gardens and public spaces and to encourage a greater interest in the knowledge and love of wildlife in general. \nMeetings & Talks are in the Deben Hall at the Village Hall. \nMembers meetings start at 10.00am which precede the talks. Refreshment break 10.45am. \nTalks start at 11.00am unless otherwise stated. Members: No charge.     Visitors welcome. \nAdmission charge: £3.00 for visitors and non-members. Field Trips: Please inform Linda Wilkins or Jill Winter you are joining any of the field trips/guided tours. \nNote: Priority to paid up members for all field trips. \nNew members welcome: Annual Membership £10. \n  \nFor further details contact: The Coordinator: Linda Wilkins 01473736044 mob:07788286482 linda.thequay@btinternet.com \nSecretary: Jill Winter 01473 736125      jillwinter2@gmail.com \nTreasurer: Alexis Smith 01473 736257 g1dik@btinternet.com
URL:https://transitionwoodbridge.org.uk/event/illustrated-talk-by-martin-tickler-suffolk-bird-group-house-martins/
LOCATION:Waldringfield Village Hall\, School Rd\, Waldringfield\, Suffolk\, IP12 4QP\, United Kingdom
CATEGORIES:Upcoming
ATTACH;FMTTYPE=image/jpeg:https://transitionwoodbridge.org.uk/wp-content/uploads/2019/07/Transistion-Woodbridge_LOGO-2.jpg
END:VEVENT
BEGIN:VEVENT
DTSTART;TZID=Europe/London:20240210T100000
DTEND;TZID=Europe/London:20240210T120000
DTSTAMP:20260425T152914
CREATED:20231117T093731Z
LAST-MODIFIED:20231117T093858Z
UID:3321-1707559200-1707566400@transitionwoodbridge.org.uk
SUMMARY:Martlesham Repair Hub
DESCRIPTION:
URL:https://transitionwoodbridge.org.uk/event/martlesham-repair-hub/
LOCATION:Martlesham Parish Rooms\, Felixstowe Road\,\, Martlesham\, Suffolk\, IP12 4PB
CATEGORIES:Upcoming
ATTACH;FMTTYPE=image/jpeg:https://transitionwoodbridge.org.uk/wp-content/uploads/2019/07/Transistion-Woodbridge_LOGO-2.jpg
ORGANIZER;CN="Martlesham Climate Action":MAILTO:martleshamclimateaction@btinternet.com
END:VEVENT
BEGIN:VEVENT
DTSTART;TZID=Europe/London:20240205T100000
DTEND;TZID=Europe/London:20240205T120000
DTSTAMP:20260425T152914
CREATED:20231117T092135Z
LAST-MODIFIED:20231117T092253Z
UID:3298-1707127200-1707134400@transitionwoodbridge.org.uk
SUMMARY:Repair Cafe
DESCRIPTION:
URL:https://transitionwoodbridge.org.uk/event/repair-cafe-2/
LOCATION:St. John’s Church\, St. John's Church\, Woodbridge\, Suffolk\, IP12 1HS\, United Kingdom
CATEGORIES:Upcoming
ATTACH;FMTTYPE=image/jpeg:https://transitionwoodbridge.org.uk/wp-content/uploads/2019/07/Transistion-Woodbridge_LOGO-2.jpg
END:VEVENT
BEGIN:VEVENT
DTSTART;TZID=Europe/London:20240128T100000
DTEND;TZID=Europe/London:20240128T120000
DTSTAMP:20260425T152914
CREATED:20231114T121252Z
LAST-MODIFIED:20231114T121252Z
UID:3271-1706436000-1706443200@transitionwoodbridge.org.uk
SUMMARY:Rubbish Walk Woodbridge
DESCRIPTION:Join Jason on a litterpick around Woodbridge on the last Sunday of every month. Leave from the Tea Hut by the river at 10am.
URL:https://transitionwoodbridge.org.uk/event/rubbish-walk-woodbridge/
LOCATION:The Tea Hut\, The Tea Hut\, River Wall\, Woodbridge\, Suffolk\, IP12 4BB\, United Kingdom
CATEGORIES:Upcoming
ATTACH;FMTTYPE=image/jpeg:https://transitionwoodbridge.org.uk/wp-content/uploads/2019/07/Transistion-Woodbridge_LOGO-2.jpg
END:VEVENT
BEGIN:VEVENT
DTSTART;TZID=Europe/London:20240127T100000
DTEND;TZID=Europe/London:20240127T130000
DTSTAMP:20260425T152914
CREATED:20230916T171751Z
LAST-MODIFIED:20230916T172038Z
UID:3176-1706349600-1706360400@transitionwoodbridge.org.uk
SUMMARY:Apple and Pear Grafting for Beginners
DESCRIPTION:
URL:https://transitionwoodbridge.org.uk/event/apple-and-pear-grafting-for-beginners/
LOCATION:Waldringfield
CATEGORIES:Upcoming
ATTACH;FMTTYPE=image/jpeg:https://transitionwoodbridge.org.uk/wp-content/uploads/2019/07/Transistion-Woodbridge_LOGO-2.jpg
END:VEVENT
BEGIN:VEVENT
DTSTART;VALUE=DATE:20240127
DTEND;VALUE=DATE:20240128
DTSTAMP:20260425T152914
CREATED:20240107T133645Z
LAST-MODIFIED:20240107T133645Z
UID:3404-1706313600-1706399999@transitionwoodbridge.org.uk
SUMMARY:Pot Belled Baskets Course
DESCRIPTION:
URL:https://transitionwoodbridge.org.uk/event/pot-belled-baskets-course/
LOCATION:Wakelyns Farm
CATEGORIES:Upcoming
ATTACH;FMTTYPE=image/jpeg:https://transitionwoodbridge.org.uk/wp-content/uploads/2019/07/Transistion-Woodbridge_LOGO-2.jpg
END:VEVENT
BEGIN:VEVENT
DTSTART;TZID=Europe/London:20240126T100000
DTEND;TZID=Europe/London:20240126T150000
DTSTAMP:20260425T152914
CREATED:20231127T200558Z
LAST-MODIFIED:20231127T200558Z
UID:3353-1706263200-1706281200@transitionwoodbridge.org.uk
SUMMARY:Heathland conservation task\, Upper Hollesley Common
DESCRIPTION:Heathland conservation task\, Upper Hollesley Common\, Friday 26 January 10:00-15:00. This has been arranged by ESC on behalf of the Greenprint Forum\, with east Suffolk’s Countryside Team hosted at ESSL. This site is part of the Sutton & Hollesley Site of Special Scientific Interest (SSSI) and a site of international importance for lowland heath. Goats help to manage the site during the spring and summer\, with additional manual removal of small conifer saplings required to help conserve this habitat vital for Priority species such as Nightjars and Woodlarks. Flyer: Greenprint-UHC-work-party-260123.pdf (eastsuffolk.gov.uk)
URL:https://transitionwoodbridge.org.uk/event/heathland-conservation-task-upper-hollesley-common/
LOCATION:Upper Hollesley Common
CATEGORIES:Upcoming
ATTACH;FMTTYPE=image/jpeg:https://transitionwoodbridge.org.uk/wp-content/uploads/2019/07/Transistion-Woodbridge_LOGO-2.jpg
ORGANIZER;CN="East Suffolk Council Greenprint Forum":MAILTO:greenissues@eastsuffolk.gov.uk
END:VEVENT
BEGIN:VEVENT
DTSTART;VALUE=DATE:20240120
DTEND;VALUE=DATE:20240121
DTSTAMP:20260425T152914
CREATED:20240107T133521Z
LAST-MODIFIED:20240107T133521Z
UID:3401-1705708800-1705795199@transitionwoodbridge.org.uk
SUMMARY:Living Willow Tunnels and Archways Course
DESCRIPTION:
URL:https://transitionwoodbridge.org.uk/event/living-willow-tunnels-and-archways-course/
LOCATION:Wakelyns Farm
CATEGORIES:Upcoming
ATTACH;FMTTYPE=image/jpeg:https://transitionwoodbridge.org.uk/wp-content/uploads/2019/07/Transistion-Woodbridge_LOGO-2.jpg
END:VEVENT
BEGIN:VEVENT
DTSTART;TZID=Europe/London:20240118T193000
DTEND;TZID=Europe/London:20240118T203000
DTSTAMP:20260425T152914
CREATED:20240108T133906Z
LAST-MODIFIED:20240108T133906Z
UID:3425-1705606200-1705609800@transitionwoodbridge.org.uk
SUMMARY:Martlesham Wilds – a new reserve where nature will thrive
DESCRIPTION:Martlesham Wilds – a new reserve where nature will thrive \n  \nThere will be a chance to hear more about Suffolk Wildlife Trust’s plans for their new Martlesham Wilds Reserve when Andrew Excell from the Trust presents a talk entitled “Martlesham Wilds – a true wild space to help nature recovery right on our doorstep” at Woodbridge Community Hall\, Station Road\, IP12 4AU on Thursday 18 January 2024\, starting at 7.30 pm. \n\nPhil Smith\, Chairman of Suffolk Wildlife Trust’s Woodbridge Wildlife Group\, who have organised the talk\, said “Following the tremendous support Suffolk Wildlife Trust received with their fundraising campaign to buy the reserve\, it will be great to hear more about the their exciting plans to develop the space for wildlife.” \n\nMr Smith continued “Following the talk\, we will be holding an Auction of Promises\, which we hope will provide some entertainment as well as raising funds to assist with the work planned at Martlesham Wilds over the coming months. A range of local businesses have supported us by donating ‘lots’ for the auction including hairdressers\, garden centres\, tourist attractions and breweries. There really will be something for everyone at the Auction and card payment for lots will be accepted on the evening” \n\nAdmission to the evening is £3 for adults\, with Under 25’s free.  Light refreshments will be served and there will be a raffle.   Doors open at 7 pm.  There is no need to book for this event. \n\nFor further information please e mail swtwoodbridge@outlook.com or telephone 01473 625630.
URL:https://transitionwoodbridge.org.uk/event/martlesham-wilds-a-new-reserve-where-nature-will-thrive/
LOCATION:Woodbridge Community Hall\, Station Road\, Woodbridge\, Suffolk\, IP12 4AU
CATEGORIES:Upcoming
ATTACH;FMTTYPE=image/jpeg:https://transitionwoodbridge.org.uk/wp-content/uploads/2019/07/Transistion-Woodbridge_LOGO-2.jpg
ORGANIZER;CN="Suffolk Wildlife Trust":MAILTO:info@suffolkwildlifetrust.org
END:VEVENT
BEGIN:VEVENT
DTSTART;TZID=Europe/London:20240115T100000
DTEND;TZID=Europe/London:20240115T120000
DTSTAMP:20260425T152914
CREATED:20240110T065245Z
LAST-MODIFIED:20240110T065245Z
UID:3494-1705312800-1705320000@transitionwoodbridge.org.uk
SUMMARY:Winter Walk\, bird sightings with Chris Baldry. 10:00 Meet at corner of Fish Pond Road & Sandy Lane\, walk towards the Maybush via river wall.
DESCRIPTION:Winter Walk\, bird sightings with Chris Baldry. 10:00 Meet at corner of Fish Pond Road & Sandy Lane\, walk towards the Maybush via river wall. \n  \n\nWaldringfield Wildlife Group exists to conserve\, enhance and record the local wildlife; to protect wildlife habitats and encourage biodiversity; to encourage wildlife-friendly management of land\, gardens and public spaces and to encourage a greater interest in the knowledge and love of wildlife in general. \nMeetings & Talks are in the Deben Hall at the Village Hall. \nMembers meetings start at 10.00am which precede the talks. Refreshment break 10.45am. \nTalks start at 11.00am unless otherwise stated. Members: No charge.     Visitors welcome. \nAdmission charge: £3.00 for visitors and non-members. Field Trips: Please inform Linda Wilkins or Jill Winter you are joining any of the field trips/guided tours. \nNote: Priority to paid up members for all field trips. \nNew members welcome: Annual Membership £10. \n  \nFor further details contact: The Coordinator: Linda Wilkins 01473736044 mob:07788286482 linda.thequay@btinternet.com \nSecretary: Jill Winter 01473 736125      jillwinter2@gmail.com \nTreasurer: Alexis Smith 01473 736257 g1dik@btinternet.com
URL:https://transitionwoodbridge.org.uk/event/winter-walk-bird-sightings-with-chris-baldry-1000-meet-at-corner-of-fish-pond-road-sandy-lane-walk-towards-the-maybush-via-river-wall/
LOCATION:Waldringfield
CATEGORIES:Upcoming
ATTACH;FMTTYPE=image/jpeg:https://transitionwoodbridge.org.uk/wp-content/uploads/2019/07/Transistion-Woodbridge_LOGO-2.jpg
END:VEVENT
BEGIN:VEVENT
DTSTART;TZID=Europe/London:20240113T100000
DTEND;TZID=Europe/London:20240113T120000
DTSTAMP:20260425T152914
CREATED:20230405T110147Z
LAST-MODIFIED:20231117T093906Z
UID:2845-1705140000-1705147200@transitionwoodbridge.org.uk
SUMMARY:Martlesham Repair Hub
DESCRIPTION:
URL:https://transitionwoodbridge.org.uk/event/martlesham-repair-hub-note-venue-change-9/
LOCATION:Martlesham Parish Rooms\, Felixstowe Road\,\, Martlesham\, Suffolk\, IP12 4PB
CATEGORIES:Upcoming
ATTACH;FMTTYPE=image/jpeg:https://transitionwoodbridge.org.uk/wp-content/uploads/2019/07/Transistion-Woodbridge_LOGO-2.jpg
ORGANIZER;CN="Martlesham Climate Action":MAILTO:martleshamclimateaction@btinternet.com
END:VEVENT
BEGIN:VEVENT
DTSTART;TZID=Europe/London:20240113T093000
DTEND;TZID=Europe/London:20240113T150000
DTSTAMP:20260425T152914
CREATED:20230916T172002Z
LAST-MODIFIED:20230916T172014Z
UID:3178-1705138200-1705158000@transitionwoodbridge.org.uk
SUMMARY:Learn to Prune Apple and Pear Trees
DESCRIPTION:
URL:https://transitionwoodbridge.org.uk/event/learn-to-prune-apple-and-pear-trees/
LOCATION:Newbourne
CATEGORIES:Upcoming
ATTACH;FMTTYPE=image/jpeg:https://transitionwoodbridge.org.uk/wp-content/uploads/2019/07/Transistion-Woodbridge_LOGO-2.jpg
END:VEVENT
BEGIN:VEVENT
DTSTART;TZID=Europe/London:20240112T190000
DTEND;TZID=Europe/London:20240112T210000
DTSTAMP:20260425T152914
CREATED:20231216T122526Z
LAST-MODIFIED:20240107T132950Z
UID:3394-1705086000-1705093200@transitionwoodbridge.org.uk
SUMMARY:Transition Woodbridge Planning Meeting
DESCRIPTION:The next meeting will be held at British Legion\, Thoroughfare 7pm on Friday 12th January.  Come and share your ideas!   \nItems for discussion: \nScattered Orchards Tree planting and maintenance\nLocal Food Project\nSaturdays at Pod\nGreening the Thoroughfare\nWildlife Corridors \nJane\, Carol and Wendy
URL:https://transitionwoodbridge.org.uk/event/transition-woodbridge-planning-meeting/
LOCATION:The Royal British Legion\, 81 Thoroughfare\,\, Woodbridge\, Suffolk\, IP12 1AH
CATEGORIES:Upcoming
ATTACH;FMTTYPE=image/jpeg:https://transitionwoodbridge.org.uk/wp-content/uploads/2019/07/Transistion-Woodbridge_LOGO-2.jpg
ORGANIZER;CN="Transition Woodbridge":MAILTO:hello@transitionwoodbridge.org.uk
END:VEVENT
END:VCALENDAR