BEGIN:VCALENDAR
VERSION:2.0
PRODID:-//Transition Woodbridge - ECPv6.15.20//NONSGML v1.0//EN
CALSCALE:GREGORIAN
METHOD:PUBLISH
X-WR-CALNAME:Transition Woodbridge
X-ORIGINAL-URL:https://transitionwoodbridge.org.uk
X-WR-CALDESC:Events for Transition Woodbridge
REFRESH-INTERVAL;VALUE=DURATION:PT1H
X-Robots-Tag:noindex
X-PUBLISHED-TTL:PT1H
BEGIN:VTIMEZONE
TZID:Europe/London
BEGIN:DAYLIGHT
TZOFFSETFROM:+0000
TZOFFSETTO:+0100
TZNAME:BST
DTSTART:20230326T010000
END:DAYLIGHT
BEGIN:STANDARD
TZOFFSETFROM:+0100
TZOFFSETTO:+0000
TZNAME:GMT
DTSTART:20231029T010000
END:STANDARD
BEGIN:DAYLIGHT
TZOFFSETFROM:+0000
TZOFFSETTO:+0100
TZNAME:BST
DTSTART:20240331T010000
END:DAYLIGHT
BEGIN:STANDARD
TZOFFSETFROM:+0100
TZOFFSETTO:+0000
TZNAME:GMT
DTSTART:20241027T010000
END:STANDARD
BEGIN:DAYLIGHT
TZOFFSETFROM:+0000
TZOFFSETTO:+0100
TZNAME:BST
DTSTART:20250330T010000
END:DAYLIGHT
BEGIN:STANDARD
TZOFFSETFROM:+0100
TZOFFSETTO:+0000
TZNAME:GMT
DTSTART:20251026T010000
END:STANDARD
END:VTIMEZONE
BEGIN:VEVENT
DTSTART;VALUE=DATE:20240728
DTEND;VALUE=DATE:20240729
DTSTAMP:20260425T131718
CREATED:20240110T063239Z
LAST-MODIFIED:20240110T063253Z
UID:3464-1722124800-1722211199@transitionwoodbridge.org.uk
SUMMARY:Wakelyns Tree Walk
DESCRIPTION:
URL:https://transitionwoodbridge.org.uk/event/3464/
LOCATION:Wakelyns Farm
CATEGORIES:Upcoming
ATTACH;FMTTYPE=image/jpeg:https://transitionwoodbridge.org.uk/wp-content/uploads/2019/07/Transistion-Woodbridge_LOGO-2.jpg
END:VEVENT
BEGIN:VEVENT
DTSTART;VALUE=DATE:20240728
DTEND;VALUE=DATE:20240729
DTSTAMP:20260425T131718
CREATED:20240110T063430Z
LAST-MODIFIED:20240110T063430Z
UID:3468-1722124800-1722211199@transitionwoodbridge.org.uk
SUMMARY:Willow Dragonfly Course
DESCRIPTION:
URL:https://transitionwoodbridge.org.uk/event/willow-dragonfly-course/
LOCATION:Wakelyns Farm
CATEGORIES:Upcoming
ATTACH;FMTTYPE=image/jpeg:https://transitionwoodbridge.org.uk/wp-content/uploads/2019/07/Transistion-Woodbridge_LOGO-2.jpg
END:VEVENT
BEGIN:VEVENT
DTSTART;TZID=Europe/London:20240728T093000
DTEND;TZID=Europe/London:20240728T173000
DTSTAMP:20260425T131718
CREATED:20240110T063051Z
LAST-MODIFIED:20240702T100100Z
UID:3461-1722159000-1722187800@transitionwoodbridge.org.uk
SUMMARY:Wakelyns Bird & Butterfly Walk
DESCRIPTION:
URL:https://transitionwoodbridge.org.uk/event/wakelyns-bird-butterly-walk/
LOCATION:Wakelyns Farm
CATEGORIES:Upcoming
ATTACH;FMTTYPE=image/jpeg:https://transitionwoodbridge.org.uk/wp-content/uploads/2019/07/Transistion-Woodbridge_LOGO-2.jpg
END:VEVENT
BEGIN:VEVENT
DTSTART;TZID=Europe/London:20240728T100000
DTEND;TZID=Europe/London:20240728T120000
DTSTAMP:20260425T131718
CREATED:20231114T121701Z
LAST-MODIFIED:20231114T121701Z
UID:3283-1722160800-1722168000@transitionwoodbridge.org.uk
SUMMARY:Rubbish Walk Woodbridge
DESCRIPTION:Join Jason on a litterpick around Woodbridge on the last Sunday of every month. Leave from the Tea Hut by the river at 10am.
URL:https://transitionwoodbridge.org.uk/event/rubbish-walk-woodbridge-9/
LOCATION:The Tea Hut\, The Tea Hut\, River Wall\, Woodbridge\, Suffolk\, IP12 4BB\, United Kingdom
CATEGORIES:Upcoming
ATTACH;FMTTYPE=image/jpeg:https://transitionwoodbridge.org.uk/wp-content/uploads/2019/07/Transistion-Woodbridge_LOGO-2.jpg
END:VEVENT
BEGIN:VEVENT
DTSTART;TZID=Europe/London:20240730T100000
DTEND;TZID=Europe/London:20240730T120000
DTSTAMP:20260425T131718
CREATED:20240717T152827Z
LAST-MODIFIED:20240717T152827Z
UID:9115-1722333600-1722340800@transitionwoodbridge.org.uk
SUMMARY:Repair Cafe (with Bike Doctor)
DESCRIPTION:The Repair Cafe will be running from ‘Cuppa’ on High Road West again from 10am – 12 noon. If you have anything that you are tempted to chuck away then bring it to be repaired instead. Tea and cake is available to buy in the cafe while you wait.
URL:https://transitionwoodbridge.org.uk/event/repair-cafe-with-bike-doctor/
LOCATION:Cuppa\, 81 High Road West\, Felixstowe\, Suffolk\, IP11 9AA\, United Kingdom
CATEGORIES:Upcoming
ATTACH;FMTTYPE=image/jpeg:https://transitionwoodbridge.org.uk/wp-content/uploads/2024/07/broken.jpg
END:VEVENT
BEGIN:VEVENT
DTSTART;TZID=Europe/London:20240805T100000
DTEND;TZID=Europe/London:20240805T120000
DTSTAMP:20260425T131718
CREATED:20231117T093143Z
LAST-MODIFIED:20231117T093143Z
UID:3310-1722852000-1722859200@transitionwoodbridge.org.uk
SUMMARY:Repair Cafe
DESCRIPTION:
URL:https://transitionwoodbridge.org.uk/event/repair-cafe-8/
LOCATION:St. John’s Church\, St. John's Church\, Woodbridge\, Suffolk\, IP12 1HS\, United Kingdom
CATEGORIES:Upcoming
ATTACH;FMTTYPE=image/jpeg:https://transitionwoodbridge.org.uk/wp-content/uploads/2019/07/Transistion-Woodbridge_LOGO-2.jpg
END:VEVENT
BEGIN:VEVENT
DTSTART;TZID=Europe/London:20240810T100000
DTEND;TZID=Europe/London:20240810T120000
DTSTAMP:20260425T131718
CREATED:20231117T094418Z
LAST-MODIFIED:20231117T094418Z
UID:3333-1723284000-1723291200@transitionwoodbridge.org.uk
SUMMARY:Martlesham Repair Hub
DESCRIPTION:
URL:https://transitionwoodbridge.org.uk/event/martlesham-repair-hub-7/
LOCATION:Martlesham Parish Rooms\, Felixstowe Road\,\, Martlesham\, Suffolk\, IP12 4PB
CATEGORIES:Upcoming
ATTACH;FMTTYPE=image/jpeg:https://transitionwoodbridge.org.uk/wp-content/uploads/2019/07/Transistion-Woodbridge_LOGO-2.jpg
ORGANIZER;CN="Martlesham Climate Action":MAILTO:martleshamclimateaction@btinternet.com
END:VEVENT
BEGIN:VEVENT
DTSTART;TZID=Europe/London:20240811T100000
DTEND;TZID=Europe/London:20240811T130000
DTSTAMP:20260425T131718
CREATED:20240625T121753Z
LAST-MODIFIED:20240625T122507Z
UID:8131-1723370400-1723381200@transitionwoodbridge.org.uk
SUMMARY:Open Day at Fromus Valley
DESCRIPTION:Suffolk Flora Preservation Trust are holding an open day at their two private nature reserves in Kelsale and Hasketon for the public to see the reserves and their flora and ponds. \nThe first is in the morning 10:00-13:00 at Simpson’s Fromus valley in Kelsale to see plants\, trees and rivers at the reserve (Main Road\, Kelsale\, Saxmundham IP17 2RG) and the second will be in the afternoon 14:00-17:00 at Orchid Glade in Hasketon (Boulge Road\, Hasketon\, Woodbridge IP13 6JS). \nFind out more here.
URL:https://transitionwoodbridge.org.uk/event/open-day-at-fromus-valley/
LOCATION:Simpson’s Frοmus Valley\, Main Road\, Kelsale\, Suffolk\, IP17 2RG\, United Kingdom
CATEGORIES:Upcoming
ATTACH;FMTTYPE=image/jpeg:https://transitionwoodbridge.org.uk/wp-content/uploads/2019/07/Transistion-Woodbridge_LOGO-2.jpg
END:VEVENT
BEGIN:VEVENT
DTSTART;TZID=Europe/London:20240811T140000
DTEND;TZID=Europe/London:20240811T170000
DTSTAMP:20260425T131718
CREATED:20240625T122403Z
LAST-MODIFIED:20240625T122403Z
UID:8135-1723384800-1723395600@transitionwoodbridge.org.uk
SUMMARY:Open Day at Orchid Glade
DESCRIPTION:Suffolk Flora Preservation Trust are holding an open day at their two private nature reserves in Kelsale and Hasketon for the public to see the reserves and their flora and ponds. \nThe first is in the morning 10:00-13:00 at Simpson’s Fromus valley in Kelsale to see plants\, trees and rivers at the reserve (Main Road\, Kelsale\, Saxmundham IP17 2RG) and the second will be in the afternoon 14:00-17:00 at Orchid Glade in Hasketon (Boulge Road\, Hasketon\, Woodbridge IP13 6JS). \nFind out more here.
URL:https://transitionwoodbridge.org.uk/event/open-day-at-orchid-glade/
LOCATION:Orchid Glade\, Boulge Road\, Hasketon\, Suffolk\, IP13 6JS\, United Kingdom
CATEGORIES:Upcoming
ATTACH;FMTTYPE=image/jpeg:https://transitionwoodbridge.org.uk/wp-content/uploads/2019/07/Transistion-Woodbridge_LOGO-2.jpg
END:VEVENT
BEGIN:VEVENT
DTSTART;TZID=Europe/London:20240816T200000
DTEND;TZID=Europe/London:20240816T210000
DTSTAMP:20260425T131718
CREATED:20240625T123718Z
LAST-MODIFIED:20240625T123718Z
UID:8142-1723838400-1723842000@transitionwoodbridge.org.uk
SUMMARY:Bat Walk at Oulton Broad
DESCRIPTION:Join East Suffolk’s Countryside Ranger\, Matt O’Connell\, on this evening walk around Woods Meadow Country Park at dusk and find out more about bats and their habits\, at this countryside site on the edge of Suffolk’s second biggest town. Hopefully bats will be detected while foraging\, using a bat detector. \nFind out more and book your place.
URL:https://transitionwoodbridge.org.uk/event/bat-walk-at-oulton-broad/
LOCATION:Woods Meadow Country Park\, Oulton Broad\, Lowestoft\, Suffolk\, United Kingdom
CATEGORIES:Upcoming
ATTACH;FMTTYPE=image/jpeg:https://transitionwoodbridge.org.uk/wp-content/uploads/2019/07/Transistion-Woodbridge_LOGO-2.jpg
END:VEVENT
BEGIN:VEVENT
DTSTART;TZID=Europe/London:20240824T100000
DTEND;TZID=Europe/London:20240824T123000
DTSTAMP:20260425T131718
CREATED:20240814T170231Z
LAST-MODIFIED:20240814T170231Z
UID:12548-1724493600-1724502600@transitionwoodbridge.org.uk
SUMMARY:Nature walk at Martlesham Wilds Reserve
DESCRIPTION:Discover the wildlife at this fascinating reserve on the banks of the River Deben\, which is just beginning its transformation from organic farm to nature reserve. \nNote: the footpaths are uneven\, so please wear stout and waterproof footwear. Please bring binoculars if you have them\, wear a sun hat and bring a drink. Total distance of walk: approximately 3km. \nAdults: £5\nUnder-25s: Free \nFind out more and book your place.
URL:https://transitionwoodbridge.org.uk/event/nature-walk-at-martlesham-wilds-reserve/
LOCATION:Martlesham Wilds
CATEGORIES:Upcoming
ATTACH;FMTTYPE=image/jpeg:https://transitionwoodbridge.org.uk/wp-content/uploads/2024/08/walking-small.jpg
ORGANIZER;CN="Suffolk Wildlife Trust":MAILTO:info@suffolkwildlifetrust.org
END:VEVENT
BEGIN:VEVENT
DTSTART;TZID=Europe/London:20240825T100000
DTEND;TZID=Europe/London:20240825T120000
DTSTAMP:20260425T131718
CREATED:20231114T121746Z
LAST-MODIFIED:20231114T121746Z
UID:3285-1724580000-1724587200@transitionwoodbridge.org.uk
SUMMARY:Rubbish Walk Woodbridge
DESCRIPTION:Join Jason on a litterpick around Woodbridge on the last Sunday of every month. Leave from the Tea Hut by the river at 10am.
URL:https://transitionwoodbridge.org.uk/event/rubbish-walk-woodbridge-10/
LOCATION:The Tea Hut\, The Tea Hut\, River Wall\, Woodbridge\, Suffolk\, IP12 4BB\, United Kingdom
CATEGORIES:Upcoming
ATTACH;FMTTYPE=image/jpeg:https://transitionwoodbridge.org.uk/wp-content/uploads/2019/07/Transistion-Woodbridge_LOGO-2.jpg
END:VEVENT
BEGIN:VEVENT
DTSTART;VALUE=DATE:20240831
DTEND;VALUE=DATE:20240901
DTSTAMP:20260425T131718
CREATED:20240110T063750Z
LAST-MODIFIED:20240110T063750Z
UID:3474-1725062400-1725148799@transitionwoodbridge.org.uk
SUMMARY:Wakelyns Tree Walk
DESCRIPTION:
URL:https://transitionwoodbridge.org.uk/event/wakelyns-tree-walk-2/
LOCATION:Wakelyns Farm
CATEGORIES:Upcoming
ATTACH;FMTTYPE=image/jpeg:https://transitionwoodbridge.org.uk/wp-content/uploads/2019/07/Transistion-Woodbridge_LOGO-2.jpg
END:VEVENT
BEGIN:VEVENT
DTSTART;VALUE=DATE:20240831
DTEND;VALUE=DATE:20240901
DTSTAMP:20260425T131718
CREATED:20240110T063905Z
LAST-MODIFIED:20240110T063905Z
UID:3477-1725062400-1725148799@transitionwoodbridge.org.uk
SUMMARY:Hazel Handled Basket Oval Course
DESCRIPTION:
URL:https://transitionwoodbridge.org.uk/event/hazel-handled-basket-oval-course/
LOCATION:Wakelyns Farm
CATEGORIES:Upcoming
ATTACH;FMTTYPE=image/jpeg:https://transitionwoodbridge.org.uk/wp-content/uploads/2019/07/Transistion-Woodbridge_LOGO-2.jpg
END:VEVENT
BEGIN:VEVENT
DTSTART;TZID=Europe/London:20240831T080000
DTEND;TZID=Europe/London:20240831T170000
DTSTAMP:20260425T131718
CREATED:20240110T063602Z
LAST-MODIFIED:20240110T063602Z
UID:3471-1725091200-1725123600@transitionwoodbridge.org.uk
SUMMARY:Wakelyns Bird & Nature Walk
DESCRIPTION:
URL:https://transitionwoodbridge.org.uk/event/wakelyns-bird-nature-walk/
LOCATION:Wakelyns Farm
CATEGORIES:Upcoming
ATTACH;FMTTYPE=image/jpeg:https://transitionwoodbridge.org.uk/wp-content/uploads/2019/07/Transistion-Woodbridge_LOGO-2.jpg
END:VEVENT
BEGIN:VEVENT
DTSTART;TZID=Europe/London:20240902T100000
DTEND;TZID=Europe/London:20240902T120000
DTSTAMP:20260425T131718
CREATED:20231117T093230Z
LAST-MODIFIED:20231117T093230Z
UID:3312-1725271200-1725278400@transitionwoodbridge.org.uk
SUMMARY:Repair Cafe
DESCRIPTION:
URL:https://transitionwoodbridge.org.uk/event/repair-cafe-10/
LOCATION:St. John’s Church\, St. John's Church\, Woodbridge\, Suffolk\, IP12 1HS\, United Kingdom
CATEGORIES:Upcoming
ATTACH;FMTTYPE=image/jpeg:https://transitionwoodbridge.org.uk/wp-content/uploads/2019/07/Transistion-Woodbridge_LOGO-2.jpg
END:VEVENT
BEGIN:VEVENT
DTSTART;VALUE=DATE:20240907
DTEND;VALUE=DATE:20240909
DTSTAMP:20260425T131718
CREATED:20240110T064108Z
LAST-MODIFIED:20240110T064108Z
UID:3480-1725667200-1725839999@transitionwoodbridge.org.uk
SUMMARY:Wakelyns Rustic Rendezvous Weekend
DESCRIPTION:
URL:https://transitionwoodbridge.org.uk/event/wakelyns-rustic-rendezvous-weekend/
LOCATION:Wakelyns Farm
CATEGORIES:Upcoming
ATTACH;FMTTYPE=image/jpeg:https://transitionwoodbridge.org.uk/wp-content/uploads/2019/07/Transistion-Woodbridge_LOGO-2.jpg
END:VEVENT
BEGIN:VEVENT
DTSTART;TZID=Europe/London:20240908T093000
DTEND;TZID=Europe/London:20240908T160000
DTSTAMP:20260425T131718
CREATED:20240625T132503Z
LAST-MODIFIED:20240625T132503Z
UID:8150-1725787800-1725811200@transitionwoodbridge.org.uk
SUMMARY:Marine Mammal Medic Training in Felixstowe
DESCRIPTION:Are you interested in volunteering and training as a Marine Mammal Medic? British Divers Marine Life Rescue are pleased to announce their second Suffolk training course for 2024. Volunteers will learn rescue techniques for seals\, dolphins and whales. \nFind out more and book your place.
URL:https://transitionwoodbridge.org.uk/event/marine-mammal-medic-training-in-felixstowe/
LOCATION:Manor Terrace Beach\, Felixstowe\, Suffolk\, United Kingdom
CATEGORIES:Upcoming
ATTACH;FMTTYPE=image/jpeg:https://transitionwoodbridge.org.uk/wp-content/uploads/2024/06/seal.jpg
ORGANIZER;CN="British Divers Marine Life Rescue":MAILTO:info@bdmlr.org.uk
END:VEVENT
BEGIN:VEVENT
DTSTART;TZID=Europe/London:20240914T100000
DTEND;TZID=Europe/London:20240914T120000
DTSTAMP:20260425T131718
CREATED:20231117T094542Z
LAST-MODIFIED:20231117T094542Z
UID:3335-1726308000-1726315200@transitionwoodbridge.org.uk
SUMMARY:Martlesham Repair Hub
DESCRIPTION:
URL:https://transitionwoodbridge.org.uk/event/martlesham-repair-hub-8/
LOCATION:Martlesham Parish Rooms\, Felixstowe Road\,\, Martlesham\, Suffolk\, IP12 4PB
CATEGORIES:Upcoming
ATTACH;FMTTYPE=image/jpeg:https://transitionwoodbridge.org.uk/wp-content/uploads/2019/07/Transistion-Woodbridge_LOGO-2.jpg
ORGANIZER;CN="Martlesham Climate Action":MAILTO:martleshamclimateaction@btinternet.com
END:VEVENT
BEGIN:VEVENT
DTSTART;TZID=Europe/London:20240914T100000
DTEND;TZID=Europe/London:20240914T160000
DTSTAMP:20260425T131718
CREATED:20240603T133922Z
LAST-MODIFIED:20240910T153327Z
UID:7961-1726308000-1726329600@transitionwoodbridge.org.uk
SUMMARY:Harvest Fair
DESCRIPTION:Transition Woodbridge welcomes some of our area’s finest food and drink producers to our Harvest Fair on Saturday 14th September\, 10am-4pm at Woodbridge Community Hall. \nGuests in the Main Hall include Hullabaloo Bakery\, High House Fruit Farm\, Oak Tree Community Farm\, Woodbridge Tide Mill\, Oakdene Honey\, Anglian Organics\, Sandlings Saffron\, Woodbridge Country Market and Truly Unique Pasta.* \nMeanwhile\, the Hall Annexe hosts an exciting programme of talks and short films specifically aimed at teenagers and young adults – you can read the full programme here. We’ll also have refreshments courtesy of Woodbridge Country Market\, ambient music from Jan Pulsford\, bird walks with Suffolk Bird Group\, and children’s activities. \nThe event is free\, accessible and open to all. We are grateful to Woodbridge Town Council and Suffolk & Essex Coast & Heaths National Landscape for supporting this event. \n*You’ll find these and dozens more local producers in our Local Food & Drink Project leaflet. \n 
URL:https://transitionwoodbridge.org.uk/event/harvest-fair/
LOCATION:Woodbridge Community Hall\, Station Road\, Woodbridge\, Suffolk\, IP12 4AU
CATEGORIES:Upcoming
ATTACH;FMTTYPE=image/jpeg:https://transitionwoodbridge.org.uk/wp-content/uploads/2024/06/harvest.jpg
ORGANIZER;CN="Transition Woodbridge":MAILTO:hello@transitionwoodbridge.org.uk
END:VEVENT
BEGIN:VEVENT
DTSTART;TZID=Europe/London:20240915T100000
DTEND;TZID=Europe/London:20240915T130000
DTSTAMP:20260425T131718
CREATED:20240625T133817Z
LAST-MODIFIED:20240625T133817Z
UID:8157-1726394400-1726405200@transitionwoodbridge.org.uk
SUMMARY:Fromus Blackberry Day
DESCRIPTION:Suffolk Flora Preservation Trust offers an Open Day on Sunday 15th September at Simpson’s Fromus Nature Reserve. Just in time for blackberry picking!
URL:https://transitionwoodbridge.org.uk/event/fromus-blackberry-day/
LOCATION:Simpson’s Frοmus Valley\, Main Road\, Kelsale\, Suffolk\, IP17 2RG\, United Kingdom
CATEGORIES:Upcoming
ATTACH;FMTTYPE=image/jpeg:https://transitionwoodbridge.org.uk/wp-content/uploads/2024/06/blackberries.jpg
END:VEVENT
BEGIN:VEVENT
DTSTART;TZID=Europe/London:20240917T100000
DTEND;TZID=Europe/London:20240917T120000
DTSTAMP:20260425T131718
CREATED:20240814T170619Z
LAST-MODIFIED:20240814T170619Z
UID:12553-1726567200-1726574400@transitionwoodbridge.org.uk
SUMMARY:Discover Martlesham Wilds
DESCRIPTION:Join our Martlesham Wilds Engagement volunteers on a walk to experience this landscape rich in nature and brimming with history. Hear about plans to create the wildness that nature needs\, and how nature is already leading the way in this journey of recovery. The walk is about 2 miles long and there will be plenty of opportunities to talk and ask questions. \nFind out more and book your place.
URL:https://transitionwoodbridge.org.uk/event/discover-martlesham-wilds/
LOCATION:Martlesham Wilds
CATEGORIES:Upcoming
ATTACH;FMTTYPE=image/jpeg:https://transitionwoodbridge.org.uk/wp-content/uploads/2024/08/walking-small.jpg
ORGANIZER;CN="Suffolk Wildlife Trust":MAILTO:info@suffolkwildlifetrust.org
END:VEVENT
BEGIN:VEVENT
DTSTART;VALUE=DATE:20240921
DTEND;VALUE=DATE:20240922
DTSTAMP:20260425T131718
CREATED:20240110T064303Z
LAST-MODIFIED:20240110T064303Z
UID:3483-1726876800-1726963199@transitionwoodbridge.org.uk
SUMMARY:Norfolk Baskets Oval Course
DESCRIPTION:
URL:https://transitionwoodbridge.org.uk/event/norfolk-baskets-oval-course/
LOCATION:Wakelyns Farm
CATEGORIES:Upcoming
ATTACH;FMTTYPE=image/jpeg:https://transitionwoodbridge.org.uk/wp-content/uploads/2019/07/Transistion-Woodbridge_LOGO-2.jpg
END:VEVENT
BEGIN:VEVENT
DTSTART;TZID=Europe/London:20240926T130000
DTEND;TZID=Europe/London:20240926T150000
DTSTAMP:20260425T131718
CREATED:20240923T130355Z
LAST-MODIFIED:20240923T132732Z
UID:14307-1727355600-1727362800@transitionwoodbridge.org.uk
SUMMARY:Guided tour of water treatment works
DESCRIPTION:A tour of a water treatment works is a fascinating journey into how drinking water is purified and made safe for consumption. Our hosts\, Essex & Suffolk Water\, will tell us about the importance of water treatment\, the sources of raw water (like rivers\, lakes\, or reservoirs)\, and the basic steps involved in making water safe to use. \nThis visit\, arranged on behalf of the Greenprint Forum\, is a great opportunity to delve deeper into any specific aspects of the water treatment process. \nRegistration is essential.
URL:https://transitionwoodbridge.org.uk/event/guided-tour-of-water-treatment-work/
LOCATION:Water Treatment Works Lound\, Mill House\, Yarmouth Road\, Lound\, NR32 5LZ
CATEGORIES:Upcoming
ATTACH;FMTTYPE=image/jpeg:https://transitionwoodbridge.org.uk/wp-content/uploads/2024/09/wasser.jpg
ORGANIZER;CN="East Suffolk Council Greenprint Forum":MAILTO:greenissues@eastsuffolk.gov.uk
END:VEVENT
BEGIN:VEVENT
DTSTART;VALUE=DATE:20240927
DTEND;VALUE=DATE:20240930
DTSTAMP:20260425T131718
CREATED:20240923T131125Z
LAST-MODIFIED:20240923T133204Z
UID:14311-1727395200-1727654399@transitionwoodbridge.org.uk
SUMMARY:Climate Action Conference
DESCRIPTION:Following on from the success of last year\, Halesworth Climate Action Conference II will take place over the weekend of Friday 27 – Sunday 29 September in St Mary’s Church\, Halesworth. \nThe particular focus this year is on land and food. How does what we grow and eat affect our health as producers and consumers? How does land use for power generation\, or recreation\, or nature preservation impact on the local environment; on biodiversity and climate? Our national\, local and personal choices are crucial but not straightforward. So what are the issues\, and what solutions are possible? \nFind out more.
URL:https://transitionwoodbridge.org.uk/event/climate-action-conference/
LOCATION:St Mary’s Church\, Halesworth\, Steeple End\, Halesworth\, IP19 8LL
CATEGORIES:Upcoming
ATTACH;FMTTYPE=image/png:https://transitionwoodbridge.org.uk/wp-content/uploads/2024/09/halesworth.png
ORGANIZER;CN="Halesworth Area Sustainability Hub":MAILTO:halesworthash@gmail.com
END:VEVENT
BEGIN:VEVENT
DTSTART;TZID=Europe/London:20240928T141500
DTEND;TZID=Europe/London:20240928T161500
DTSTAMP:20260425T131718
CREATED:20240909T095951Z
LAST-MODIFIED:20240909T100330Z
UID:13982-1727532900-1727540100@transitionwoodbridge.org.uk
SUMMARY:Herbal Tea Making Workshop
DESCRIPTION:Join herbalist Rachel Bescoby for a relaxed afternoon learning about the history\, folklore and medicinal uses of a number of herbs. You will discover the principles of blending herbs to make tea blends that are safe\, effective and delicious and gain confidence in how to mindfully select herbs and create unique well-balanced tea blends to support your own emotional and physical wellbeing. \nYou will have the opportunity to create your own tea blend from a selection of herbs and take home a small pouch of the tea you have created\, your mug from the workshop\, a tea infuser and written information including recipes so that you can continue on your journey of herbal tea exploration. \nIn addition to the pouch of your own tea blend\, mug and infuser which are included in the ticket price\, there will also be 10% off any of any other herbs and other tea making accessories available at the workshop. \nFind out more and book a ticket.
URL:https://transitionwoodbridge.org.uk/event/herbal-tea-making-workshop/
LOCATION:Maeve’s Tea Room\, Woodbridge\, Suffolk\, IP12 1AL\, United Kingdom
CATEGORIES:Upcoming
ATTACH;FMTTYPE=image/jpeg:https://transitionwoodbridge.org.uk/wp-content/uploads/2024/09/herbal.jpg
END:VEVENT
BEGIN:VEVENT
DTSTART;TZID=Europe/London:20240929T100000
DTEND;TZID=Europe/London:20240929T120000
DTSTAMP:20260425T131718
CREATED:20231114T121826Z
LAST-MODIFIED:20231114T121826Z
UID:3287-1727604000-1727611200@transitionwoodbridge.org.uk
SUMMARY:Rubbish Walk Woodbridge
DESCRIPTION:Join Jason on a litterpick around Woodbridge on the last Sunday of every month. Leave from the Tea Hut by the river at 10am.
URL:https://transitionwoodbridge.org.uk/event/rubbish-walk-woodbridge-11/
LOCATION:The Tea Hut\, The Tea Hut\, River Wall\, Woodbridge\, Suffolk\, IP12 4BB\, United Kingdom
CATEGORIES:Upcoming
ATTACH;FMTTYPE=image/jpeg:https://transitionwoodbridge.org.uk/wp-content/uploads/2019/07/Transistion-Woodbridge_LOGO-2.jpg
END:VEVENT
BEGIN:VEVENT
DTSTART;TZID=Europe/London:20240929T110000
DTEND;TZID=Europe/London:20240929T150000
DTSTAMP:20260425T131718
CREATED:20240923T131729Z
LAST-MODIFIED:20240923T131729Z
UID:14315-1727607600-1727622000@transitionwoodbridge.org.uk
SUMMARY:Grow\, Cook\, Eat
DESCRIPTION:The community group Edible Felixstowe are holding their inaugural celebration of locally produced food and drink on 29 September\, at Great Eastern Square\, Felixstowe. \nThe event\, Grow\, Cook\, Eat\, will include some free food from locally grown veg\, local food producers and ‘green’ minded stalls\, excess veg and seed swap\, fun activities for adults and kids\, plus a cooking competition – bring along a dish made with something locally grown and maybe amaze the judges! They also hope to have some live music to keep you entertained! \nFind out more.
URL:https://transitionwoodbridge.org.uk/event/grow-cook-eat/
LOCATION:Great Eastern Square\, Hamilton Road\, Felixstowe
CATEGORIES:Upcoming
ATTACH;FMTTYPE=image/png:https://transitionwoodbridge.org.uk/wp-content/uploads/2024/09/grocookeat.png
END:VEVENT
BEGIN:VEVENT
DTSTART;TZID=Europe/London:20241005T130000
DTEND;TZID=Europe/London:20241005T150000
DTSTAMP:20260425T131718
CREATED:20240910T154158Z
LAST-MODIFIED:20240911T075122Z
UID:14059-1728133200-1728140400@transitionwoodbridge.org.uk
SUMMARY:River Clean
DESCRIPTION:On Saturday 5th October\, 1-3pm\, Transition Woodbridge will once again join forces with Woodbridge Sea Scouts for our annual River Clean. The Sea Scouts will be out on the Deben removing rubbish from the water whilst we lead dry-land litter picks from Tide Mill Way. \nMeet at Sea Scouts Hub\, Tide Mill Way\, IP12 1BY. \nCome on foot or afloat to clear rubbish from the river and river wall. Litter picking equipment provided. \nJoin us to help care for our beautiful riverside areas.
URL:https://transitionwoodbridge.org.uk/event/river-clean/
LOCATION:Seascout Hut\, 5-7 Tide Mill Way\,\, Woodbridge\, Suffolk\, IP12 1BY\, United Kingdom
CATEGORIES:Upcoming
ATTACH;FMTTYPE=image/jpeg:https://transitionwoodbridge.org.uk/wp-content/uploads/2024/09/litter.jpg
ORGANIZER;CN="Transition Woodbridge":MAILTO:hello@transitionwoodbridge.org.uk
END:VEVENT
BEGIN:VEVENT
DTSTART;TZID=Europe/London:20241007T100000
DTEND;TZID=Europe/London:20241007T120000
DTSTAMP:20260425T131718
CREATED:20231117T093309Z
LAST-MODIFIED:20231117T093309Z
UID:3314-1728295200-1728302400@transitionwoodbridge.org.uk
SUMMARY:Repair Cafe
DESCRIPTION:
URL:https://transitionwoodbridge.org.uk/event/repair-cafe-11/
LOCATION:St. John’s Church\, St. John's Church\, Woodbridge\, Suffolk\, IP12 1HS\, United Kingdom
CATEGORIES:Upcoming
ATTACH;FMTTYPE=image/jpeg:https://transitionwoodbridge.org.uk/wp-content/uploads/2019/07/Transistion-Woodbridge_LOGO-2.jpg
END:VEVENT
END:VCALENDAR