BEGIN:VCALENDAR
VERSION:2.0
PRODID:-//Transition Woodbridge - ECPv6.15.20//NONSGML v1.0//EN
CALSCALE:GREGORIAN
METHOD:PUBLISH
X-ORIGINAL-URL:https://transitionwoodbridge.org.uk
X-WR-CALDESC:Events for Transition Woodbridge
REFRESH-INTERVAL;VALUE=DURATION:PT1H
X-Robots-Tag:noindex
X-PUBLISHED-TTL:PT1H
BEGIN:VTIMEZONE
TZID:Europe/London
BEGIN:DAYLIGHT
TZOFFSETFROM:+0000
TZOFFSETTO:+0100
TZNAME:BST
DTSTART:20250330T010000
END:DAYLIGHT
BEGIN:STANDARD
TZOFFSETFROM:+0100
TZOFFSETTO:+0000
TZNAME:GMT
DTSTART:20251026T010000
END:STANDARD
BEGIN:DAYLIGHT
TZOFFSETFROM:+0000
TZOFFSETTO:+0100
TZNAME:BST
DTSTART:20260329T010000
END:DAYLIGHT
BEGIN:STANDARD
TZOFFSETFROM:+0100
TZOFFSETTO:+0000
TZNAME:GMT
DTSTART:20261025T010000
END:STANDARD
BEGIN:DAYLIGHT
TZOFFSETFROM:+0000
TZOFFSETTO:+0100
TZNAME:BST
DTSTART:20270328T010000
END:DAYLIGHT
BEGIN:STANDARD
TZOFFSETFROM:+0100
TZOFFSETTO:+0000
TZNAME:GMT
DTSTART:20271031T010000
END:STANDARD
END:VTIMEZONE
BEGIN:VEVENT
DTSTART;TZID=Europe/London:20260503T140000
DTEND;TZID=Europe/London:20260503T160000
DTSTAMP:20260423T195159
CREATED:20260422T141302Z
LAST-MODIFIED:20260422T141506Z
UID:17247-1777816800-1777824000@transitionwoodbridge.org.uk
SUMMARY:Peat-Free Plant Sale
DESCRIPTION:Popular annual peat free plant sale with a wonderful selection of locally grown plants to buy\, a book stall\, raffle and refreshments\, with delicious homemade cakes. \nPLEASE NOTE change of venue for this year’s event. \nFind out more.
URL:https://transitionwoodbridge.org.uk/event/peat-free-plant-sale-2/
LOCATION:Martlesham Community Hall\, Felixstowe Rd\, Martlesham\, Woodbridge\, Suffolk\, IP12 4PB\, United Kingdom
CATEGORIES:Upcoming
ATTACH;FMTTYPE=image/jpeg:https://transitionwoodbridge.org.uk/wp-content/uploads/2026/04/smalliris.jpg
END:VEVENT
END:VCALENDAR