BEGIN:VCALENDAR
VERSION:2.0
PRODID:-//Transition Woodbridge - ECPv6.15.20//NONSGML v1.0//EN
CALSCALE:GREGORIAN
METHOD:PUBLISH
X-WR-CALNAME:Transition Woodbridge
X-ORIGINAL-URL:https://transitionwoodbridge.org.uk
X-WR-CALDESC:Events for Transition Woodbridge
REFRESH-INTERVAL;VALUE=DURATION:PT1H
X-Robots-Tag:noindex
X-PUBLISHED-TTL:PT1H
BEGIN:VTIMEZONE
TZID:Europe/London
BEGIN:DAYLIGHT
TZOFFSETFROM:+0000
TZOFFSETTO:+0100
TZNAME:BST
DTSTART:20250330T010000
END:DAYLIGHT
BEGIN:STANDARD
TZOFFSETFROM:+0100
TZOFFSETTO:+0000
TZNAME:GMT
DTSTART:20251026T010000
END:STANDARD
BEGIN:DAYLIGHT
TZOFFSETFROM:+0000
TZOFFSETTO:+0100
TZNAME:BST
DTSTART:20260329T010000
END:DAYLIGHT
BEGIN:STANDARD
TZOFFSETFROM:+0100
TZOFFSETTO:+0000
TZNAME:GMT
DTSTART:20261025T010000
END:STANDARD
BEGIN:DAYLIGHT
TZOFFSETFROM:+0000
TZOFFSETTO:+0100
TZNAME:BST
DTSTART:20270328T010000
END:DAYLIGHT
BEGIN:STANDARD
TZOFFSETFROM:+0100
TZOFFSETTO:+0000
TZNAME:GMT
DTSTART:20271031T010000
END:STANDARD
END:VTIMEZONE
BEGIN:VEVENT
DTSTART;TZID=Europe/London:20260422T180000
DTEND;TZID=Europe/London:20260422T210000
DTSTAMP:20260423T200627
CREATED:20260224T131510Z
LAST-MODIFIED:20260408T220538Z
UID:17151-1776880800-1776891600@transitionwoodbridge.org.uk
SUMMARY:Greenprint Forum 30 Anniversary event
DESCRIPTION:2026 marks the year of the 30th anniversary of the Greenprint Forum. \nAs we reach this significant milestone\, we are planning some events during the year ahead to not only reflect\, recognise and celebrate the achievements and contributions by those who make up our Forum\, but also to look ahead to the future to capture and articulate our aspirations for further positive action. \nPart of each of these events will be held in workshop mode to explore and capture members’ priorities and aspirations for future action\, whether you have been with us from the early days\, or joined us along the way or even more recently. \nThis event will be held in the ESC offices at East Suffolk House\, Melton. \nRegister here \nWe look forward to seeing you!
URL:https://transitionwoodbridge.org.uk/event/greenprint-forum-30-anniversary-event/
LOCATION:East Suffolk House\, Riduna Park\, Station Road\,\, Melton\, Suffolk\, IP12 1RT\, United Kingdom
CATEGORIES:Upcoming
ATTACH;FMTTYPE=image/png:https://transitionwoodbridge.org.uk/wp-content/uploads/2026/02/esc.png
ORGANIZER;CN="East Suffolk Council Greenprint Forum":MAILTO:greenissues@eastsuffolk.gov.uk
END:VEVENT
END:VCALENDAR