BEGIN:VCALENDAR
VERSION:2.0
PRODID:-//Transition Woodbridge - ECPv6.15.20//NONSGML v1.0//EN
CALSCALE:GREGORIAN
METHOD:PUBLISH
X-ORIGINAL-URL:https://transitionwoodbridge.org.uk
X-WR-CALDESC:Events for Transition Woodbridge
REFRESH-INTERVAL;VALUE=DURATION:PT1H
X-Robots-Tag:noindex
X-PUBLISHED-TTL:PT1H
BEGIN:VTIMEZONE
TZID:Europe/London
BEGIN:DAYLIGHT
TZOFFSETFROM:+0000
TZOFFSETTO:+0100
TZNAME:BST
DTSTART:20250330T010000
END:DAYLIGHT
BEGIN:STANDARD
TZOFFSETFROM:+0100
TZOFFSETTO:+0000
TZNAME:GMT
DTSTART:20251026T010000
END:STANDARD
BEGIN:DAYLIGHT
TZOFFSETFROM:+0000
TZOFFSETTO:+0100
TZNAME:BST
DTSTART:20260329T010000
END:DAYLIGHT
BEGIN:STANDARD
TZOFFSETFROM:+0100
TZOFFSETTO:+0000
TZNAME:GMT
DTSTART:20261025T010000
END:STANDARD
BEGIN:DAYLIGHT
TZOFFSETFROM:+0000
TZOFFSETTO:+0100
TZNAME:BST
DTSTART:20270328T010000
END:DAYLIGHT
BEGIN:STANDARD
TZOFFSETFROM:+0100
TZOFFSETTO:+0000
TZNAME:GMT
DTSTART:20271031T010000
END:STANDARD
END:VTIMEZONE
BEGIN:VEVENT
DTSTART;TZID=Europe/London:20260320T190000
DTEND;TZID=Europe/London:20260320T210000
DTSTAMP:20260423T212936
CREATED:20260119T163743Z
LAST-MODIFIED:20260216T222338Z
UID:16943-1774033200-1774040400@transitionwoodbridge.org.uk
SUMMARY:So\, what about the people who don't own their own homes?
DESCRIPTION:Overview \nDr Alison Pooley delves into energy-related social fairness issues attached to Social Housing: how do renters keep warm\, for a start?! \nOur speaker’s work frequently takes her into difficult areas: for example\, she has just published a Housing Report detailing the issues that landlords and tenants face. She has also worked on high energy users\, and how they meet their demands. As an architect and academic\, she witnesses every day the impact that research has on future energy production and use. \nOur Speaker \nDr Alison Pooley leads the Sustainable Healthy Communities research theme within the Suffolk Sustainability Institute at the University of Suffolk. With a background in architecture\, her research focuses on housing equity\, challenges in the private rented sector\, homes for ageing populations\, and retrofitting for resilience. Drawing on extensive academic and professional experience\, Alison’s work places an emphasis on creating healthy\, sustainable communities and transforming practice to meet environmental imperatives. \nJoin us at Woodbridge Methodist Church for an inspiring evening of knowledge-sharing and networking. \nDoors open at 6:30PM for a cup of tea and the opportunity to mingle. \nFind out more and get tickets
URL:https://transitionwoodbridge.org.uk/event/so-what-about-the-people-who-dont-own-their-own-homes/
LOCATION:Woodbridge Methodist Church\, 25 Saint John's Street\, Woodbridge\, Suffolk\, IP12 1ED\, United Kingdom
CATEGORIES:Upcoming
ATTACH;FMTTYPE=image/png:https://transitionwoodbridge.org.uk/wp-content/uploads/2025/02/dcc.png
END:VEVENT
END:VCALENDAR