BEGIN:VCALENDAR
VERSION:2.0
PRODID:-//Transition Woodbridge - ECPv6.15.20//NONSGML v1.0//EN
CALSCALE:GREGORIAN
METHOD:PUBLISH
X-WR-CALNAME:Transition Woodbridge
X-ORIGINAL-URL:https://transitionwoodbridge.org.uk
X-WR-CALDESC:Events for Transition Woodbridge
REFRESH-INTERVAL;VALUE=DURATION:PT1H
X-Robots-Tag:noindex
X-PUBLISHED-TTL:PT1H
BEGIN:VTIMEZONE
TZID:Europe/London
BEGIN:DAYLIGHT
TZOFFSETFROM:+0000
TZOFFSETTO:+0100
TZNAME:BST
DTSTART:20250330T010000
END:DAYLIGHT
BEGIN:STANDARD
TZOFFSETFROM:+0100
TZOFFSETTO:+0000
TZNAME:GMT
DTSTART:20251026T010000
END:STANDARD
BEGIN:DAYLIGHT
TZOFFSETFROM:+0000
TZOFFSETTO:+0100
TZNAME:BST
DTSTART:20260329T010000
END:DAYLIGHT
BEGIN:STANDARD
TZOFFSETFROM:+0100
TZOFFSETTO:+0000
TZNAME:GMT
DTSTART:20261025T010000
END:STANDARD
BEGIN:DAYLIGHT
TZOFFSETFROM:+0000
TZOFFSETTO:+0100
TZNAME:BST
DTSTART:20270328T010000
END:DAYLIGHT
BEGIN:STANDARD
TZOFFSETFROM:+0100
TZOFFSETTO:+0000
TZNAME:GMT
DTSTART:20271031T010000
END:STANDARD
END:VTIMEZONE
BEGIN:VEVENT
DTSTART;TZID=Europe/London:20260213T190000
DTEND;TZID=Europe/London:20260213T210000
DTSTAMP:20260423T223732
CREATED:20260119T163958Z
LAST-MODIFIED:20260119T164402Z
UID:16949-1771009200-1771016400@transitionwoodbridge.org.uk
SUMMARY:Energy for the Community with John Taylor
DESCRIPTION:Overview \nHow a community can work together to own their own power station\, and provide all the energy they need for their homes. \nWhat is Community Energy? Across the country more groups\, communities\, and institutions are getting excited about community energy. Solar panels on the roof of your own house is the most obvious way to generate clean electricity. But what if there was a more cost-efficient means of doing this. \nWhat if\, for example\, you could join ranks with like-minded neighbours and create a renewable power station\, using solar or wind\, to serve the town or village you live in? \nWell\, that’s not as far-fetched as you may have thought. All over Britain communities are joining hands to lease land\, install solar panels\, and power their homes with clean energy. \nOur Speaker \nJohn Taylor is the Head of Capacity Building and Strategic Development at Community Energy England (CEE)\, a key organisation promoting local renewable energy projects in England. John focuses on supporting community-led initiatives\, often engaging with government and local authorities to overcome barriers to development\, such as grid access. He advocates for policies enabling greater local energy generation and resilience\, working on initiatives like the #EnergyLearningNetwork and promoting community ownership of solar and battery systems. \nJoin us at Woodbridge Methodist Church for yet another inspiring evening of knowledge-sharing and networking. \nDoors open at 6:30PM for a cup of tea and the opportunity to mingle. \nFind out more and get tickets
URL:https://transitionwoodbridge.org.uk/event/energy-for-the-community-with-john-taylor/
LOCATION:Woodbridge Methodist Church\, 25 Saint John's Street\, Woodbridge\, Suffolk\, IP12 1ED\, United Kingdom
CATEGORIES:Upcoming
ATTACH;FMTTYPE=image/png:https://transitionwoodbridge.org.uk/wp-content/uploads/2025/02/dcc.png
END:VEVENT
END:VCALENDAR