BEGIN:VCALENDAR
VERSION:2.0
PRODID:-//Transition Woodbridge - ECPv6.15.20//NONSGML v1.0//EN
CALSCALE:GREGORIAN
METHOD:PUBLISH
X-WR-CALNAME:Transition Woodbridge
X-ORIGINAL-URL:https://transitionwoodbridge.org.uk
X-WR-CALDESC:Events for Transition Woodbridge
REFRESH-INTERVAL;VALUE=DURATION:PT1H
X-Robots-Tag:noindex
X-PUBLISHED-TTL:PT1H
BEGIN:VTIMEZONE
TZID:Europe/London
BEGIN:DAYLIGHT
TZOFFSETFROM:+0000
TZOFFSETTO:+0100
TZNAME:BST
DTSTART:20250330T010000
END:DAYLIGHT
BEGIN:STANDARD
TZOFFSETFROM:+0100
TZOFFSETTO:+0000
TZNAME:GMT
DTSTART:20251026T010000
END:STANDARD
BEGIN:DAYLIGHT
TZOFFSETFROM:+0000
TZOFFSETTO:+0100
TZNAME:BST
DTSTART:20260329T010000
END:DAYLIGHT
BEGIN:STANDARD
TZOFFSETFROM:+0100
TZOFFSETTO:+0000
TZNAME:GMT
DTSTART:20261025T010000
END:STANDARD
BEGIN:DAYLIGHT
TZOFFSETFROM:+0000
TZOFFSETTO:+0100
TZNAME:BST
DTSTART:20270328T010000
END:DAYLIGHT
BEGIN:STANDARD
TZOFFSETFROM:+0100
TZOFFSETTO:+0000
TZNAME:GMT
DTSTART:20271031T010000
END:STANDARD
END:VTIMEZONE
BEGIN:VEVENT
DTSTART;TZID=Europe/London:20260211T190000
DTEND;TZID=Europe/London:20260211T210000
DTSTAMP:20260423T223705
CREATED:20260126T233413Z
LAST-MODIFIED:20260126T233413Z
UID:17020-1770836400-1770843600@transitionwoodbridge.org.uk
SUMMARY:Talk on Martlesham Wilds\, Two Years On
DESCRIPTION:Over the last year\, there have been some considerable landscape changes at Martlesham Wilds. The Suffolk Wildlife Trust have continued the journey of discovery – learning about the ecology\, history\, wildlife and stories of Martlesham Wilds. \nJoin us for an evening hearing about all of this and our hopes for the future at Suffolk’s newly recovering nature reserve. \nRefreshments will be available for a donation and there will be a raffle. Please note\, if there are tickets remaining\, they will be available on the door on the evening\, but we will only be able to take cash. We appreciate you booking in advance so we can judge numbers. \nWe can’t believe how much has happened over the past few years – it really is inspiring and we can’t wait to share it with you! \nFind out more and book tickets.
URL:https://transitionwoodbridge.org.uk/event/talk-on-martlesham-wilds-two-years-on/
LOCATION:St Michaels Church\, St Michaels Church\, The Drift\,\, Martlesham Heath\, Suffolk\, IP5 3PL\, United Kingdom
CATEGORIES:Upcoming
ATTACH;FMTTYPE=image/png:https://transitionwoodbridge.org.uk/wp-content/uploads/2024/09/suffolkwildlife.png
ORGANIZER;CN="Suffolk Wildlife Trust":MAILTO:info@suffolkwildlifetrust.org
END:VEVENT
END:VCALENDAR