BEGIN:VCALENDAR
VERSION:2.0
PRODID:-//Transition Woodbridge - ECPv6.15.20//NONSGML v1.0//EN
CALSCALE:GREGORIAN
METHOD:PUBLISH
X-WR-CALNAME:Transition Woodbridge
X-ORIGINAL-URL:https://transitionwoodbridge.org.uk
X-WR-CALDESC:Events for Transition Woodbridge
REFRESH-INTERVAL;VALUE=DURATION:PT1H
X-Robots-Tag:noindex
X-PUBLISHED-TTL:PT1H
BEGIN:VTIMEZONE
TZID:Europe/London
BEGIN:DAYLIGHT
TZOFFSETFROM:+0000
TZOFFSETTO:+0100
TZNAME:BST
DTSTART:20250330T010000
END:DAYLIGHT
BEGIN:STANDARD
TZOFFSETFROM:+0100
TZOFFSETTO:+0000
TZNAME:GMT
DTSTART:20251026T010000
END:STANDARD
BEGIN:DAYLIGHT
TZOFFSETFROM:+0000
TZOFFSETTO:+0100
TZNAME:BST
DTSTART:20260329T010000
END:DAYLIGHT
BEGIN:STANDARD
TZOFFSETFROM:+0100
TZOFFSETTO:+0000
TZNAME:GMT
DTSTART:20261025T010000
END:STANDARD
BEGIN:DAYLIGHT
TZOFFSETFROM:+0000
TZOFFSETTO:+0100
TZNAME:BST
DTSTART:20270328T010000
END:DAYLIGHT
BEGIN:STANDARD
TZOFFSETFROM:+0100
TZOFFSETTO:+0000
TZNAME:GMT
DTSTART:20271031T010000
END:STANDARD
END:VTIMEZONE
BEGIN:VEVENT
DTSTART;TZID=Europe/London:20260207T100000
DTEND;TZID=Europe/London:20260207T120000
DTSTAMP:20260423T223707
CREATED:20260113T201948Z
LAST-MODIFIED:20260113T201948Z
UID:16928-1770458400-1770465600@transitionwoodbridge.org.uk
SUMMARY:Free Winter Wildlife Drop‑In Event
DESCRIPTION:Fancy getting up close to nature this winter? Come along to a wildlife meet-and-greet event at Martlesham Wilds\, where you can chat with the Wildlife Wise team about local wildlife\, learn more about what’s around you\, and try out some brilliant kit. \nThe team will have binoculars\, spotting scopes\, and an exciting new parabolic microphone so you can listen in to birds and other wildlife like never before. \nEveryone is welcome\, just turn up! Dogs are welcome but please keep them on a short lead. \nMeet up with the Wildlife Wise team at 10am at St Mary’s Church Car Park\, or come and find them along the footpath. \nFind out more. \nWildlife Wise is a new brand and team that cherishes\, respects and protects the Suffolk Coast’s wildlife and habitats by preventing disturbance and damage to these internationally important species. It’s a partnership delivered by local Suffolk councils.
URL:https://transitionwoodbridge.org.uk/event/free-winter-wildlife-drop-in-event/
LOCATION:Martlesham Wilds
CATEGORIES:Upcoming
ATTACH;FMTTYPE=image/jpeg:https://transitionwoodbridge.org.uk/wp-content/uploads/2026/01/binos-1.jpg
END:VEVENT
BEGIN:VEVENT
DTSTART;TZID=Europe/London:20260207T110000
DTEND;TZID=Europe/London:20260207T123000
DTSTAMP:20260423T223707
CREATED:20260126T233628Z
LAST-MODIFIED:20260126T233628Z
UID:17015-1770462000-1770467400@transitionwoodbridge.org.uk
SUMMARY:Grasshoppers and Crickets
DESCRIPTION:Waldringfield Wildlife Group presents ‘Grasshoppers and Crickets: Identification and conservation in a changing climate’\, an illustrated talk by Dr. Tim Gardiner\, county Essex recorder for grasshoppers and crickets.
URL:https://transitionwoodbridge.org.uk/event/grasshoppers-and-crickets/
LOCATION:Waldringfield Village Hall\, School Rd\, Waldringfield\, Suffolk\, IP12 4QP\, United Kingdom
CATEGORIES:Upcoming
ATTACH;FMTTYPE=image/jpeg:https://transitionwoodbridge.org.uk/wp-content/uploads/2025/03/buttercups.jpg
END:VEVENT
END:VCALENDAR