BEGIN:VCALENDAR
VERSION:2.0
PRODID:-//Transition Woodbridge - ECPv6.15.20//NONSGML v1.0//EN
CALSCALE:GREGORIAN
METHOD:PUBLISH
X-WR-CALNAME:Transition Woodbridge
X-ORIGINAL-URL:https://transitionwoodbridge.org.uk
X-WR-CALDESC:Events for Transition Woodbridge
REFRESH-INTERVAL;VALUE=DURATION:PT1H
X-Robots-Tag:noindex
X-PUBLISHED-TTL:PT1H
BEGIN:VTIMEZONE
TZID:Europe/London
BEGIN:DAYLIGHT
TZOFFSETFROM:+0000
TZOFFSETTO:+0100
TZNAME:BST
DTSTART:20250330T010000
END:DAYLIGHT
BEGIN:STANDARD
TZOFFSETFROM:+0100
TZOFFSETTO:+0000
TZNAME:GMT
DTSTART:20251026T010000
END:STANDARD
BEGIN:DAYLIGHT
TZOFFSETFROM:+0000
TZOFFSETTO:+0100
TZNAME:BST
DTSTART:20260329T010000
END:DAYLIGHT
BEGIN:STANDARD
TZOFFSETFROM:+0100
TZOFFSETTO:+0000
TZNAME:GMT
DTSTART:20261025T010000
END:STANDARD
BEGIN:DAYLIGHT
TZOFFSETFROM:+0000
TZOFFSETTO:+0100
TZNAME:BST
DTSTART:20270328T010000
END:DAYLIGHT
BEGIN:STANDARD
TZOFFSETFROM:+0100
TZOFFSETTO:+0000
TZNAME:GMT
DTSTART:20271031T010000
END:STANDARD
END:VTIMEZONE
BEGIN:VEVENT
DTSTART;TZID=Europe/London:20260121T190000
DTEND;TZID=Europe/London:20260121T203000
DTSTAMP:20260424T000549
CREATED:20260113T195138Z
LAST-MODIFIED:20260113T195138Z
UID:16925-1769022000-1769027400@transitionwoodbridge.org.uk
SUMMARY:Transition Woodbridge planning meeting
DESCRIPTION:Our next Planning Meeting takes place on Wednesday 21 January\, 7pm\, at the British Legion\, Woodbridge. \nAgenda \n1. Bat Project \n2. Climate Conversations 29th January 7pm \n3. Wassailing/celebrations/Earth Day \n4. Local Food Project/Christmas Fair \n5. Scattered Orchard Winter Maintenance \n6. Ponds Project – Talks/Outreach \n7. Repair Café/Seed Swap \n8. Any other business \nWe hope to see you theres.
URL:https://transitionwoodbridge.org.uk/event/transition-woodbridge-planning-meeting-7/
LOCATION:The Royal British Legion\, 81 Thoroughfare\,\, Woodbridge\, Suffolk\, IP12 1AH
CATEGORIES:Upcoming
ATTACH;FMTTYPE=image/jpeg:https://transitionwoodbridge.org.uk/wp-content/uploads/2019/07/Transistion-Woodbridge_LOGO-2.jpg
ORGANIZER;CN="Transition Woodbridge":MAILTO:hello@transitionwoodbridge.org.uk
END:VEVENT
END:VCALENDAR