BEGIN:VCALENDAR
VERSION:2.0
PRODID:-//Transition Woodbridge - ECPv6.15.20//NONSGML v1.0//EN
CALSCALE:GREGORIAN
METHOD:PUBLISH
X-ORIGINAL-URL:https://transitionwoodbridge.org.uk
X-WR-CALDESC:Events for Transition Woodbridge
REFRESH-INTERVAL;VALUE=DURATION:PT1H
X-Robots-Tag:noindex
X-PUBLISHED-TTL:PT1H
BEGIN:VTIMEZONE
TZID:Europe/London
BEGIN:DAYLIGHT
TZOFFSETFROM:+0000
TZOFFSETTO:+0100
TZNAME:BST
DTSTART:20240331T010000
END:DAYLIGHT
BEGIN:STANDARD
TZOFFSETFROM:+0100
TZOFFSETTO:+0000
TZNAME:GMT
DTSTART:20241027T010000
END:STANDARD
BEGIN:DAYLIGHT
TZOFFSETFROM:+0000
TZOFFSETTO:+0100
TZNAME:BST
DTSTART:20250330T010000
END:DAYLIGHT
BEGIN:STANDARD
TZOFFSETFROM:+0100
TZOFFSETTO:+0000
TZNAME:GMT
DTSTART:20251026T010000
END:STANDARD
BEGIN:DAYLIGHT
TZOFFSETFROM:+0000
TZOFFSETTO:+0100
TZNAME:BST
DTSTART:20260329T010000
END:DAYLIGHT
BEGIN:STANDARD
TZOFFSETFROM:+0100
TZOFFSETTO:+0000
TZNAME:GMT
DTSTART:20261025T010000
END:STANDARD
END:VTIMEZONE
BEGIN:VEVENT
DTSTART;TZID=Europe/London:20250731T130000
DTEND;TZID=Europe/London:20250731T150000
DTSTAMP:20260424T074005
CREATED:20250603T092856Z
LAST-MODIFIED:20250603T154008Z
UID:16519-1753966800-1753974000@transitionwoodbridge.org.uk
SUMMARY:Thinking of creating a pond: Elmhurst Park
DESCRIPTION:Thinking of creating a pond – funded by Woodbridge Town Council \nThinking of creating a pond? What’s stopping you? Drop into our Pond Surgery\, and chat to us to work out how\, where and when. \nThis is the third in a series of four drop-in events\, all at different venues and times\, over the Summer\, designed by Suffolk Wildlife Trust with Transition Woodbridge and Woodbridge Town Council to help you to create a pond – the most incredible gift for wildlife. Come and chat to us and work out how to overcome potential barriers to creating your own pond\, or how to help a pond that needs some love\, in your garden\, space or work. Please bring photos or videos of your garden or space (on your phone is fine). We will have activities for kids to play with while we chat. \nMeet at the bandstand in Elmhurst Park.
URL:https://transitionwoodbridge.org.uk/event/thinking-of-creating-a-pond-elmhurst-park/
LOCATION:Elmhurst Park\, Woodbridge\, Suffolk\, IP12\, United Kingdom
CATEGORIES:Upcoming
ATTACH;FMTTYPE=image/jpeg:https://transitionwoodbridge.org.uk/wp-content/uploads/2025/06/toady1000.jpg
ORGANIZER;CN="Suffolk Wildlife Trust":MAILTO:info@suffolkwildlifetrust.org
END:VEVENT
END:VCALENDAR