BEGIN:VCALENDAR
VERSION:2.0
PRODID:-//Transition Woodbridge - ECPv6.15.20//NONSGML v1.0//EN
CALSCALE:GREGORIAN
METHOD:PUBLISH
X-ORIGINAL-URL:https://transitionwoodbridge.org.uk
X-WR-CALDESC:Events for Transition Woodbridge
REFRESH-INTERVAL;VALUE=DURATION:PT1H
X-Robots-Tag:noindex
X-PUBLISHED-TTL:PT1H
BEGIN:VTIMEZONE
TZID:Europe/London
BEGIN:DAYLIGHT
TZOFFSETFROM:+0000
TZOFFSETTO:+0100
TZNAME:BST
DTSTART:20240331T010000
END:DAYLIGHT
BEGIN:STANDARD
TZOFFSETFROM:+0100
TZOFFSETTO:+0000
TZNAME:GMT
DTSTART:20241027T010000
END:STANDARD
BEGIN:DAYLIGHT
TZOFFSETFROM:+0000
TZOFFSETTO:+0100
TZNAME:BST
DTSTART:20250330T010000
END:DAYLIGHT
BEGIN:STANDARD
TZOFFSETFROM:+0100
TZOFFSETTO:+0000
TZNAME:GMT
DTSTART:20251026T010000
END:STANDARD
BEGIN:DAYLIGHT
TZOFFSETFROM:+0000
TZOFFSETTO:+0100
TZNAME:BST
DTSTART:20260329T010000
END:DAYLIGHT
BEGIN:STANDARD
TZOFFSETFROM:+0100
TZOFFSETTO:+0000
TZNAME:GMT
DTSTART:20261025T010000
END:STANDARD
END:VTIMEZONE
BEGIN:VEVENT
DTSTART;TZID=Europe/London:20250628T100000
DTEND;TZID=Europe/London:20250628T160000
DTSTAMP:20260424T105247
CREATED:20250423T075735Z
LAST-MODIFIED:20250610T122659Z
UID:16402-1751104800-1751126400@transitionwoodbridge.org.uk
SUMMARY:Open Wild Gardens
DESCRIPTION:On Saturday 28 June\, from 10am to 4pm\, Transition Woodbridge will present Woodbridge and Melton’s very own Open Wild Gardens! \nThis year is the year of the pond. There will be open gardens with a range of ponds\, from large to tiny. If you have ever thought about building a pond\, come and find advice and inspiration. \nThere will be friendly volunteers to direct you from garden to garden and you are sure to find tea and cakes along the way\, and a small plant sale at 6 Fynn Rd\, Woodbridge IP12 4LS. \nPlease note that dogs are not permitted in these gardens and that generally there will be areas of uneven pathways or terrain. \nFind out all about the Open Wild Gardens event\, including a map of the gardens\, addresses and descriptions.
URL:https://transitionwoodbridge.org.uk/event/open-wild-gardens/
CATEGORIES:Upcoming
ATTACH;FMTTYPE=image/jpeg:https://transitionwoodbridge.org.uk/wp-content/uploads/2025/04/iris-landscape.jpg
ORGANIZER;CN="Transition Woodbridge":MAILTO:hello@transitionwoodbridge.org.uk
END:VEVENT
BEGIN:VEVENT
DTSTART;TZID=Europe/London:20250628T140000
DTEND;TZID=Europe/London:20250628T160000
DTSTAMP:20260424T105247
CREATED:20250603T092925Z
LAST-MODIFIED:20250603T153738Z
UID:16521-1751119200-1751126400@transitionwoodbridge.org.uk
SUMMARY:Be inspired to create a pond: Woodbridge Prep School
DESCRIPTION:Be inspired to create a pond – funded by Woodbridge Town Council \nBe inspired by the amazing ponds at Woodbridge Prep School. Part of Transition Woodbridge Open Gardens. Chat to us about creating your own! \nThis is the first in a series of four drop-in events\, all at different venues and times\, over the Summer\, designed by Suffolk Wildlife Trust with Transition Woodbridge and Woodbridge Town Council to help you to create a pond – the most incredible gift for wildlife. \nCome and be inspired by the lovely ponds at Woodbridge Prep School\, who have been kind enough to let us show them off on their behalf. Chat to us and work out how to overcome potential barriers to creating your own pond\, or how to help a pond that needs some love\, in your garden\, space or work. Please bring photos or videos of your garden or space (on your phone is fine). \nThis event is part of the Transition Woodbridge Open Gardens event. You do not need to book\, just turn up. \nPlease note there will not be parking or toilets and no dogs are allowed. \nMeet inside the Cumberland Street entrance gates to Woodbridge Prep School.
URL:https://transitionwoodbridge.org.uk/event/be-inspired-to-create-a-pond-woodbridge-prep-school/
LOCATION:Woodbridge Prep School\, Woodbridge\, Suffolk\, IP12 4AD\, United Kingdom
CATEGORIES:Upcoming
ATTACH;FMTTYPE=image/jpeg:https://transitionwoodbridge.org.uk/wp-content/uploads/2025/06/toady1000.jpg
ORGANIZER;CN="Suffolk Wildlife Trust":MAILTO:info@suffolkwildlifetrust.org
END:VEVENT
END:VCALENDAR