BEGIN:VCALENDAR
VERSION:2.0
PRODID:-//Transition Woodbridge - ECPv6.15.20//NONSGML v1.0//EN
CALSCALE:GREGORIAN
METHOD:PUBLISH
X-ORIGINAL-URL:https://transitionwoodbridge.org.uk
X-WR-CALDESC:Events for Transition Woodbridge
REFRESH-INTERVAL;VALUE=DURATION:PT1H
X-Robots-Tag:noindex
X-PUBLISHED-TTL:PT1H
BEGIN:VTIMEZONE
TZID:Europe/London
BEGIN:DAYLIGHT
TZOFFSETFROM:+0000
TZOFFSETTO:+0100
TZNAME:BST
DTSTART:20240331T010000
END:DAYLIGHT
BEGIN:STANDARD
TZOFFSETFROM:+0100
TZOFFSETTO:+0000
TZNAME:GMT
DTSTART:20241027T010000
END:STANDARD
BEGIN:DAYLIGHT
TZOFFSETFROM:+0000
TZOFFSETTO:+0100
TZNAME:BST
DTSTART:20250330T010000
END:DAYLIGHT
BEGIN:STANDARD
TZOFFSETFROM:+0100
TZOFFSETTO:+0000
TZNAME:GMT
DTSTART:20251026T010000
END:STANDARD
BEGIN:DAYLIGHT
TZOFFSETFROM:+0000
TZOFFSETTO:+0100
TZNAME:BST
DTSTART:20260329T010000
END:DAYLIGHT
BEGIN:STANDARD
TZOFFSETFROM:+0100
TZOFFSETTO:+0000
TZNAME:GMT
DTSTART:20261025T010000
END:STANDARD
END:VTIMEZONE
BEGIN:VEVENT
DTSTART;TZID=Europe/London:20250616T100000
DTEND;TZID=Europe/London:20250616T123000
DTSTAMP:20260424T110135
CREATED:20250610T140753Z
LAST-MODIFIED:20250610T140753Z
UID:16595-1750068000-1750077000@transitionwoodbridge.org.uk
SUMMARY:Hedgerow herb walk and tea tasting
DESCRIPTION:A guided walk around Waldringfield Church Field with qualified medical herbalist Rachel Bescoby\, exploring the folklore and medicinal properties of some of the herbs growing in the area. Followed by herbal tea tasting in the Church Rooms. \nMeet in the Church Field Car Park. \nSuggested donation of £10 (includes handouts and herbal tea). Cash payment on the day.
URL:https://transitionwoodbridge.org.uk/event/hedgerow-herb-walk-and-tea-tasting/
LOCATION:Waldringfield Church Field\, Waldringfield\, Ipswich\, Suffolk\, IP12 4PY\, United Kingdom
CATEGORIES:Upcoming
ATTACH;FMTTYPE=image/jpeg:https://transitionwoodbridge.org.uk/wp-content/uploads/2025/06/waldringfield.jpg
END:VEVENT
END:VCALENDAR