BEGIN:VCALENDAR
VERSION:2.0
PRODID:-//Transition Woodbridge - ECPv6.15.20//NONSGML v1.0//EN
CALSCALE:GREGORIAN
METHOD:PUBLISH
X-WR-CALNAME:Transition Woodbridge
X-ORIGINAL-URL:https://transitionwoodbridge.org.uk
X-WR-CALDESC:Events for Transition Woodbridge
REFRESH-INTERVAL;VALUE=DURATION:PT1H
X-Robots-Tag:noindex
X-PUBLISHED-TTL:PT1H
BEGIN:VTIMEZONE
TZID:Europe/London
BEGIN:DAYLIGHT
TZOFFSETFROM:+0000
TZOFFSETTO:+0100
TZNAME:BST
DTSTART:20240331T010000
END:DAYLIGHT
BEGIN:STANDARD
TZOFFSETFROM:+0100
TZOFFSETTO:+0000
TZNAME:GMT
DTSTART:20241027T010000
END:STANDARD
BEGIN:DAYLIGHT
TZOFFSETFROM:+0000
TZOFFSETTO:+0100
TZNAME:BST
DTSTART:20250330T010000
END:DAYLIGHT
BEGIN:STANDARD
TZOFFSETFROM:+0100
TZOFFSETTO:+0000
TZNAME:GMT
DTSTART:20251026T010000
END:STANDARD
BEGIN:DAYLIGHT
TZOFFSETFROM:+0000
TZOFFSETTO:+0100
TZNAME:BST
DTSTART:20260329T010000
END:DAYLIGHT
BEGIN:STANDARD
TZOFFSETFROM:+0100
TZOFFSETTO:+0000
TZNAME:GMT
DTSTART:20261025T010000
END:STANDARD
END:VTIMEZONE
BEGIN:VEVENT
DTSTART;TZID=Europe/London:20250517T120000
DTEND;TZID=Europe/London:20250517T160000
DTSTAMP:20260424T123533
CREATED:20250512T101255Z
LAST-MODIFIED:20250512T101255Z
UID:16463-1747483200-1747497600@transitionwoodbridge.org.uk
SUMMARY:Wild About Wickham
DESCRIPTION:Residents in Wickham Market are invited to a free event to learn more about celebrating biodiversity in their gardens! \nOrganised by the Framlingham\, Wickham Market\, Kelsale\, Yoxford and villages Community Partnership\, the next Wild About Wickham event takes place on Saturday 17 May at Wickham Market Village Hall (12-4pm). \nCome along for free advice and information from Deben Climate Centre including the Four Rivers Recovery Project\, Transition Woodbridge\, GreenprintForum and other local environmental community groups. You can also learn how to increase biodiversity in your garden\, including advice on growing trees. \nThere will also be creative activities for children\, including a crazy container competition – simply bring along your upcycled\, decorated container and the team will help plant it up with bee friendly plants. There are small prizes for the craziest container. \nA raffle and plant-based refreshments will also be available from a pop-up café.
URL:https://transitionwoodbridge.org.uk/event/wild-about-wickham-2/
LOCATION:Wickham Market Village Hall\, Wickham Market\, Woodbridge\, Suffolk\, IP13 0HE\, United Kingdom
CATEGORIES:Upcoming
ATTACH;FMTTYPE=image/jpeg:https://transitionwoodbridge.org.uk/wp-content/uploads/2024/07/redad.jpg
END:VEVENT
END:VCALENDAR