BEGIN:VCALENDAR
VERSION:2.0
PRODID:-//Transition Woodbridge - ECPv6.15.20//NONSGML v1.0//EN
CALSCALE:GREGORIAN
METHOD:PUBLISH
X-WR-CALNAME:Transition Woodbridge
X-ORIGINAL-URL:https://transitionwoodbridge.org.uk
X-WR-CALDESC:Events for Transition Woodbridge
REFRESH-INTERVAL;VALUE=DURATION:PT1H
X-Robots-Tag:noindex
X-PUBLISHED-TTL:PT1H
BEGIN:VTIMEZONE
TZID:Europe/London
BEGIN:DAYLIGHT
TZOFFSETFROM:+0000
TZOFFSETTO:+0100
TZNAME:BST
DTSTART:20240331T010000
END:DAYLIGHT
BEGIN:STANDARD
TZOFFSETFROM:+0100
TZOFFSETTO:+0000
TZNAME:GMT
DTSTART:20241027T010000
END:STANDARD
BEGIN:DAYLIGHT
TZOFFSETFROM:+0000
TZOFFSETTO:+0100
TZNAME:BST
DTSTART:20250330T010000
END:DAYLIGHT
BEGIN:STANDARD
TZOFFSETFROM:+0100
TZOFFSETTO:+0000
TZNAME:GMT
DTSTART:20251026T010000
END:STANDARD
BEGIN:DAYLIGHT
TZOFFSETFROM:+0000
TZOFFSETTO:+0100
TZNAME:BST
DTSTART:20260329T010000
END:DAYLIGHT
BEGIN:STANDARD
TZOFFSETFROM:+0100
TZOFFSETTO:+0000
TZNAME:GMT
DTSTART:20261025T010000
END:STANDARD
END:VTIMEZONE
BEGIN:VEVENT
DTSTART;TZID=Europe/London:20250130T190000
DTEND;TZID=Europe/London:20250130T210000
DTSTAMP:20260424T165956
CREATED:20250113T111048Z
LAST-MODIFIED:20250113T114313Z
UID:15575-1738263600-1738270800@transitionwoodbridge.org.uk
SUMMARY:Woodbridge Climate Cafe
DESCRIPTION:In the spirit of being together\, Transition Woodbridge welcomes you to this Climate Cafe\, a time to talk about the emotional impact of the environmental crisis on our well-being\, our families and our futures. \n\nListening to each other’s concerns\nConnecting with nature\nSharing knowledge\nDiscussing choices\nCreating resilience\n\nA simple\, hospitable\, empathic space where fears and uncertainties about our climate crisis can be safely expressed. \nTea and cake will be served. Reserve your free place here. \nLift shares from Woodbridge can be arranged\, please get in touch.
URL:https://transitionwoodbridge.org.uk/event/woodbridge-climate-cafe-2/
LOCATION:Foxborrow Farm\, Foxborrow Farm\, Melton\, Woodbridge\, Suffolk\, IP121NA\, United Kingdom
CATEGORIES:Upcoming
ATTACH;FMTTYPE=image/jpeg:https://transitionwoodbridge.org.uk/wp-content/uploads/2024/05/climatecafe.jpg
ORGANIZER;CN="Transition Woodbridge":MAILTO:hello@transitionwoodbridge.org.uk
END:VEVENT
END:VCALENDAR