BEGIN:VCALENDAR
VERSION:2.0
PRODID:-//Transition Woodbridge - ECPv6.15.20//NONSGML v1.0//EN
CALSCALE:GREGORIAN
METHOD:PUBLISH
X-WR-CALNAME:Transition Woodbridge
X-ORIGINAL-URL:https://transitionwoodbridge.org.uk
X-WR-CALDESC:Events for Transition Woodbridge
REFRESH-INTERVAL;VALUE=DURATION:PT1H
X-Robots-Tag:noindex
X-PUBLISHED-TTL:PT1H
BEGIN:VTIMEZONE
TZID:Europe/London
BEGIN:DAYLIGHT
TZOFFSETFROM:+0000
TZOFFSETTO:+0100
TZNAME:BST
DTSTART:20240331T010000
END:DAYLIGHT
BEGIN:STANDARD
TZOFFSETFROM:+0100
TZOFFSETTO:+0000
TZNAME:GMT
DTSTART:20241027T010000
END:STANDARD
BEGIN:DAYLIGHT
TZOFFSETFROM:+0000
TZOFFSETTO:+0100
TZNAME:BST
DTSTART:20250330T010000
END:DAYLIGHT
BEGIN:STANDARD
TZOFFSETFROM:+0100
TZOFFSETTO:+0000
TZNAME:GMT
DTSTART:20251026T010000
END:STANDARD
BEGIN:DAYLIGHT
TZOFFSETFROM:+0000
TZOFFSETTO:+0100
TZNAME:BST
DTSTART:20260329T010000
END:DAYLIGHT
BEGIN:STANDARD
TZOFFSETFROM:+0100
TZOFFSETTO:+0000
TZNAME:GMT
DTSTART:20261025T010000
END:STANDARD
END:VTIMEZONE
BEGIN:VEVENT
DTSTART;TZID=Europe/London:20250128T190000
DTEND;TZID=Europe/London:20250128T210000
DTSTAMP:20260424T165956
CREATED:20250113T112815Z
LAST-MODIFIED:20250113T112822Z
UID:15581-1738090800-1738098000@transitionwoodbridge.org.uk
SUMMARY:Transition Woodbridge planning meeting
DESCRIPTION:Everyone is welcome. Come along and discuss Transition Woodbridge’s upcoming activities.
URL:https://transitionwoodbridge.org.uk/event/transition-woodbridge-planning-meeting-4/
LOCATION:The Royal British Legion\, 81 Thoroughfare\,\, Woodbridge\, Suffolk\, IP12 1AH
CATEGORIES:Upcoming
ATTACH;FMTTYPE=image/jpeg:https://transitionwoodbridge.org.uk/wp-content/uploads/2019/07/Transistion-Woodbridge_LOGO-2.jpg
ORGANIZER;CN="Transition Woodbridge":MAILTO:hello@transitionwoodbridge.org.uk
END:VEVENT
END:VCALENDAR