BEGIN:VCALENDAR
VERSION:2.0
PRODID:-//Transition Woodbridge - ECPv6.15.20//NONSGML v1.0//EN
CALSCALE:GREGORIAN
METHOD:PUBLISH
X-ORIGINAL-URL:https://transitionwoodbridge.org.uk
X-WR-CALDESC:Events for Transition Woodbridge
REFRESH-INTERVAL;VALUE=DURATION:PT1H
X-Robots-Tag:noindex
X-PUBLISHED-TTL:PT1H
BEGIN:VTIMEZONE
TZID:Europe/London
BEGIN:DAYLIGHT
TZOFFSETFROM:+0000
TZOFFSETTO:+0100
TZNAME:BST
DTSTART:20230326T010000
END:DAYLIGHT
BEGIN:STANDARD
TZOFFSETFROM:+0100
TZOFFSETTO:+0000
TZNAME:GMT
DTSTART:20231029T010000
END:STANDARD
BEGIN:DAYLIGHT
TZOFFSETFROM:+0000
TZOFFSETTO:+0100
TZNAME:BST
DTSTART:20240331T010000
END:DAYLIGHT
BEGIN:STANDARD
TZOFFSETFROM:+0100
TZOFFSETTO:+0000
TZNAME:GMT
DTSTART:20241027T010000
END:STANDARD
BEGIN:DAYLIGHT
TZOFFSETFROM:+0000
TZOFFSETTO:+0100
TZNAME:BST
DTSTART:20250330T010000
END:DAYLIGHT
BEGIN:STANDARD
TZOFFSETFROM:+0100
TZOFFSETTO:+0000
TZNAME:GMT
DTSTART:20251026T010000
END:STANDARD
END:VTIMEZONE
BEGIN:VEVENT
DTSTART;VALUE=DATE:20240927
DTEND;VALUE=DATE:20240930
DTSTAMP:20260425T002712
CREATED:20240923T131125Z
LAST-MODIFIED:20240923T133204Z
UID:14311-1727395200-1727654399@transitionwoodbridge.org.uk
SUMMARY:Climate Action Conference
DESCRIPTION:Following on from the success of last year\, Halesworth Climate Action Conference II will take place over the weekend of Friday 27 – Sunday 29 September in St Mary’s Church\, Halesworth. \nThe particular focus this year is on land and food. How does what we grow and eat affect our health as producers and consumers? How does land use for power generation\, or recreation\, or nature preservation impact on the local environment; on biodiversity and climate? Our national\, local and personal choices are crucial but not straightforward. So what are the issues\, and what solutions are possible? \nFind out more.
URL:https://transitionwoodbridge.org.uk/event/climate-action-conference/
LOCATION:St Mary’s Church\, Halesworth\, Steeple End\, Halesworth\, IP19 8LL
CATEGORIES:Upcoming
ATTACH;FMTTYPE=image/png:https://transitionwoodbridge.org.uk/wp-content/uploads/2024/09/halesworth.png
ORGANIZER;CN="Halesworth Area Sustainability Hub":MAILTO:halesworthash@gmail.com
END:VEVENT
BEGIN:VEVENT
DTSTART;TZID=Europe/London:20240929T100000
DTEND;TZID=Europe/London:20240929T120000
DTSTAMP:20260425T002712
CREATED:20231114T121826Z
LAST-MODIFIED:20231114T121826Z
UID:3287-1727604000-1727611200@transitionwoodbridge.org.uk
SUMMARY:Rubbish Walk Woodbridge
DESCRIPTION:Join Jason on a litterpick around Woodbridge on the last Sunday of every month. Leave from the Tea Hut by the river at 10am.
URL:https://transitionwoodbridge.org.uk/event/rubbish-walk-woodbridge-11/
LOCATION:The Tea Hut\, The Tea Hut\, River Wall\, Woodbridge\, Suffolk\, IP12 4BB\, United Kingdom
CATEGORIES:Upcoming
ATTACH;FMTTYPE=image/jpeg:https://transitionwoodbridge.org.uk/wp-content/uploads/2019/07/Transistion-Woodbridge_LOGO-2.jpg
END:VEVENT
BEGIN:VEVENT
DTSTART;TZID=Europe/London:20240929T110000
DTEND;TZID=Europe/London:20240929T150000
DTSTAMP:20260425T002712
CREATED:20240923T131729Z
LAST-MODIFIED:20240923T131729Z
UID:14315-1727607600-1727622000@transitionwoodbridge.org.uk
SUMMARY:Grow\, Cook\, Eat
DESCRIPTION:The community group Edible Felixstowe are holding their inaugural celebration of locally produced food and drink on 29 September\, at Great Eastern Square\, Felixstowe. \nThe event\, Grow\, Cook\, Eat\, will include some free food from locally grown veg\, local food producers and ‘green’ minded stalls\, excess veg and seed swap\, fun activities for adults and kids\, plus a cooking competition – bring along a dish made with something locally grown and maybe amaze the judges! They also hope to have some live music to keep you entertained! \nFind out more.
URL:https://transitionwoodbridge.org.uk/event/grow-cook-eat/
LOCATION:Great Eastern Square\, Hamilton Road\, Felixstowe
CATEGORIES:Upcoming
ATTACH;FMTTYPE=image/png:https://transitionwoodbridge.org.uk/wp-content/uploads/2024/09/grocookeat.png
END:VEVENT
END:VCALENDAR