BEGIN:VCALENDAR
VERSION:2.0
PRODID:-//Transition Woodbridge - ECPv6.15.20//NONSGML v1.0//EN
CALSCALE:GREGORIAN
METHOD:PUBLISH
X-ORIGINAL-URL:https://transitionwoodbridge.org.uk
X-WR-CALDESC:Events for Transition Woodbridge
REFRESH-INTERVAL;VALUE=DURATION:PT1H
X-Robots-Tag:noindex
X-PUBLISHED-TTL:PT1H
BEGIN:VTIMEZONE
TZID:Europe/London
BEGIN:DAYLIGHT
TZOFFSETFROM:+0000
TZOFFSETTO:+0100
TZNAME:BST
DTSTART:20230326T010000
END:DAYLIGHT
BEGIN:STANDARD
TZOFFSETFROM:+0100
TZOFFSETTO:+0000
TZNAME:GMT
DTSTART:20231029T010000
END:STANDARD
BEGIN:DAYLIGHT
TZOFFSETFROM:+0000
TZOFFSETTO:+0100
TZNAME:BST
DTSTART:20240331T010000
END:DAYLIGHT
BEGIN:STANDARD
TZOFFSETFROM:+0100
TZOFFSETTO:+0000
TZNAME:GMT
DTSTART:20241027T010000
END:STANDARD
BEGIN:DAYLIGHT
TZOFFSETFROM:+0000
TZOFFSETTO:+0100
TZNAME:BST
DTSTART:20250330T010000
END:DAYLIGHT
BEGIN:STANDARD
TZOFFSETFROM:+0100
TZOFFSETTO:+0000
TZNAME:GMT
DTSTART:20251026T010000
END:STANDARD
END:VTIMEZONE
BEGIN:VEVENT
DTSTART;VALUE=DATE:20240426
DTEND;VALUE=DATE:20240506
DTSTAMP:20260425T114337
CREATED:20240312T201205Z
LAST-MODIFIED:20240429T103006Z
UID:3598-1714089600-1714953599@transitionwoodbridge.org.uk
SUMMARY:iNaturalist City Nature Challenge 2024 Bioblitz
DESCRIPTION:Friday 26th – Monday 29th April sees the City Nature Challenge across the world! Join the Citizen Scientists if you aren’t one already! \nPlease download the App iNaturalist and record wild plants\, birds\, insects\, during this time to help scientists’ research. The results get uploaded to Suffolk UK.
URL:https://transitionwoodbridge.org.uk/event/inaturalist-city-nature-challenge-2024-bioblitz/
CATEGORIES:Upcoming
ATTACH;FMTTYPE=image/jpeg:https://transitionwoodbridge.org.uk/wp-content/uploads/2019/07/Transistion-Woodbridge_LOGO-2.jpg
ORGANIZER;CN="Transition Woodbridge":MAILTO:hello@transitionwoodbridge.org.uk
END:VEVENT
BEGIN:VEVENT
DTSTART;TZID=Europe/London:20240428T100000
DTEND;TZID=Europe/London:20240428T120000
DTSTAMP:20260425T114337
CREATED:20231114T121452Z
LAST-MODIFIED:20231114T121452Z
UID:3277-1714298400-1714305600@transitionwoodbridge.org.uk
SUMMARY:Rubbish Walk Woodbridge
DESCRIPTION:Join Jason on a litterpick around Woodbridge on the last Sunday of every month. Leave from the Tea Hut by the river at 10am.
URL:https://transitionwoodbridge.org.uk/event/rubbish-walk-woodbridge-4/
LOCATION:The Tea Hut\, The Tea Hut\, River Wall\, Woodbridge\, Suffolk\, IP12 4BB\, United Kingdom
CATEGORIES:Upcoming
ATTACH;FMTTYPE=image/jpeg:https://transitionwoodbridge.org.uk/wp-content/uploads/2019/07/Transistion-Woodbridge_LOGO-2.jpg
END:VEVENT
BEGIN:VEVENT
DTSTART;TZID=Europe/London:20240428T100000
DTEND;TZID=Europe/London:20240428T150000
DTSTAMP:20260425T114337
CREATED:20240422T094145Z
LAST-MODIFIED:20240422T094145Z
UID:3863-1714298400-1714316400@transitionwoodbridge.org.uk
SUMMARY:Spring Eco Fair
DESCRIPTION:Come along to Carlton Marshes\, Suffolk Wildlife Trust\, and enjoy a mixture of stalls including sustainable products\, information stalls from local organisations\, plant based food\, a programme of talks in the Education Room followed by a guided tour of the reserve\, and children’s activities. Entry is free.
URL:https://transitionwoodbridge.org.uk/event/spring-eco-fair/
LOCATION:Carlton Marshes Nature Reserve\, Burnt Hill Lane\, Carlton Colville\, Lowestoft\, Suffolk\, NR33 8HU\, United Kingdom
CATEGORIES:Upcoming
ATTACH;FMTTYPE=image/jpeg:https://transitionwoodbridge.org.uk/wp-content/uploads/2019/07/Transistion-Woodbridge_LOGO-2.jpg
ORGANIZER;CN="Suffolk Wildlife Trust":MAILTO:info@suffolkwildlifetrust.org
END:VEVENT
END:VCALENDAR