BEGIN:VCALENDAR
VERSION:2.0
PRODID:-//Transition Woodbridge - ECPv6.15.20//NONSGML v1.0//EN
CALSCALE:GREGORIAN
METHOD:PUBLISH
X-ORIGINAL-URL:https://transitionwoodbridge.org.uk
X-WR-CALDESC:Events for Transition Woodbridge
REFRESH-INTERVAL;VALUE=DURATION:PT1H
X-Robots-Tag:noindex
X-PUBLISHED-TTL:PT1H
BEGIN:VTIMEZONE
TZID:Europe/London
BEGIN:DAYLIGHT
TZOFFSETFROM:+0000
TZOFFSETTO:+0100
TZNAME:BST
DTSTART:20240331T010000
END:DAYLIGHT
BEGIN:STANDARD
TZOFFSETFROM:+0100
TZOFFSETTO:+0000
TZNAME:GMT
DTSTART:20241027T010000
END:STANDARD
BEGIN:DAYLIGHT
TZOFFSETFROM:+0000
TZOFFSETTO:+0100
TZNAME:BST
DTSTART:20250330T010000
END:DAYLIGHT
BEGIN:STANDARD
TZOFFSETFROM:+0100
TZOFFSETTO:+0000
TZNAME:GMT
DTSTART:20251026T010000
END:STANDARD
BEGIN:DAYLIGHT
TZOFFSETFROM:+0000
TZOFFSETTO:+0100
TZNAME:BST
DTSTART:20260329T010000
END:DAYLIGHT
BEGIN:STANDARD
TZOFFSETFROM:+0100
TZOFFSETTO:+0000
TZNAME:GMT
DTSTART:20261025T010000
END:STANDARD
END:VTIMEZONE
BEGIN:VEVENT
DTSTART;TZID=Europe/London:20250802T100000
DTEND;TZID=Europe/London:20250802T160000
DTSTAMP:20260424T060257
CREATED:20250729T100656Z
LAST-MODIFIED:20250729T100656Z
UID:16660-1754128800-1754150400@transitionwoodbridge.org.uk
SUMMARY:Community Day at Foxtail Meadow
DESCRIPTION:Ecotherapy East are holding their next Community Day on Saturday 2 August on Foxtail Meadow. Time for reciprocity with the Meadow and connecting with one another and the rhythms of the inner and outer nature. \nCome for as long as you wish. \nMorning: Lammas ritual with meditation and a labyrinth walk. Lammas is a festival of gratitude as we harvest nature’s bounty. \nLate morning until about 4pm: land-tending. Depending on the weather. We go easy. \nNick Jackson from our team will guide attendees to: \n\nCreate single bee habitats\nCreate a reptile refuge\nEngage in a butterfly count (they are loving the creeping thistles and the buddleia in our garden)\nScythe some areas to reduce the thistle and encourage other wildflowers to spread. There’s a spare scythe for those who wish to learn. Rob will be able to show you.\n\nFind out more.
URL:https://transitionwoodbridge.org.uk/event/community-day-at-foxtail-meadow-2/
LOCATION:Foxtail Meadow\, Foxtail Meadow\, Bramfield\, Suffolk\, United Kingdom
CATEGORIES:Upcoming
ATTACH;FMTTYPE=image/jpeg:https://transitionwoodbridge.org.uk/wp-content/uploads/2025/03/buttercups.jpg
END:VEVENT
BEGIN:VEVENT
DTSTART;TZID=Europe/London:20250804T100000
DTEND;TZID=Europe/London:20250804T120000
DTSTAMP:20260424T060257
CREATED:20241216T100312Z
LAST-MODIFIED:20241216T100319Z
UID:15468-1754301600-1754308800@transitionwoodbridge.org.uk
SUMMARY:Repair Cafe
DESCRIPTION:
URL:https://transitionwoodbridge.org.uk/event/repair-cafe-19/
LOCATION:St. John’s Church\, St. John's Church\, Woodbridge\, Suffolk\, IP12 1HS\, United Kingdom
CATEGORIES:Upcoming
ATTACH;FMTTYPE=image/jpeg:https://transitionwoodbridge.org.uk/wp-content/uploads/2019/07/Transistion-Woodbridge_LOGO-2.jpg
END:VEVENT
BEGIN:VEVENT
DTSTART;TZID=Europe/London:20250828T100000
DTEND;TZID=Europe/London:20250828T120000
DTSTAMP:20260424T060257
CREATED:20250603T092842Z
LAST-MODIFIED:20250603T154207Z
UID:16518-1756375200-1756382400@transitionwoodbridge.org.uk
SUMMARY:Thinking of creating a pond: Woodbridge Library
DESCRIPTION:Thinking of creating a pond – funded by Woodbridge Town Council \nThinking of creating a pond? What’s stopping you? Drop into our Pond Surgery\, and chat to us to work out how\, where and when. \nThis is the fourth in a series of four drop-in events\, all at different venues and times\, over the Summer\, designed by Suffolk Wildlife Trust with Transition Woodbridge and Woodbridge Town Council to help you to create a pond – the most incredible gift for wildlife. Come and chat to us and work out how to overcome potential barriers to creating your own pond\, or how to help a pond that needs some love\, in your garden\, space or work. Please bring photos or videos of your garden or space (on your phone is fine).
URL:https://transitionwoodbridge.org.uk/event/thinking-of-creating-a-pond-woodbridge-library/
LOCATION:Woodbridge Library\, New Street\, Woodbridge\, Suffolk\, IP12 1DT\, United Kingdom
CATEGORIES:Upcoming
ATTACH;FMTTYPE=image/jpeg:https://transitionwoodbridge.org.uk/wp-content/uploads/2025/06/toady1000.jpg
ORGANIZER;CN="Suffolk Wildlife Trust":MAILTO:info@suffolkwildlifetrust.org
END:VEVENT
END:VCALENDAR