BEGIN:VCALENDAR
VERSION:2.0
PRODID:-//Transition Woodbridge - ECPv6.15.20//NONSGML v1.0//EN
CALSCALE:GREGORIAN
METHOD:PUBLISH
X-ORIGINAL-URL:https://transitionwoodbridge.org.uk
X-WR-CALDESC:Events for Transition Woodbridge
REFRESH-INTERVAL;VALUE=DURATION:PT1H
X-Robots-Tag:noindex
X-PUBLISHED-TTL:PT1H
BEGIN:VTIMEZONE
TZID:Europe/London
BEGIN:DAYLIGHT
TZOFFSETFROM:+0000
TZOFFSETTO:+0100
TZNAME:BST
DTSTART:20230326T010000
END:DAYLIGHT
BEGIN:STANDARD
TZOFFSETFROM:+0100
TZOFFSETTO:+0000
TZNAME:GMT
DTSTART:20231029T010000
END:STANDARD
BEGIN:DAYLIGHT
TZOFFSETFROM:+0000
TZOFFSETTO:+0100
TZNAME:BST
DTSTART:20240331T010000
END:DAYLIGHT
BEGIN:STANDARD
TZOFFSETFROM:+0100
TZOFFSETTO:+0000
TZNAME:GMT
DTSTART:20241027T010000
END:STANDARD
BEGIN:DAYLIGHT
TZOFFSETFROM:+0000
TZOFFSETTO:+0100
TZNAME:BST
DTSTART:20250330T010000
END:DAYLIGHT
BEGIN:STANDARD
TZOFFSETFROM:+0100
TZOFFSETTO:+0000
TZNAME:GMT
DTSTART:20251026T010000
END:STANDARD
END:VTIMEZONE
BEGIN:VEVENT
DTSTART;TZID=Europe/London:20241005T130000
DTEND;TZID=Europe/London:20241005T150000
DTSTAMP:20260424T212034
CREATED:20240910T154158Z
LAST-MODIFIED:20240911T075122Z
UID:14059-1728133200-1728140400@transitionwoodbridge.org.uk
SUMMARY:River Clean
DESCRIPTION:On Saturday 5th October\, 1-3pm\, Transition Woodbridge will once again join forces with Woodbridge Sea Scouts for our annual River Clean. The Sea Scouts will be out on the Deben removing rubbish from the water whilst we lead dry-land litter picks from Tide Mill Way. \nMeet at Sea Scouts Hub\, Tide Mill Way\, IP12 1BY. \nCome on foot or afloat to clear rubbish from the river and river wall. Litter picking equipment provided. \nJoin us to help care for our beautiful riverside areas.
URL:https://transitionwoodbridge.org.uk/event/river-clean/
LOCATION:Seascout Hut\, 5-7 Tide Mill Way\,\, Woodbridge\, Suffolk\, IP12 1BY\, United Kingdom
CATEGORIES:Upcoming
ATTACH;FMTTYPE=image/jpeg:https://transitionwoodbridge.org.uk/wp-content/uploads/2024/09/litter.jpg
ORGANIZER;CN="Transition Woodbridge":MAILTO:hello@transitionwoodbridge.org.uk
END:VEVENT
BEGIN:VEVENT
DTSTART;TZID=Europe/London:20241007T100000
DTEND;TZID=Europe/London:20241007T120000
DTSTAMP:20260424T212034
CREATED:20231117T093309Z
LAST-MODIFIED:20231117T093309Z
UID:3314-1728295200-1728302400@transitionwoodbridge.org.uk
SUMMARY:Repair Cafe
DESCRIPTION:
URL:https://transitionwoodbridge.org.uk/event/repair-cafe-11/
LOCATION:St. John’s Church\, St. John's Church\, Woodbridge\, Suffolk\, IP12 1HS\, United Kingdom
CATEGORIES:Upcoming
ATTACH;FMTTYPE=image/jpeg:https://transitionwoodbridge.org.uk/wp-content/uploads/2019/07/Transistion-Woodbridge_LOGO-2.jpg
END:VEVENT
BEGIN:VEVENT
DTSTART;TZID=Europe/London:20241011T193000
DTEND;TZID=Europe/London:20241011T203000
DTSTAMP:20260424T212034
CREATED:20240923T132626Z
LAST-MODIFIED:20240923T132626Z
UID:14321-1728675000-1728678600@transitionwoodbridge.org.uk
SUMMARY:Talk: The Science of Climate Change
DESCRIPTION:Organised by Somersham and District Gardening Club\, this is a talk by Chris Bell\, Chief Communications Officer and Meteorologist at Weatherquest. \nBook your tickets.
URL:https://transitionwoodbridge.org.uk/event/talk-the-science-of-climate-change/
LOCATION:Offton & Willisham Village Hall\, Offton\, IP8 4RA
CATEGORIES:Upcoming
ATTACH;FMTTYPE=image/jpeg:https://transitionwoodbridge.org.uk/wp-content/uploads/2024/09/oak.jpg
END:VEVENT
BEGIN:VEVENT
DTSTART;TZID=Europe/London:20241012T100000
DTEND;TZID=Europe/London:20241012T120000
DTSTAMP:20260424T212034
CREATED:20231117T094624Z
LAST-MODIFIED:20231117T094624Z
UID:3337-1728727200-1728734400@transitionwoodbridge.org.uk
SUMMARY:Martlesham Repair Hub
DESCRIPTION:
URL:https://transitionwoodbridge.org.uk/event/martlesham-repair-hub-9/
LOCATION:Martlesham Parish Rooms\, Felixstowe Road\,\, Martlesham\, Suffolk\, IP12 4PB
CATEGORIES:Upcoming
ATTACH;FMTTYPE=image/jpeg:https://transitionwoodbridge.org.uk/wp-content/uploads/2019/07/Transistion-Woodbridge_LOGO-2.jpg
ORGANIZER;CN="Martlesham Climate Action":MAILTO:martleshamclimateaction@btinternet.com
END:VEVENT
BEGIN:VEVENT
DTSTART;TZID=Europe/London:20241012T110000
DTEND;TZID=Europe/London:20241012T120000
DTSTAMP:20260424T212034
CREATED:20240923T125310Z
LAST-MODIFIED:20240923T133800Z
UID:14303-1728730800-1728734400@transitionwoodbridge.org.uk
SUMMARY:Suffolk: why rewild?
DESCRIPTION:Waldringfield Wildlife Group invites you to an illustrated talk on rewilding by Dr Tim Gardiner of the Environment Agency. \nDr Tim Gardiner is former conservation researcher at Writtle College (University of Essex) and ecology lecturer at Nottingham Trent University. Tim has worked for the Environment Agency since 2009 as a biodiversity officer. His work includes improving rivers and sea walls in East Anglia for a range of species and this culminated in the Sea Wall Biodiversity Handbook being published in 2015. Tim is currently working on salt marsh conservation\, enhancing tidal flood defences for bees\, seagrass mapping/ restoration and more recently\, rewilding of river valleys. \nThis event is free for members and £3 for non-members. You can find contact details here for all enquiries. \nPreceded by the AGM at 10am. New members welcome (Membership £10).
URL:https://transitionwoodbridge.org.uk/event/suffolk-why-rewild/
LOCATION:Waldringfield Village Hall\, School Rd\, Waldringfield\, Suffolk\, IP12 4QP\, United Kingdom
CATEGORIES:Upcoming
ATTACH;FMTTYPE=image/jpeg:https://transitionwoodbridge.org.uk/wp-content/uploads/2024/09/rewildins.jpg
END:VEVENT
BEGIN:VEVENT
DTSTART;TZID=Europe/London:20241012T140000
DTEND;TZID=Europe/London:20241012T160000
DTSTAMP:20260424T212034
CREATED:20241008T141650Z
LAST-MODIFIED:20241008T141857Z
UID:14407-1728741600-1728748800@transitionwoodbridge.org.uk
SUMMARY:Community Clean-Up
DESCRIPTION:Transition Woodbridge and Greenpeace Suffolk will be doing a litter-pick and seed sowing at Elmhurst Park\, from 2-4pm on 12th October as part of Climate and Nature Action. Bring gloves and litter-picks!
URL:https://transitionwoodbridge.org.uk/event/community-clean-up/
LOCATION:Elmhurst Park\, Woodbridge\, Suffolk\, IP12\, United Kingdom
CATEGORIES:Upcoming
ATTACH;FMTTYPE=image/jpeg:https://transitionwoodbridge.org.uk/wp-content/uploads/2024/10/action.jpg
ORGANIZER;CN="Transition Woodbridge":MAILTO:hello@transitionwoodbridge.org.uk
END:VEVENT
BEGIN:VEVENT
DTSTART;TZID=Europe/London:20241019T100000
DTEND;TZID=Europe/London:20241019T133000
DTSTAMP:20260424T212034
CREATED:20240814T175551Z
LAST-MODIFIED:20240814T175551Z
UID:12559-1729332000-1729344600@transitionwoodbridge.org.uk
SUMMARY:Wander in the Wilds - photography
DESCRIPTION:Learn how to use your camera to capture the best shots of Martlesham Wilds\, with award-winning photographer Kevin Sawford. \nOpen to all levels of photography from beginners to experts\, this ‘Wander in the Wilds’ will give you the opportunity to hone your existing photography skills or learn new ones as you take photos in the magical landscapes of this stunning new reserve in Suffolk. \nWhilst exploring the reserve in Autumn\, Kevin will guide you on the techniques you can employ to capture the perfect images of the surrounding landscape and its wildlife\, and he will provide you with hints & tips for getting the best out of your camera. You will receive one-to-one as well as group guidance on optimising your composition and have the chance to put some novel techniques into practice. \nFind out more\, including what to bring\, and book your place.
URL:https://transitionwoodbridge.org.uk/event/wander-in-the-wilds-photography/
LOCATION:Martlesham Wilds
CATEGORIES:Upcoming
ATTACH;FMTTYPE=image/jpeg:https://transitionwoodbridge.org.uk/wp-content/uploads/2024/08/camera.jpg
ORGANIZER;CN="Suffolk Wildlife Trust":MAILTO:info@suffolkwildlifetrust.org
END:VEVENT
BEGIN:VEVENT
DTSTART;TZID=Europe/London:20241027T100000
DTEND;TZID=Europe/London:20241027T120000
DTSTAMP:20260424T212034
CREATED:20231114T121907Z
LAST-MODIFIED:20231114T121907Z
UID:3289-1730023200-1730030400@transitionwoodbridge.org.uk
SUMMARY:Rubbish Walk Woodbridge
DESCRIPTION:Join Jason on a litterpick around Woodbridge on the last Sunday of every month. Leave from the Tea Hut by the river at 10am.
URL:https://transitionwoodbridge.org.uk/event/rubbish-walk-woodbridge-12/
LOCATION:The Tea Hut\, The Tea Hut\, River Wall\, Woodbridge\, Suffolk\, IP12 4BB\, United Kingdom
CATEGORIES:Upcoming
ATTACH;FMTTYPE=image/jpeg:https://transitionwoodbridge.org.uk/wp-content/uploads/2019/07/Transistion-Woodbridge_LOGO-2.jpg
END:VEVENT
BEGIN:VEVENT
DTSTART;TZID=Europe/London:20241027T130000
DTEND;TZID=Europe/London:20241027T143000
DTSTAMP:20260424T212034
CREATED:20240930T104705Z
LAST-MODIFIED:20240930T104705Z
UID:14359-1730034000-1730039400@transitionwoodbridge.org.uk
SUMMARY:Guided walk at Foxburrow
DESCRIPTION:A guided walk with our wildlife guide through the wonderful reserve that is Foxburrow. The theme this month is ‘leaving migrators’. \nDiscover Foxburrow reserve on a guided walk from our knowledgeable wildlife guide Margaret. Margaret will take you through the mosaic that is Foxburrow reserve and give you an overview to what is on the reserve currently and a little bit of history of the reserve. \nCome along whether you are a wildlife enthusiast or are looking to improve your ID skills\, everyone is welcome. We shall be exploring predominantly our red route which is a grass path and can be muddy in places. \nBinoculars are recommended – we sometimes have some to hire. \nTickets must be booked in advance. \nFind out more and book.
URL:https://transitionwoodbridge.org.uk/event/guided-walk-at-foxburrow/
LOCATION:Foxborrow Farm\, Foxborrow Farm\, Melton\, Woodbridge\, Suffolk\, IP121NA\, United Kingdom
CATEGORIES:Upcoming
ATTACH;FMTTYPE=image/jpeg:https://transitionwoodbridge.org.uk/wp-content/uploads/2024/08/walking-small.jpg
ORGANIZER;CN="Suffolk Wildlife Trust":MAILTO:info@suffolkwildlifetrust.org
END:VEVENT
END:VCALENDAR