BEGIN:VCALENDAR
VERSION:2.0
PRODID:-//Transition Woodbridge - ECPv6.15.20//NONSGML v1.0//EN
CALSCALE:GREGORIAN
METHOD:PUBLISH
X-WR-CALNAME:Transition Woodbridge
X-ORIGINAL-URL:https://transitionwoodbridge.org.uk
X-WR-CALDESC:Events for Transition Woodbridge
REFRESH-INTERVAL;VALUE=DURATION:PT1H
X-Robots-Tag:noindex
X-PUBLISHED-TTL:PT1H
BEGIN:VTIMEZONE
TZID:Europe/London
BEGIN:DAYLIGHT
TZOFFSETFROM:+0000
TZOFFSETTO:+0100
TZNAME:BST
DTSTART:20250330T010000
END:DAYLIGHT
BEGIN:STANDARD
TZOFFSETFROM:+0100
TZOFFSETTO:+0000
TZNAME:GMT
DTSTART:20251026T010000
END:STANDARD
BEGIN:DAYLIGHT
TZOFFSETFROM:+0000
TZOFFSETTO:+0100
TZNAME:BST
DTSTART:20260329T010000
END:DAYLIGHT
BEGIN:STANDARD
TZOFFSETFROM:+0100
TZOFFSETTO:+0000
TZNAME:GMT
DTSTART:20261025T010000
END:STANDARD
BEGIN:DAYLIGHT
TZOFFSETFROM:+0000
TZOFFSETTO:+0100
TZNAME:BST
DTSTART:20270328T010000
END:DAYLIGHT
BEGIN:STANDARD
TZOFFSETFROM:+0100
TZOFFSETTO:+0000
TZNAME:GMT
DTSTART:20271031T010000
END:STANDARD
END:VTIMEZONE
BEGIN:VEVENT
DTSTART;TZID=Europe/London:20260508T190000
DTEND;TZID=Europe/London:20260508T213000
DTSTAMP:20260423T200244
CREATED:20260413T083544Z
LAST-MODIFIED:20260413T083547Z
UID:17228-1778266800-1778275800@transitionwoodbridge.org.uk
SUMMARY:Peoples Emergency Briefing - Film Show and Expert Panel
DESCRIPTION:Deben Climate Centre and Transition Woodbridge collaborate\, with local experts\, to help us understand the impact of our Climate Emergency. \nThe National Emergency Briefing on the climate and nature crisis was held at Westminster Central Hall on 27 November and attended by over 1\,200 MPs\, peers and leaders from across UK society. It brought together senior experts to present a clear\, evidence-based account of the risks facing the UK and the scale of response required. \nThis public information programme works to ensure that both Parliament and the public are clearly and honestly briefed on the climate and nature crisis. This film extends that work to communities across the UK. \nWith a panel of well-known local experts\, Deben Climate Centre and Transition Woodbridge bring to you the National Emergency Briefing film. Covering a wide range of topics\, the film and our panel will deliver a localised view of how our region will be affected. \nReserve a spot.
URL:https://transitionwoodbridge.org.uk/event/peoples-emergency-briefing-film-show-and-expert-panel/
LOCATION:Woodbridge Community Hall\, Station Road\, Woodbridge\, Suffolk\, IP12 4AU
CATEGORIES:Upcoming
ATTACH;FMTTYPE=image/jpeg:https://transitionwoodbridge.org.uk/wp-content/uploads/2024/06/film.jpg
ORGANIZER;CN="Transition Woodbridge":MAILTO:hello@transitionwoodbridge.org.uk
END:VEVENT
END:VCALENDAR