BEGIN:VCALENDAR
VERSION:2.0
PRODID:-//Transition Woodbridge - ECPv6.15.20//NONSGML v1.0//EN
CALSCALE:GREGORIAN
METHOD:PUBLISH
X-WR-CALNAME:Transition Woodbridge
X-ORIGINAL-URL:https://transitionwoodbridge.org.uk
X-WR-CALDESC:Events for Transition Woodbridge
REFRESH-INTERVAL;VALUE=DURATION:PT1H
X-Robots-Tag:noindex
X-PUBLISHED-TTL:PT1H
BEGIN:VTIMEZONE
TZID:Europe/London
BEGIN:DAYLIGHT
TZOFFSETFROM:+0000
TZOFFSETTO:+0100
TZNAME:BST
DTSTART:20250330T010000
END:DAYLIGHT
BEGIN:STANDARD
TZOFFSETFROM:+0100
TZOFFSETTO:+0000
TZNAME:GMT
DTSTART:20251026T010000
END:STANDARD
BEGIN:DAYLIGHT
TZOFFSETFROM:+0000
TZOFFSETTO:+0100
TZNAME:BST
DTSTART:20260329T010000
END:DAYLIGHT
BEGIN:STANDARD
TZOFFSETFROM:+0100
TZOFFSETTO:+0000
TZNAME:GMT
DTSTART:20261025T010000
END:STANDARD
BEGIN:DAYLIGHT
TZOFFSETFROM:+0000
TZOFFSETTO:+0100
TZNAME:BST
DTSTART:20270328T010000
END:DAYLIGHT
BEGIN:STANDARD
TZOFFSETFROM:+0100
TZOFFSETTO:+0000
TZNAME:GMT
DTSTART:20271031T010000
END:STANDARD
END:VTIMEZONE
BEGIN:VEVENT
DTSTART;TZID=Europe/London:20260416T193000
DTEND;TZID=Europe/London:20260416T213000
DTSTAMP:20260423T183504
CREATED:20260408T220136Z
LAST-MODIFIED:20260408T220136Z
UID:17220-1776367800-1776375000@transitionwoodbridge.org.uk
SUMMARY:The Future of Barn Owls in Suffolk
DESCRIPTION:Come along and hear about Barn Owl Support Suffolk’s work maintaining and monitoring the many barn owl boxes that have been put up in the county over the past 20 years. \nWoodbridge Wildlife Group chairman Phil Smith said : “The talk will share fascinating insights into the lives of barn owls\, the challenges they face and the practical conservation work underway to support their survival. The talk will explore how Barn Own Support Suffolk\, part of Suffolk Bird Group\, is helping to secure a positive future for Barn Owls through nest box provision\, habitat support and community involvement.” \nLight refreshments will be served during the evening and there will be a raffle. Doors open at 7pm and there is no need to book for the talk\, pay on the door with cash or card.
URL:https://transitionwoodbridge.org.uk/event/the-future-of-barn-owls-in-suffolk/
LOCATION:Woodbridge Community Hall\, Station Road\, Woodbridge\, Suffolk\, IP12 4AU
CATEGORIES:Upcoming
ATTACH;FMTTYPE=image/jpeg:https://transitionwoodbridge.org.uk/wp-content/uploads/2025/01/barnowl.jpg
ORGANIZER;CN="Suffolk Wildlife Trust":MAILTO:info@suffolkwildlifetrust.org
END:VEVENT
END:VCALENDAR