BEGIN:VCALENDAR
VERSION:2.0
PRODID:-//Transition Woodbridge - ECPv6.15.20//NONSGML v1.0//EN
CALSCALE:GREGORIAN
METHOD:PUBLISH
X-ORIGINAL-URL:https://transitionwoodbridge.org.uk
X-WR-CALDESC:Events for Transition Woodbridge
REFRESH-INTERVAL;VALUE=DURATION:PT1H
X-Robots-Tag:noindex
X-PUBLISHED-TTL:PT1H
BEGIN:VTIMEZONE
TZID:Europe/London
BEGIN:DAYLIGHT
TZOFFSETFROM:+0000
TZOFFSETTO:+0100
TZNAME:BST
DTSTART:20250330T010000
END:DAYLIGHT
BEGIN:STANDARD
TZOFFSETFROM:+0100
TZOFFSETTO:+0000
TZNAME:GMT
DTSTART:20251026T010000
END:STANDARD
BEGIN:DAYLIGHT
TZOFFSETFROM:+0000
TZOFFSETTO:+0100
TZNAME:BST
DTSTART:20260329T010000
END:DAYLIGHT
BEGIN:STANDARD
TZOFFSETFROM:+0100
TZOFFSETTO:+0000
TZNAME:GMT
DTSTART:20261025T010000
END:STANDARD
BEGIN:DAYLIGHT
TZOFFSETFROM:+0000
TZOFFSETTO:+0100
TZNAME:BST
DTSTART:20270328T010000
END:DAYLIGHT
BEGIN:STANDARD
TZOFFSETFROM:+0100
TZOFFSETTO:+0000
TZNAME:GMT
DTSTART:20271031T010000
END:STANDARD
END:VTIMEZONE
BEGIN:VEVENT
DTSTART;TZID=Europe/London:20260325T190000
DTEND;TZID=Europe/London:20260325T203000
DTSTAMP:20260423T201146
CREATED:20260309T164349Z
LAST-MODIFIED:20260309T164349Z
UID:17194-1774465200-1774470600@transitionwoodbridge.org.uk
SUMMARY:Wildlife Live Webinar
DESCRIPTION:To give nature the best chance to recover from the effects of human activity and the climate crisis\, it’s essential to create more space in our landscape in which nature can recover and become abundant again. \nWhilst Suffolk Wildlife Trust owns and manages a total of 2\,900 hectares of land on 50 nature reserves across Suffolk\, these alone cannot provide the space needed for wildlife to recover. It is essential for us all to work together with fellow landowners and communities to prioritise nature for the good of all. Helen Bynum\, farm wildlife advisor\, will share with us the collaborative Landscape Recovery projects that have taken place across the county and the benefits gained for wildlife. \nSuffolk Wildlife Trust uses the Zoom platform for its webinars and\, when you book\, you will receive simple instructions on how to join the event from the comfort of your own home.
URL:https://transitionwoodbridge.org.uk/event/wildlife-live-webinar/
CATEGORIES:Upcoming
ATTACH;FMTTYPE=image/jpeg:https://transitionwoodbridge.org.uk/wp-content/uploads/2025/01/barnowl.jpg
ORGANIZER;CN="Suffolk Wildlife Trust":MAILTO:info@suffolkwildlifetrust.org
END:VEVENT
END:VCALENDAR