BEGIN:VCALENDAR
VERSION:2.0
PRODID:-//Transition Woodbridge - ECPv6.15.20//NONSGML v1.0//EN
CALSCALE:GREGORIAN
METHOD:PUBLISH
X-WR-CALNAME:Transition Woodbridge
X-ORIGINAL-URL:https://transitionwoodbridge.org.uk
X-WR-CALDESC:Events for Transition Woodbridge
REFRESH-INTERVAL;VALUE=DURATION:PT1H
X-Robots-Tag:noindex
X-PUBLISHED-TTL:PT1H
BEGIN:VTIMEZONE
TZID:Europe/London
BEGIN:DAYLIGHT
TZOFFSETFROM:+0000
TZOFFSETTO:+0100
TZNAME:BST
DTSTART:20250330T010000
END:DAYLIGHT
BEGIN:STANDARD
TZOFFSETFROM:+0100
TZOFFSETTO:+0000
TZNAME:GMT
DTSTART:20251026T010000
END:STANDARD
BEGIN:DAYLIGHT
TZOFFSETFROM:+0000
TZOFFSETTO:+0100
TZNAME:BST
DTSTART:20260329T010000
END:DAYLIGHT
BEGIN:STANDARD
TZOFFSETFROM:+0100
TZOFFSETTO:+0000
TZNAME:GMT
DTSTART:20261025T010000
END:STANDARD
BEGIN:DAYLIGHT
TZOFFSETFROM:+0000
TZOFFSETTO:+0100
TZNAME:BST
DTSTART:20270328T010000
END:DAYLIGHT
BEGIN:STANDARD
TZOFFSETFROM:+0100
TZOFFSETTO:+0000
TZNAME:GMT
DTSTART:20271031T010000
END:STANDARD
END:VTIMEZONE
BEGIN:VEVENT
DTSTART;TZID=Europe/London:20260313T190000
DTEND;TZID=Europe/London:20260313T210000
DTSTAMP:20260423T200249
CREATED:20260119T163841Z
LAST-MODIFIED:20260216T222230Z
UID:16944-1773428400-1773435600@transitionwoodbridge.org.uk
SUMMARY:Even older houses can become carbon-neutral\, with Ralph Carpenter
DESCRIPTION:Overview \nDon’t lose hope if you live in a Victorian gem: deep retrofitting and a heat pump can reduce your energy consumption by up to 75% \nDomestic property energy consumption equates to 14% of all UK carbon emissions\, and older buildings can provide us with more flexibility to adopt appropriate solutions \nBuilding regulations are designed to allow us to retrofit appropriately. In good authorities regulators are even prepared to abandon data and be flexible. \nOur Speaker \nRalph Carpenter is an architect. He owns the Zero Carbon House in Hartest\, Suffolk and is considered to be the ‘grandfather’ of hempcrete. A key part of Ralph’s mission is to show communities and individuals what really is possible in terms of creating inspiring\, low-impact green buildings to live and work in. \nJoin us at Woodbridge Methodist Church for an inspiring evening of knowledge-sharing and networking. \nDoors open at 6:30PM for a cup of tea and the opportunity to mingle. \nFind out more and get tickets
URL:https://transitionwoodbridge.org.uk/event/even-older-houses-can-become-carbon-neutral-with-ralph-carpenter/
LOCATION:Woodbridge Methodist Church\, 25 Saint John's Street\, Woodbridge\, Suffolk\, IP12 1ED\, United Kingdom
CATEGORIES:Upcoming
ATTACH;FMTTYPE=image/png:https://transitionwoodbridge.org.uk/wp-content/uploads/2025/02/dcc.png
END:VEVENT
END:VCALENDAR