BEGIN:VCALENDAR
VERSION:2.0
PRODID:-//Transition Woodbridge - ECPv6.15.20//NONSGML v1.0//EN
CALSCALE:GREGORIAN
METHOD:PUBLISH
X-WR-CALNAME:Transition Woodbridge
X-ORIGINAL-URL:https://transitionwoodbridge.org.uk
X-WR-CALDESC:Events for Transition Woodbridge
REFRESH-INTERVAL;VALUE=DURATION:PT1H
X-Robots-Tag:noindex
X-PUBLISHED-TTL:PT1H
BEGIN:VTIMEZONE
TZID:Europe/London
BEGIN:DAYLIGHT
TZOFFSETFROM:+0000
TZOFFSETTO:+0100
TZNAME:BST
DTSTART:20250330T010000
END:DAYLIGHT
BEGIN:STANDARD
TZOFFSETFROM:+0100
TZOFFSETTO:+0000
TZNAME:GMT
DTSTART:20251026T010000
END:STANDARD
BEGIN:DAYLIGHT
TZOFFSETFROM:+0000
TZOFFSETTO:+0100
TZNAME:BST
DTSTART:20260329T010000
END:DAYLIGHT
BEGIN:STANDARD
TZOFFSETFROM:+0100
TZOFFSETTO:+0000
TZNAME:GMT
DTSTART:20261025T010000
END:STANDARD
BEGIN:DAYLIGHT
TZOFFSETFROM:+0000
TZOFFSETTO:+0100
TZNAME:BST
DTSTART:20270328T010000
END:DAYLIGHT
BEGIN:STANDARD
TZOFFSETFROM:+0100
TZOFFSETTO:+0000
TZNAME:GMT
DTSTART:20271031T010000
END:STANDARD
END:VTIMEZONE
BEGIN:VEVENT
DTSTART;TZID=Europe/London:20260306T190000
DTEND;TZID=Europe/London:20260306T210000
DTSTAMP:20260423T195936
CREATED:20260119T163856Z
LAST-MODIFIED:20260216T222128Z
UID:16946-1772823600-1772830800@transitionwoodbridge.org.uk
SUMMARY:A Solar Farm in Space? Why not\, says Dr Dan Clery
DESCRIPTION:Overview \nFusion Power and other FutureTech is one thing\, but when Dan mentioned orbiting solar panels\, always in the sun\, we were hooked. \nThere was a time when coal was gold. We’ve absorbed the solar panel and the nuclear reactor\, but it looks like there’s a lot more coming our way in terms of energy technology. Dr Dan Clery will uncover and demystify some of the solutions that don’t yet make sense to us. \nOur Speaker \nDr Daniel Clery is a graduate in theoretical physics who has for more than 20 years worked as a writer and editor on some of the world’s top science magazines\, including Physics World\, New Scientist and Science. Appointed as Science’s news editor in Europe in 1993\, he has covered many of the big science news stories of the past two decades\, and has become one of the magazine’s foremost writers on energy research\, addressing topics including fission and fusion energy\, wind and solar power and tidal barrages. \nJoin us at Woodbridge Methodist Church for an inspiring evening of knowledge-sharing and networking. \nDoors open at 6:30PM for a cup of tea and the opportunity to mingle. \nFind out more and get tickets
URL:https://transitionwoodbridge.org.uk/event/a-solar-farm-in-space-why-not-says-dr-dan-clery/
LOCATION:Woodbridge Methodist Church\, 25 Saint John's Street\, Woodbridge\, Suffolk\, IP12 1ED\, United Kingdom
CATEGORIES:Upcoming
ATTACH;FMTTYPE=image/png:https://transitionwoodbridge.org.uk/wp-content/uploads/2025/02/dcc.png
END:VEVENT
END:VCALENDAR