BEGIN:VCALENDAR
VERSION:2.0
PRODID:-//Transition Woodbridge - ECPv6.15.20//NONSGML v1.0//EN
CALSCALE:GREGORIAN
METHOD:PUBLISH
X-ORIGINAL-URL:https://transitionwoodbridge.org.uk
X-WR-CALDESC:Events for Transition Woodbridge
REFRESH-INTERVAL;VALUE=DURATION:PT1H
X-Robots-Tag:noindex
X-PUBLISHED-TTL:PT1H
BEGIN:VTIMEZONE
TZID:Europe/London
BEGIN:DAYLIGHT
TZOFFSETFROM:+0000
TZOFFSETTO:+0100
TZNAME:BST
DTSTART:20250330T010000
END:DAYLIGHT
BEGIN:STANDARD
TZOFFSETFROM:+0100
TZOFFSETTO:+0000
TZNAME:GMT
DTSTART:20251026T010000
END:STANDARD
BEGIN:DAYLIGHT
TZOFFSETFROM:+0000
TZOFFSETTO:+0100
TZNAME:BST
DTSTART:20260329T010000
END:DAYLIGHT
BEGIN:STANDARD
TZOFFSETFROM:+0100
TZOFFSETTO:+0000
TZNAME:GMT
DTSTART:20261025T010000
END:STANDARD
BEGIN:DAYLIGHT
TZOFFSETFROM:+0000
TZOFFSETTO:+0100
TZNAME:BST
DTSTART:20270328T010000
END:DAYLIGHT
BEGIN:STANDARD
TZOFFSETFROM:+0100
TZOFFSETTO:+0000
TZNAME:GMT
DTSTART:20271031T010000
END:STANDARD
END:VTIMEZONE
BEGIN:VEVENT
DTSTART;TZID=Europe/London:20260220T190000
DTEND;TZID=Europe/London:20260220T210000
DTSTAMP:20260423T214147
CREATED:20260119T163937Z
LAST-MODIFIED:20260216T222003Z
UID:16948-1771614000-1771621200@transitionwoodbridge.org.uk
SUMMARY:Home Solar and Battery systems with Phil Bull
DESCRIPTION:Overview \nA plain-English exploration into a topic which baffles many. \nHave rising energy bills and concern about climate change tempted you to invest in a home solar PV system and maybe a battery too? In this talk\, Phil will seek to de-mystify a subject that people have told him they find confusing. He will describe his own system\, his experience of running it over the past five years and will quantify its behaviour. He will talk about things he has learned\, some of which would have been nice to know before he embarked on his “green adventure”. \nOur Speaker \nPhil Bull is a member of the Martlesham Climate Action group and DCC who has presented on this topic at various climate events. He has spoken with many system owners and prospective owners at these events\, from which some common questions (and myths) have emerged. He is not a solar systems professional\, but from his own experience and from discussions at these events he has distilled some key considerations for those thinking about installing a system. Phil is a retired engineer who worked as a researcher at BT’s Labs at Martlesham Heath for several decades. He is a member of the IET. \nPhil is a retired research engineer\, having had a career of 47 years in the communications industry. His extensive R&D experience was in a range of domains including digital homes\, smart energy metering\, broadband and advanced diagnostics systems. Phil has been taking steps to reduce home energy consumption and become “greener” for some years. He believes that technology is most effective for most people when it is hidden in the background and made easy to use. He is a member of the Institution of Engineering and Technology (IET). \nJoin us at Woodbridge Methodist Church for an evening of knowledge-sharing and networking. \nDoors open at 6:30PM for a cup of tea and the opportunity to mingle. \nFind out more and get tickets
URL:https://transitionwoodbridge.org.uk/event/home-solar-and-battery-systems-with-phil-bull/
LOCATION:Woodbridge Methodist Church\, 25 Saint John's Street\, Woodbridge\, Suffolk\, IP12 1ED\, United Kingdom
CATEGORIES:Upcoming
ATTACH;FMTTYPE=image/png:https://transitionwoodbridge.org.uk/wp-content/uploads/2025/02/dcc.png
END:VEVENT
END:VCALENDAR