BEGIN:VCALENDAR
VERSION:2.0
PRODID:-//Transition Woodbridge - ECPv6.15.20//NONSGML v1.0//EN
CALSCALE:GREGORIAN
METHOD:PUBLISH
X-ORIGINAL-URL:https://transitionwoodbridge.org.uk
X-WR-CALDESC:Events for Transition Woodbridge
REFRESH-INTERVAL;VALUE=DURATION:PT1H
X-Robots-Tag:noindex
X-PUBLISHED-TTL:PT1H
BEGIN:VTIMEZONE
TZID:Europe/London
BEGIN:DAYLIGHT
TZOFFSETFROM:+0000
TZOFFSETTO:+0100
TZNAME:BST
DTSTART:20250330T010000
END:DAYLIGHT
BEGIN:STANDARD
TZOFFSETFROM:+0100
TZOFFSETTO:+0000
TZNAME:GMT
DTSTART:20251026T010000
END:STANDARD
BEGIN:DAYLIGHT
TZOFFSETFROM:+0000
TZOFFSETTO:+0100
TZNAME:BST
DTSTART:20260329T010000
END:DAYLIGHT
BEGIN:STANDARD
TZOFFSETFROM:+0100
TZOFFSETTO:+0000
TZNAME:GMT
DTSTART:20261025T010000
END:STANDARD
BEGIN:DAYLIGHT
TZOFFSETFROM:+0000
TZOFFSETTO:+0100
TZNAME:BST
DTSTART:20270328T010000
END:DAYLIGHT
BEGIN:STANDARD
TZOFFSETFROM:+0100
TZOFFSETTO:+0000
TZNAME:GMT
DTSTART:20271031T010000
END:STANDARD
END:VTIMEZONE
BEGIN:VEVENT
DTSTART;TZID=Europe/London:20260206T190000
DTEND;TZID=Europe/London:20260206T210000
DTSTAMP:20260423T214130
CREATED:20260119T164022Z
LAST-MODIFIED:20260119T165045Z
UID:16950-1770404400-1770411600@transitionwoodbridge.org.uk
SUMMARY:Climate Change Gardening with Clive Boase
DESCRIPTION:Overview \nExpert speaker Clive Boase from Climate Change Gardening talks about how the changing climate is affecting your garden. \nPrivate gardens are the third largest UK land use sector\, and in urban areas they form 25% of the landscape. Together\, gardens have the potential to help mitigate climate change impacts\, and also to enrich our increasingly threatened wildlife. With over 20 million people identifying as gardeners\, our choices of plants\, cultivation techniques\, composts\, watering\, wild areas\, and many other details\, can make an important difference\, locally and nationally. \nThere are many inexpensive and simple ways in which you can help your own garden to mitigate climate change\, and also enable it to become more resilient\, productive and enjoyable. However\, you don’t have to do everything all at once – even small changes can bring big benefits locally\, across the wider landscape\, and beyond…. \nOur Speaker \nClive Boase is a trustee of the charity ‘Climate Change Gardening’. The charity was established in 2024\, to encourage gardeners to adapt their gardening practices to help mitigate the climate and biodiversity crises. The demand for their outreach work has grown very rapidly\, partly driven by the extreme weather in recent years. In 2025 they were involved in around 40 different events\, and engaged face-to-face with over 1800 gardeners. This gives them a valuable and unique opportunity to understand issues\, and inspire changes in gardening practice. Together\, England’s 20 million gardeners can make a lasting difference. \nJoin us at Woodbridge Methodist Church for an inspiring evening of knowledge-sharing and networking. \nDoors open at 6:30PM for a cup of tea and the opportunity to mingle. \nFind out more and get tickets
URL:https://transitionwoodbridge.org.uk/event/climate-change-gardening-with-clive-boase/
LOCATION:Woodbridge Methodist Church\, 25 Saint John's Street\, Woodbridge\, Suffolk\, IP12 1ED\, United Kingdom
CATEGORIES:Upcoming
ATTACH;FMTTYPE=image/png:https://transitionwoodbridge.org.uk/wp-content/uploads/2025/02/dcc.png
END:VEVENT
END:VCALENDAR