BEGIN:VCALENDAR
VERSION:2.0
PRODID:-//Transition Woodbridge - ECPv6.15.20//NONSGML v1.0//EN
CALSCALE:GREGORIAN
METHOD:PUBLISH
X-ORIGINAL-URL:https://transitionwoodbridge.org.uk
X-WR-CALDESC:Events for Transition Woodbridge
REFRESH-INTERVAL;VALUE=DURATION:PT1H
X-Robots-Tag:noindex
X-PUBLISHED-TTL:PT1H
BEGIN:VTIMEZONE
TZID:Europe/London
BEGIN:DAYLIGHT
TZOFFSETFROM:+0000
TZOFFSETTO:+0100
TZNAME:BST
DTSTART:20240331T010000
END:DAYLIGHT
BEGIN:STANDARD
TZOFFSETFROM:+0100
TZOFFSETTO:+0000
TZNAME:GMT
DTSTART:20241027T010000
END:STANDARD
BEGIN:DAYLIGHT
TZOFFSETFROM:+0000
TZOFFSETTO:+0100
TZNAME:BST
DTSTART:20250330T010000
END:DAYLIGHT
BEGIN:STANDARD
TZOFFSETFROM:+0100
TZOFFSETTO:+0000
TZNAME:GMT
DTSTART:20251026T010000
END:STANDARD
BEGIN:DAYLIGHT
TZOFFSETFROM:+0000
TZOFFSETTO:+0100
TZNAME:BST
DTSTART:20260329T010000
END:DAYLIGHT
BEGIN:STANDARD
TZOFFSETFROM:+0100
TZOFFSETTO:+0000
TZNAME:GMT
DTSTART:20261025T010000
END:STANDARD
END:VTIMEZONE
BEGIN:VEVENT
DTSTART;TZID=Europe/London:20251213T110000
DTEND;TZID=Europe/London:20251213T130000
DTSTAMP:20260424T004708
CREATED:20251103T120838Z
LAST-MODIFIED:20251103T120838Z
UID:16802-1765623600-1765630800@transitionwoodbridge.org.uk
SUMMARY:Talk on Local Nature Recovery and Biodiversity Strategies in Suffolk
DESCRIPTION:A talk by Jen Burlingham\, Norfolk & Suffolk Nature Recovery Partnership Manager\, organised by Waldringfield Wildlife Group. \nThe Local Nature Recovery Strategy (LNRS) for Norfolk and Suffolk was created by Suffolk County Council working with Norfolk and Suffolk Nature Recovery Partnership. It is part of a nationwide move to create the space and connectivity needed on land and sea for nature to thrive\, recover and be resilient. After a three phase period of consultation the local strategy is soon to be launched for implementation. The WWG invite you to join us in finding out more about the biodiversity strategies planned for Suffolk and to look at the opportunities we have to engage in the restoration and enhancement of the county’s unique habitats. \nPlease also note that this talk is preceded by the WWG business meeting at 10am and followed by members bring and share Christmas lunch.
URL:https://transitionwoodbridge.org.uk/event/talk-on-local-nature-recovery-and-biodiversity-strategies-in-suffolk/
LOCATION:Waldringfield Village Hall\, School Rd\, Waldringfield\, Suffolk\, IP12 4QP\, United Kingdom
CATEGORIES:Upcoming
ATTACH;FMTTYPE=image/jpeg:https://transitionwoodbridge.org.uk/wp-content/uploads/2025/11/heather.jpg
END:VEVENT
END:VCALENDAR