BEGIN:VCALENDAR
VERSION:2.0
PRODID:-//Transition Woodbridge - ECPv6.15.20//NONSGML v1.0//EN
CALSCALE:GREGORIAN
METHOD:PUBLISH
X-WR-CALNAME:Transition Woodbridge
X-ORIGINAL-URL:https://transitionwoodbridge.org.uk
X-WR-CALDESC:Events for Transition Woodbridge
REFRESH-INTERVAL;VALUE=DURATION:PT1H
X-Robots-Tag:noindex
X-PUBLISHED-TTL:PT1H
BEGIN:VTIMEZONE
TZID:Europe/London
BEGIN:DAYLIGHT
TZOFFSETFROM:+0000
TZOFFSETTO:+0100
TZNAME:BST
DTSTART:20240331T010000
END:DAYLIGHT
BEGIN:STANDARD
TZOFFSETFROM:+0100
TZOFFSETTO:+0000
TZNAME:GMT
DTSTART:20241027T010000
END:STANDARD
BEGIN:DAYLIGHT
TZOFFSETFROM:+0000
TZOFFSETTO:+0100
TZNAME:BST
DTSTART:20250330T010000
END:DAYLIGHT
BEGIN:STANDARD
TZOFFSETFROM:+0100
TZOFFSETTO:+0000
TZNAME:GMT
DTSTART:20251026T010000
END:STANDARD
BEGIN:DAYLIGHT
TZOFFSETFROM:+0000
TZOFFSETTO:+0100
TZNAME:BST
DTSTART:20260329T010000
END:DAYLIGHT
BEGIN:STANDARD
TZOFFSETFROM:+0100
TZOFFSETTO:+0000
TZNAME:GMT
DTSTART:20261025T010000
END:STANDARD
END:VTIMEZONE
BEGIN:VEVENT
DTSTART;TZID=Europe/London:20250712T140000
DTEND;TZID=Europe/London:20250712T163000
DTSTAMP:20260424T083956
CREATED:20250708T102406Z
LAST-MODIFIED:20250708T102406Z
UID:16635-1752328800-1752337800@transitionwoodbridge.org.uk
SUMMARY:Walk: Butterflies in Bonny Wood
DESCRIPTION:On Saturday 12 July\, Suffolk Wildlife Trust’s Woodbridge Wildlife Group invite you to join them for a Butterfly Walk to the ancient Bonny Wood near Barking\, starting at 2pm. \n“We are meeting at Barking Tye Village Hall from where we will take the 15-20 minute walk along public footpaths to this delightful reserve\,” said Phil Smith\, Chairman of the Woodbridge Wildlife Group. “Bonny Wood is part of Barking Tye Woods\, a site of special scientific interest and\, weather permitting\, is a good place to spot a range of butterflies. We’ll also be on the lookout for woodland flowers and birds.” \nThe walk starts from Barking Tye Village Hall car park\, IP6 8HP. Participants should bring binoculars and wear strong and waterproof footwear\, as this reserve can be wet and muddy. Bring a drink and sun hat too. Places on this walk are strictly limited and must be pre-booked by contacting Suffolk Wildlife Trust. The cost is £5 per person with under 25’s free\, and bookings can be made online. The walk is suitable for children over 10. Dogs are not allowed on this walk.
URL:https://transitionwoodbridge.org.uk/event/walk-butterflies-in-bonny-wood/
LOCATION:Barking Tye Village Hall car park\, Barking Tye Village Hall car park\, Barking Tye\, IP6 8HP\, United Kingdom
CATEGORIES:Upcoming
ATTACH;FMTTYPE=image/jpeg:https://transitionwoodbridge.org.uk/wp-content/uploads/2024/07/butterfly.jpg
ORGANIZER;CN="Suffolk Wildlife Trust":MAILTO:info@suffolkwildlifetrust.org
END:VEVENT
END:VCALENDAR