BEGIN:VCALENDAR
VERSION:2.0
PRODID:-//Transition Woodbridge - ECPv6.15.20//NONSGML v1.0//EN
CALSCALE:GREGORIAN
METHOD:PUBLISH
X-ORIGINAL-URL:https://transitionwoodbridge.org.uk
X-WR-CALDESC:Events for Transition Woodbridge
REFRESH-INTERVAL;VALUE=DURATION:PT1H
X-Robots-Tag:noindex
X-PUBLISHED-TTL:PT1H
BEGIN:VTIMEZONE
TZID:Europe/London
BEGIN:DAYLIGHT
TZOFFSETFROM:+0000
TZOFFSETTO:+0100
TZNAME:BST
DTSTART:20240331T010000
END:DAYLIGHT
BEGIN:STANDARD
TZOFFSETFROM:+0100
TZOFFSETTO:+0000
TZNAME:GMT
DTSTART:20241027T010000
END:STANDARD
BEGIN:DAYLIGHT
TZOFFSETFROM:+0000
TZOFFSETTO:+0100
TZNAME:BST
DTSTART:20250330T010000
END:DAYLIGHT
BEGIN:STANDARD
TZOFFSETFROM:+0100
TZOFFSETTO:+0000
TZNAME:GMT
DTSTART:20251026T010000
END:STANDARD
BEGIN:DAYLIGHT
TZOFFSETFROM:+0000
TZOFFSETTO:+0100
TZNAME:BST
DTSTART:20260329T010000
END:DAYLIGHT
BEGIN:STANDARD
TZOFFSETFROM:+0100
TZOFFSETTO:+0000
TZNAME:GMT
DTSTART:20261025T010000
END:STANDARD
END:VTIMEZONE
BEGIN:VEVENT
DTSTART;TZID=Europe/London:20250629T090000
DTEND;TZID=Europe/London:20250629T110000
DTSTAMP:20260424T100824
CREATED:20250623T153043Z
LAST-MODIFIED:20250623T153201Z
UID:16620-1751187600-1751194800@transitionwoodbridge.org.uk
SUMMARY:Melton Litterpick
DESCRIPTION:Starting point: Winifred Fison car park\, the Street\, Melton. \nMeeting time: 9am\, Sunday 29 June. \nA few grabbers plus bags will be available. \nDepending on numbers we will try and cover: \n\nYarmouth Road\nLodge Farm Road\nStation Road\nThe Street\nSt Andrews Place\nHall Farm Road\nWoods Lane\nRiverside Melton\n\nPlease let Peter know if you’re interested in joining: 07825 410333
URL:https://transitionwoodbridge.org.uk/event/melton-litterpick/
LOCATION:Winifred Fison car park\, The Street\, Melton\, Woodbridge\, Suffolk
CATEGORIES:Upcoming
ATTACH;FMTTYPE=image/jpeg:https://transitionwoodbridge.org.uk/wp-content/uploads/2024/10/litter2.jpg
ORGANIZER;CN="Transition Woodbridge":MAILTO:hello@transitionwoodbridge.org.uk
END:VEVENT
BEGIN:VEVENT
DTSTART;TZID=Europe/London:20250629T100000
DTEND;TZID=Europe/London:20250629T170000
DTSTAMP:20260424T100824
CREATED:20250610T135530Z
LAST-MODIFIED:20250610T135530Z
UID:16591-1751191200-1751216400@transitionwoodbridge.org.uk
SUMMARY:Rydal Mount – Celebration of local biodiversity
DESCRIPTION:It’s surprising what biodiversity is right under our noses\, and Rydal Mount is a prime example. Just outside the village of Wissett\, set in 25 acres of wood and wildflower pasture\, this is the setting for a full day’s practical immersion into the work and challenges to conserve our environment. \nThe pressures on the environment\, farmland\, towns and villages are well known. Sunny flat Suffolk is earmarked for acres of solar panels on farm land and the pressure on our coast to develop four large energy systems is potentially devastating for the fragile biodiversity near by. \nThis is a day of practical seminars\, addressing these challenges (a new solar farm has recently passed planning on farmland adjacent to Rydal Mount)\, as well as what inspiring work is being done locally to enhance and protect our local biodiversity. It is a chance to partake\, learn\, look\, listen\, walk\, exchange and meet. \nThis is particularly relevant for local Parish Councillors who are obliged to create a Biodiversity Action Plan for their locality\, as well as local people keen to become involved in what they can do or learn. \nBook your place at this event\, which is organised by Alan Witherby and Halesworth ASH.
URL:https://transitionwoodbridge.org.uk/event/rydal-mount-celebration-of-local-biodiversity/
LOCATION:Rydal Mount\, Gray's Lane\, Wissett\, Suffolk\, IP19 0JP\, United Kingdom
CATEGORIES:Upcoming
ATTACH;FMTTYPE=image/jpeg:https://transitionwoodbridge.org.uk/wp-content/uploads/2025/06/rydal.jpg
ORGANIZER;CN="Halesworth Area Sustainability Hub":MAILTO:halesworthash@gmail.com
END:VEVENT
END:VCALENDAR