BEGIN:VCALENDAR
VERSION:2.0
PRODID:-//Transition Woodbridge - ECPv6.15.20//NONSGML v1.0//EN
CALSCALE:GREGORIAN
METHOD:PUBLISH
X-WR-CALNAME:Transition Woodbridge
X-ORIGINAL-URL:https://transitionwoodbridge.org.uk
X-WR-CALDESC:Events for Transition Woodbridge
REFRESH-INTERVAL;VALUE=DURATION:PT1H
X-Robots-Tag:noindex
X-PUBLISHED-TTL:PT1H
BEGIN:VTIMEZONE
TZID:Europe/London
BEGIN:DAYLIGHT
TZOFFSETFROM:+0000
TZOFFSETTO:+0100
TZNAME:BST
DTSTART:20240331T010000
END:DAYLIGHT
BEGIN:STANDARD
TZOFFSETFROM:+0100
TZOFFSETTO:+0000
TZNAME:GMT
DTSTART:20241027T010000
END:STANDARD
BEGIN:DAYLIGHT
TZOFFSETFROM:+0000
TZOFFSETTO:+0100
TZNAME:BST
DTSTART:20250330T010000
END:DAYLIGHT
BEGIN:STANDARD
TZOFFSETFROM:+0100
TZOFFSETTO:+0000
TZNAME:GMT
DTSTART:20251026T010000
END:STANDARD
BEGIN:DAYLIGHT
TZOFFSETFROM:+0000
TZOFFSETTO:+0100
TZNAME:BST
DTSTART:20260329T010000
END:DAYLIGHT
BEGIN:STANDARD
TZOFFSETFROM:+0100
TZOFFSETTO:+0000
TZNAME:GMT
DTSTART:20261025T010000
END:STANDARD
END:VTIMEZONE
BEGIN:VEVENT
DTSTART;TZID=Europe/London:20250617T123000
DTEND;TZID=Europe/London:20250617T140000
DTSTAMP:20260424T100728
CREATED:20250512T101939Z
LAST-MODIFIED:20250512T101939Z
UID:16465-1750163400-1750168800@transitionwoodbridge.org.uk
SUMMARY:Community Network webinar with UK Power Networks
DESCRIPTION:This online event has been arranged by the Suffolk Climate Change Partnership for the Community Network. An opportunity to hear from UK Power Networks and ask questions. \nFind out more and join in.
URL:https://transitionwoodbridge.org.uk/event/community-network-webinar-with-uk-power-networks/
CATEGORIES:Upcoming
ATTACH;FMTTYPE=image/jpeg:https://transitionwoodbridge.org.uk/wp-content/uploads/2025/01/webinar.jpg
END:VEVENT
END:VCALENDAR