BEGIN:VCALENDAR
VERSION:2.0
PRODID:-//Transition Woodbridge - ECPv6.15.20//NONSGML v1.0//EN
CALSCALE:GREGORIAN
METHOD:PUBLISH
X-WR-CALNAME:Transition Woodbridge
X-ORIGINAL-URL:https://transitionwoodbridge.org.uk
X-WR-CALDESC:Events for Transition Woodbridge
REFRESH-INTERVAL;VALUE=DURATION:PT1H
X-Robots-Tag:noindex
X-PUBLISHED-TTL:PT1H
BEGIN:VTIMEZONE
TZID:Europe/London
BEGIN:DAYLIGHT
TZOFFSETFROM:+0000
TZOFFSETTO:+0100
TZNAME:BST
DTSTART:20240331T010000
END:DAYLIGHT
BEGIN:STANDARD
TZOFFSETFROM:+0100
TZOFFSETTO:+0000
TZNAME:GMT
DTSTART:20241027T010000
END:STANDARD
BEGIN:DAYLIGHT
TZOFFSETFROM:+0000
TZOFFSETTO:+0100
TZNAME:BST
DTSTART:20250330T010000
END:DAYLIGHT
BEGIN:STANDARD
TZOFFSETFROM:+0100
TZOFFSETTO:+0000
TZNAME:GMT
DTSTART:20251026T010000
END:STANDARD
BEGIN:DAYLIGHT
TZOFFSETFROM:+0000
TZOFFSETTO:+0100
TZNAME:BST
DTSTART:20260329T010000
END:DAYLIGHT
BEGIN:STANDARD
TZOFFSETFROM:+0100
TZOFFSETTO:+0000
TZNAME:GMT
DTSTART:20261025T010000
END:STANDARD
END:VTIMEZONE
BEGIN:VEVENT
DTSTART;TZID=Europe/London:20250607T104500
DTEND;TZID=Europe/London:20250607T123000
DTSTAMP:20260424T100827
CREATED:20250526T193826Z
LAST-MODIFIED:20250526T193950Z
UID:16509-1749293100-1749299400@transitionwoodbridge.org.uk
SUMMARY:Winged Wonders: An illustrated talk by Dr Ross Piper
DESCRIPTION:Waldringfield Wildlife Group presents… \nWinged Wonders: Why are insects so important and what can we do for them? \nAn illustrated talk by Dr Ross Piper. \nSaturday 7 June 2025 at Waldringfield Village Hall. \nDoors open at 10.45am for an 11am start. \nAdmission free for members; non-members £5 (cash payment preferred). Includes refreshments. \nDr Ross Piper is a entomologist and zoologist whose work has taken him around the world. Through his writing and TV work he shares his enthusiasm for the remarkable diversity of the other animals we share this planet with. The most recent species he has discovered is named after his young daughter\, although she was rather underwhelmed. \nHe will have copies of his last book\, How to Read an Insect\, to sell. \nThe talk is preceded by a members meeting at 10am.
URL:https://transitionwoodbridge.org.uk/event/winged-wonders-an-illustrated-talk-by-dr-ross-piper/
LOCATION:Waldringfield Village Hall\, School Rd\, Waldringfield\, Suffolk\, IP12 4QP\, United Kingdom
CATEGORIES:Upcoming
ATTACH;FMTTYPE=image/jpeg:https://transitionwoodbridge.org.uk/wp-content/uploads/2025/05/insect.jpg
END:VEVENT
END:VCALENDAR