BEGIN:VCALENDAR
VERSION:2.0
PRODID:-//Transition Woodbridge - ECPv6.15.20//NONSGML v1.0//EN
CALSCALE:GREGORIAN
METHOD:PUBLISH
X-ORIGINAL-URL:https://transitionwoodbridge.org.uk
X-WR-CALDESC:Events for Transition Woodbridge
REFRESH-INTERVAL;VALUE=DURATION:PT1H
X-Robots-Tag:noindex
X-PUBLISHED-TTL:PT1H
BEGIN:VTIMEZONE
TZID:Europe/London
BEGIN:DAYLIGHT
TZOFFSETFROM:+0000
TZOFFSETTO:+0100
TZNAME:BST
DTSTART:20240331T010000
END:DAYLIGHT
BEGIN:STANDARD
TZOFFSETFROM:+0100
TZOFFSETTO:+0000
TZNAME:GMT
DTSTART:20241027T010000
END:STANDARD
BEGIN:DAYLIGHT
TZOFFSETFROM:+0000
TZOFFSETTO:+0100
TZNAME:BST
DTSTART:20250330T010000
END:DAYLIGHT
BEGIN:STANDARD
TZOFFSETFROM:+0100
TZOFFSETTO:+0000
TZNAME:GMT
DTSTART:20251026T010000
END:STANDARD
BEGIN:DAYLIGHT
TZOFFSETFROM:+0000
TZOFFSETTO:+0100
TZNAME:BST
DTSTART:20260329T010000
END:DAYLIGHT
BEGIN:STANDARD
TZOFFSETFROM:+0100
TZOFFSETTO:+0000
TZNAME:GMT
DTSTART:20261025T010000
END:STANDARD
END:VTIMEZONE
BEGIN:VEVENT
DTSTART;TZID=Europe/London:20250601T100000
DTEND;TZID=Europe/London:20250601T120000
DTSTAMP:20260424T100834
CREATED:20250527T213911Z
LAST-MODIFIED:20250527T213924Z
UID:16515-1748772000-1748779200@transitionwoodbridge.org.uk
SUMMARY:Melton litter pick
DESCRIPTION:Fellow Wombles – you’re invited to join me at Honey + Harvey at Riduna Park on 1 June\, 10am\, for a litter pick in and around Melton. \nI have a few grabbers and can supply bags. \nDepending on numbers we will try and cover: \n\nSaddlemakers Lane\nStation Road\nThe Street\nSt Andrews Place\nHall Farm Road\nWoods Lane\n\nIf the weather is too wet we will adjust accordingly. \nPlease let me know if you’re interested: Peter James\, 07825 410333
URL:https://transitionwoodbridge.org.uk/event/melton-litter-pick/
LOCATION:Honey + Harvey Melton\, Riduna Park\, Unit 1\, Melton\, Woodbridge\, Suffolk\, IP12 1QT\, United Kingdom
CATEGORIES:Upcoming
ATTACH;FMTTYPE=image/jpeg:https://transitionwoodbridge.org.uk/wp-content/uploads/2024/10/litter2.jpg
ORGANIZER;CN="Transition Woodbridge":MAILTO:hello@transitionwoodbridge.org.uk
END:VEVENT
END:VCALENDAR