BEGIN:VCALENDAR
VERSION:2.0
PRODID:-//Transition Woodbridge - ECPv6.15.20//NONSGML v1.0//EN
CALSCALE:GREGORIAN
METHOD:PUBLISH
X-ORIGINAL-URL:https://transitionwoodbridge.org.uk
X-WR-CALDESC:Events for Transition Woodbridge
REFRESH-INTERVAL;VALUE=DURATION:PT1H
X-Robots-Tag:noindex
X-PUBLISHED-TTL:PT1H
BEGIN:VTIMEZONE
TZID:Europe/London
BEGIN:DAYLIGHT
TZOFFSETFROM:+0000
TZOFFSETTO:+0100
TZNAME:BST
DTSTART:20240331T010000
END:DAYLIGHT
BEGIN:STANDARD
TZOFFSETFROM:+0100
TZOFFSETTO:+0000
TZNAME:GMT
DTSTART:20241027T010000
END:STANDARD
BEGIN:DAYLIGHT
TZOFFSETFROM:+0000
TZOFFSETTO:+0100
TZNAME:BST
DTSTART:20250330T010000
END:DAYLIGHT
BEGIN:STANDARD
TZOFFSETFROM:+0100
TZOFFSETTO:+0000
TZNAME:GMT
DTSTART:20251026T010000
END:STANDARD
BEGIN:DAYLIGHT
TZOFFSETFROM:+0000
TZOFFSETTO:+0100
TZNAME:BST
DTSTART:20260329T010000
END:DAYLIGHT
BEGIN:STANDARD
TZOFFSETFROM:+0100
TZOFFSETTO:+0000
TZNAME:GMT
DTSTART:20261025T010000
END:STANDARD
END:VTIMEZONE
BEGIN:VEVENT
DTSTART;TZID=Europe/London:20250501T100000
DTEND;TZID=Europe/London:20250501T120000
DTSTAMP:20260424T113906
CREATED:20241216T104928Z
LAST-MODIFIED:20241216T104928Z
UID:15503-1746093600-1746100800@transitionwoodbridge.org.uk
SUMMARY:It all begins with Soil - at Martlesham Wilds
DESCRIPTION:Join our soil scientists and team\, to learn how important soil is to nature\, and how it will recover over time\, to influence what will grow at Martlesham Wilds. We will walk a while and be guided through soil survey methodology\, and have a chance to get a little muddy and explore the texture of different soils as well as looking for worms! Soil is important in gardens as well\, so come and get some tips on how to best help your soil recover. \nMeet at the car park near the church. \nFind out more and book.
URL:https://transitionwoodbridge.org.uk/event/it-all-begins-with-soil-at-martlesham-wilds/
LOCATION:Martlesham Wilds
CATEGORIES:Upcoming
ATTACH;FMTTYPE=image/png:https://transitionwoodbridge.org.uk/wp-content/uploads/2024/09/suffolkwildlife.png
ORGANIZER;CN="Suffolk Wildlife Trust":MAILTO:info@suffolkwildlifetrust.org
END:VEVENT
END:VCALENDAR