BEGIN:VCALENDAR
VERSION:2.0
PRODID:-//Transition Woodbridge - ECPv6.15.20//NONSGML v1.0//EN
CALSCALE:GREGORIAN
METHOD:PUBLISH
X-WR-CALNAME:Transition Woodbridge
X-ORIGINAL-URL:https://transitionwoodbridge.org.uk
X-WR-CALDESC:Events for Transition Woodbridge
REFRESH-INTERVAL;VALUE=DURATION:PT1H
X-Robots-Tag:noindex
X-PUBLISHED-TTL:PT1H
BEGIN:VTIMEZONE
TZID:Europe/London
BEGIN:DAYLIGHT
TZOFFSETFROM:+0000
TZOFFSETTO:+0100
TZNAME:BST
DTSTART:20240331T010000
END:DAYLIGHT
BEGIN:STANDARD
TZOFFSETFROM:+0100
TZOFFSETTO:+0000
TZNAME:GMT
DTSTART:20241027T010000
END:STANDARD
BEGIN:DAYLIGHT
TZOFFSETFROM:+0000
TZOFFSETTO:+0100
TZNAME:BST
DTSTART:20250330T010000
END:DAYLIGHT
BEGIN:STANDARD
TZOFFSETFROM:+0100
TZOFFSETTO:+0000
TZNAME:GMT
DTSTART:20251026T010000
END:STANDARD
BEGIN:DAYLIGHT
TZOFFSETFROM:+0000
TZOFFSETTO:+0100
TZNAME:BST
DTSTART:20260329T010000
END:DAYLIGHT
BEGIN:STANDARD
TZOFFSETFROM:+0100
TZOFFSETTO:+0000
TZNAME:GMT
DTSTART:20261025T010000
END:STANDARD
END:VTIMEZONE
BEGIN:VEVENT
DTSTART;TZID=Europe/London:20250328T090000
DTEND;TZID=Europe/London:20250328T170000
DTSTAMP:20260424T143018
CREATED:20250218T163235Z
LAST-MODIFIED:20250218T163235Z
UID:15726-1743152400-1743181200@transitionwoodbridge.org.uk
SUMMARY:Suffolk Master Composter Training Course
DESCRIPTION:Are you green fingered or even green minded? If so\, why not consider joining the happy band of enthusiastic volunteers that make up Suffolk Master Composter Volunteers? \nPlaces are available on the FREE Foundation Training course for new volunteers. You will receive expert training and ongoing support from Garden Organic and the Suffolk Waste Partnership\, to enable you to act as composting ambassadors – encouraging and supporting the public to compost through promotional talks\, events\, and demonstrations. Volunteers are asked to commit to at least 30 hours to helping the scheme after training. \nThe training is informal and relaxed\, and no experience is required – all you need is an interest in composting and a willingness to give up some time to help others in the community! The training course takes place at the Food Museum in Stowmarket on Fri 28th March 2025 (9am to 5pm). Places will be allocated on a first come first served basis – lunch and travelling expenses will be provided for the training. \nMore details here.
URL:https://transitionwoodbridge.org.uk/event/suffolk-master-composter-training-course/
LOCATION:The Food Museum\, Iliffe Way\, Stowmarket\, Suffolk\, IP14 1SL\, United Kingdom
CATEGORIES:Upcoming
ATTACH;FMTTYPE=image/jpeg:https://transitionwoodbridge.org.uk/wp-content/uploads/2024/11/trowelins.jpg
END:VEVENT
END:VCALENDAR