BEGIN:VCALENDAR
VERSION:2.0
PRODID:-//Transition Woodbridge - ECPv6.15.20//NONSGML v1.0//EN
CALSCALE:GREGORIAN
METHOD:PUBLISH
X-ORIGINAL-URL:https://transitionwoodbridge.org.uk
X-WR-CALDESC:Events for Transition Woodbridge
REFRESH-INTERVAL;VALUE=DURATION:PT1H
X-Robots-Tag:noindex
X-PUBLISHED-TTL:PT1H
BEGIN:VTIMEZONE
TZID:Europe/London
BEGIN:DAYLIGHT
TZOFFSETFROM:+0000
TZOFFSETTO:+0100
TZNAME:BST
DTSTART:20240331T010000
END:DAYLIGHT
BEGIN:STANDARD
TZOFFSETFROM:+0100
TZOFFSETTO:+0000
TZNAME:GMT
DTSTART:20241027T010000
END:STANDARD
BEGIN:DAYLIGHT
TZOFFSETFROM:+0000
TZOFFSETTO:+0100
TZNAME:BST
DTSTART:20250330T010000
END:DAYLIGHT
BEGIN:STANDARD
TZOFFSETFROM:+0100
TZOFFSETTO:+0000
TZNAME:GMT
DTSTART:20251026T010000
END:STANDARD
BEGIN:DAYLIGHT
TZOFFSETFROM:+0000
TZOFFSETTO:+0100
TZNAME:BST
DTSTART:20260329T010000
END:DAYLIGHT
BEGIN:STANDARD
TZOFFSETFROM:+0100
TZOFFSETTO:+0000
TZNAME:GMT
DTSTART:20261025T010000
END:STANDARD
END:VTIMEZONE
BEGIN:VEVENT
DTSTART;TZID=Europe/London:20250314T143000
DTEND;TZID=Europe/London:20250314T163000
DTSTAMP:20260424T143102
CREATED:20250304T094447Z
LAST-MODIFIED:20250304T094447Z
UID:15746-1741962600-1741969800@transitionwoodbridge.org.uk
SUMMARY:The Coast of East Anglia: a talk
DESCRIPTION:The coast of East Anglia has much beauty\, history and wildlife. As well as looking at scenery\, natural history (especially birds)\, authors\, seaside resorts and boating\, this talk considers the historical importance of these places.
URL:https://transitionwoodbridge.org.uk/event/the-coast-of-east-anglia-a-talk/
LOCATION:Woodbridge Community Hall\, Station Road\, Woodbridge\, Suffolk\, IP12 4AU
CATEGORIES:Upcoming
ATTACH;FMTTYPE=image/jpeg:https://transitionwoodbridge.org.uk/wp-content/uploads/2025/03/coast-free.jpg
END:VEVENT
BEGIN:VEVENT
DTSTART;TZID=Europe/London:20250314T190000
DTEND;TZID=Europe/London:20250314T210000
DTSTAMP:20260424T143102
CREATED:20250204T131131Z
LAST-MODIFIED:20250204T132105Z
UID:15680-1741978800-1741986000@transitionwoodbridge.org.uk
SUMMARY:Talk: Sirens and Citizen Science
DESCRIPTION:Workshop showcasing the activities of the Deben Climate Centre River quality monitoring team. \nThe focus of this talk will be to use the River Deben as an example of where volunteers backed by scientific expertise are bringing new insights to bear on the state of our natural environment. We will look not just at the alarming results of the pollution coming from waste water and from human activity but also at how to establish a credible volunteer network to monitor the state of our rivers and estuaries and press for improvements in their quality. \nFind out more and book tickets.
URL:https://transitionwoodbridge.org.uk/event/talk-sirens-and-citizen-science/
LOCATION:Woodbridge Methodist Church\, 25 Saint John's Street\, Woodbridge\, Suffolk\, IP12 1ED\, United Kingdom
CATEGORIES:Upcoming
ATTACH;FMTTYPE=image/png:https://transitionwoodbridge.org.uk/wp-content/uploads/2025/02/dcc.png
END:VEVENT
END:VCALENDAR