BEGIN:VCALENDAR
VERSION:2.0
PRODID:-//Transition Woodbridge - ECPv6.15.20//NONSGML v1.0//EN
CALSCALE:GREGORIAN
METHOD:PUBLISH
X-WR-CALNAME:Transition Woodbridge
X-ORIGINAL-URL:https://transitionwoodbridge.org.uk
X-WR-CALDESC:Events for Transition Woodbridge
REFRESH-INTERVAL;VALUE=DURATION:PT1H
X-Robots-Tag:noindex
X-PUBLISHED-TTL:PT1H
BEGIN:VTIMEZONE
TZID:Europe/London
BEGIN:DAYLIGHT
TZOFFSETFROM:+0000
TZOFFSETTO:+0100
TZNAME:BST
DTSTART:20240331T010000
END:DAYLIGHT
BEGIN:STANDARD
TZOFFSETFROM:+0100
TZOFFSETTO:+0000
TZNAME:GMT
DTSTART:20241027T010000
END:STANDARD
BEGIN:DAYLIGHT
TZOFFSETFROM:+0000
TZOFFSETTO:+0100
TZNAME:BST
DTSTART:20250330T010000
END:DAYLIGHT
BEGIN:STANDARD
TZOFFSETFROM:+0100
TZOFFSETTO:+0000
TZNAME:GMT
DTSTART:20251026T010000
END:STANDARD
BEGIN:DAYLIGHT
TZOFFSETFROM:+0000
TZOFFSETTO:+0100
TZNAME:BST
DTSTART:20260329T010000
END:DAYLIGHT
BEGIN:STANDARD
TZOFFSETFROM:+0100
TZOFFSETTO:+0000
TZNAME:GMT
DTSTART:20261025T010000
END:STANDARD
END:VTIMEZONE
BEGIN:VEVENT
DTSTART;TZID=Europe/London:20250228T190000
DTEND;TZID=Europe/London:20250228T210000
DTSTAMP:20260424T143020
CREATED:20250204T130729Z
LAST-MODIFIED:20250204T130729Z
UID:15676-1740769200-1740776400@transitionwoodbridge.org.uk
SUMMARY:Talk: The Landscape Approach to River Catchments
DESCRIPTION:Learn about the biological diversity of rivers and why they are vulnerable to change. \nJoin us at Woodbridge Methodist Church for an inspiring evening of knowledge-sharing and networking \nFind out more and book tickets.
URL:https://transitionwoodbridge.org.uk/event/talk-the-landscape-approach-to-river-catchments/
LOCATION:Woodbridge Methodist Church\, 25 Saint John's Street\, Woodbridge\, Suffolk\, IP12 1ED\, United Kingdom
CATEGORIES:Upcoming
ATTACH;FMTTYPE=image/png:https://transitionwoodbridge.org.uk/wp-content/uploads/2025/02/dcc.png
END:VEVENT
END:VCALENDAR