BEGIN:VCALENDAR
VERSION:2.0
PRODID:-//Transition Woodbridge - ECPv6.15.20//NONSGML v1.0//EN
CALSCALE:GREGORIAN
METHOD:PUBLISH
X-ORIGINAL-URL:https://transitionwoodbridge.org.uk
X-WR-CALDESC:Events for Transition Woodbridge
REFRESH-INTERVAL;VALUE=DURATION:PT1H
X-Robots-Tag:noindex
X-PUBLISHED-TTL:PT1H
BEGIN:VTIMEZONE
TZID:Europe/London
BEGIN:DAYLIGHT
TZOFFSETFROM:+0000
TZOFFSETTO:+0100
TZNAME:BST
DTSTART:20240331T010000
END:DAYLIGHT
BEGIN:STANDARD
TZOFFSETFROM:+0100
TZOFFSETTO:+0000
TZNAME:GMT
DTSTART:20241027T010000
END:STANDARD
BEGIN:DAYLIGHT
TZOFFSETFROM:+0000
TZOFFSETTO:+0100
TZNAME:BST
DTSTART:20250330T010000
END:DAYLIGHT
BEGIN:STANDARD
TZOFFSETFROM:+0100
TZOFFSETTO:+0000
TZNAME:GMT
DTSTART:20251026T010000
END:STANDARD
BEGIN:DAYLIGHT
TZOFFSETFROM:+0000
TZOFFSETTO:+0100
TZNAME:BST
DTSTART:20260329T010000
END:DAYLIGHT
BEGIN:STANDARD
TZOFFSETFROM:+0100
TZOFFSETTO:+0000
TZNAME:GMT
DTSTART:20261025T010000
END:STANDARD
END:VTIMEZONE
BEGIN:VEVENT
DTSTART;TZID=Europe/London:20250224T100000
DTEND;TZID=Europe/London:20250224T150000
DTSTAMP:20260424T143104
CREATED:20250218T162102Z
LAST-MODIFIED:20250218T162102Z
UID:15718-1740391200-1740409200@transitionwoodbridge.org.uk
SUMMARY:Green Skills for Employability
DESCRIPTION:West Suffolk College are running a free event of talks and workshops at the Food Museum\, Stowmarket\, to provide an introduction to sustainability knowledge and skills and develop awareness of sustainable employment opportunities. \nFind out more and book tickets.
URL:https://transitionwoodbridge.org.uk/event/green-skills-for-employability/
LOCATION:The Food Museum\, Iliffe Way\, Stowmarket\, Suffolk\, IP14 1SL\, United Kingdom
CATEGORIES:Upcoming
ATTACH;FMTTYPE=image/jpeg:https://transitionwoodbridge.org.uk/wp-content/uploads/2025/01/webinar.jpg
END:VEVENT
BEGIN:VEVENT
DTSTART;TZID=Europe/London:20250224T174500
DTEND;TZID=Europe/London:20250224T210000
DTSTAMP:20260424T143104
CREATED:20250218T160450Z
LAST-MODIFIED:20250218T160450Z
UID:15713-1740419100-1740430800@transitionwoodbridge.org.uk
SUMMARY:From Anxiety to Empowerment
DESCRIPTION:This evening forum will be an exploration of anxiety about the environmental crises\, its impacts and how we can face these with positivity. Speakers from Climate Psychology Alliance CAP\, Ecotherapy East CIC and Hadleigh Environmental Action Team (HEAT) CIC will help us frame the issues and stimulate a discussion with those in attendance. \nAll are welcome\, please feel free to share and invite others too. \nFind out more.
URL:https://transitionwoodbridge.org.uk/event/from-anxiety-to-empowerment/
LOCATION:East Suffolk House\, Riduna Park\, Station Road\,\, Melton\, Suffolk\, IP12 1RT\, United Kingdom
CATEGORIES:Upcoming
ATTACH;FMTTYPE=image/png:https://transitionwoodbridge.org.uk/wp-content/uploads/2025/02/wordcloud.png
ORGANIZER;CN="East Suffolk Council Greenprint Forum":MAILTO:greenissues@eastsuffolk.gov.uk
END:VEVENT
END:VCALENDAR