BEGIN:VCALENDAR
VERSION:2.0
PRODID:-//Transition Woodbridge - ECPv6.15.20//NONSGML v1.0//EN
CALSCALE:GREGORIAN
METHOD:PUBLISH
X-ORIGINAL-URL:https://transitionwoodbridge.org.uk
X-WR-CALDESC:Events for Transition Woodbridge
REFRESH-INTERVAL;VALUE=DURATION:PT1H
X-Robots-Tag:noindex
X-PUBLISHED-TTL:PT1H
BEGIN:VTIMEZONE
TZID:Europe/London
BEGIN:DAYLIGHT
TZOFFSETFROM:+0000
TZOFFSETTO:+0100
TZNAME:BST
DTSTART:20240331T010000
END:DAYLIGHT
BEGIN:STANDARD
TZOFFSETFROM:+0100
TZOFFSETTO:+0000
TZNAME:GMT
DTSTART:20241027T010000
END:STANDARD
BEGIN:DAYLIGHT
TZOFFSETFROM:+0000
TZOFFSETTO:+0100
TZNAME:BST
DTSTART:20250330T010000
END:DAYLIGHT
BEGIN:STANDARD
TZOFFSETFROM:+0100
TZOFFSETTO:+0000
TZNAME:GMT
DTSTART:20251026T010000
END:STANDARD
BEGIN:DAYLIGHT
TZOFFSETFROM:+0000
TZOFFSETTO:+0100
TZNAME:BST
DTSTART:20260329T010000
END:DAYLIGHT
BEGIN:STANDARD
TZOFFSETFROM:+0100
TZOFFSETTO:+0000
TZNAME:GMT
DTSTART:20261025T010000
END:STANDARD
END:VTIMEZONE
BEGIN:VEVENT
DTSTART;TZID=Europe/London:20250214T190000
DTEND;TZID=Europe/London:20250214T210000
DTSTAMP:20260424T162512
CREATED:20250204T130351Z
LAST-MODIFIED:20250204T131718Z
UID:15672-1739559600-1739566800@transitionwoodbridge.org.uk
SUMMARY:Talk: The Environment Agency's Landscape Recovery Program
DESCRIPTION:The EA’s Tansy Cooper takes us through the Agency’s approach to long-term\, large-scale environment & climate mitigation measures. \nLandscape Recovery is a pilot scheme\, under the Environmental Lands Management Scheme\, where landowners are paid for ambitious\, collaborative\, longer term\, larger scale projects\, to enhance the natural environment. \nFind out more and book tickets.
URL:https://transitionwoodbridge.org.uk/event/talk-the-environment-agencys-landscape-recovery-program/
LOCATION:Woodbridge Methodist Church\, 25 Saint John's Street\, Woodbridge\, Suffolk\, IP12 1ED\, United Kingdom
CATEGORIES:Upcoming
ATTACH;FMTTYPE=image/png:https://transitionwoodbridge.org.uk/wp-content/uploads/2025/02/dcc.png
END:VEVENT
END:VCALENDAR