BEGIN:VCALENDAR
VERSION:2.0
PRODID:-//Transition Woodbridge - ECPv6.15.20//NONSGML v1.0//EN
CALSCALE:GREGORIAN
METHOD:PUBLISH
X-ORIGINAL-URL:https://transitionwoodbridge.org.uk
X-WR-CALDESC:Events for Transition Woodbridge
REFRESH-INTERVAL;VALUE=DURATION:PT1H
X-Robots-Tag:noindex
X-PUBLISHED-TTL:PT1H
BEGIN:VTIMEZONE
TZID:Europe/London
BEGIN:DAYLIGHT
TZOFFSETFROM:+0000
TZOFFSETTO:+0100
TZNAME:BST
DTSTART:20240331T010000
END:DAYLIGHT
BEGIN:STANDARD
TZOFFSETFROM:+0100
TZOFFSETTO:+0000
TZNAME:GMT
DTSTART:20241027T010000
END:STANDARD
BEGIN:DAYLIGHT
TZOFFSETFROM:+0000
TZOFFSETTO:+0100
TZNAME:BST
DTSTART:20250330T010000
END:DAYLIGHT
BEGIN:STANDARD
TZOFFSETFROM:+0100
TZOFFSETTO:+0000
TZNAME:GMT
DTSTART:20251026T010000
END:STANDARD
BEGIN:DAYLIGHT
TZOFFSETFROM:+0000
TZOFFSETTO:+0100
TZNAME:BST
DTSTART:20260329T010000
END:DAYLIGHT
BEGIN:STANDARD
TZOFFSETFROM:+0100
TZOFFSETTO:+0000
TZNAME:GMT
DTSTART:20261025T010000
END:STANDARD
END:VTIMEZONE
BEGIN:VEVENT
DTSTART;TZID=Europe/London:20250208T110000
DTEND;TZID=Europe/London:20250208T123000
DTSTAMP:20260424T160456
CREATED:20250113T112337Z
LAST-MODIFIED:20250113T112337Z
UID:15577-1739012400-1739017800@transitionwoodbridge.org.uk
SUMMARY:BOSS: The Future of Barn Owls
DESCRIPTION:Waldringfield Wildlife Group presents an illustrated talk by Sally Nelson and Dave Pearsons: BOSS: The Future of Barn Owls. \nSally is the project lead for Barn Owl Support Suffolk B.O.S.S\, and Dave is a licensed monitor and ringer of Barn Owls. \nBuilding on the inspirational achievements of the Sufolk Community Barn Owl Project founded in 2005\, BOSS has been set up to preserve this proud legacy and the Barn Owl population for generations to come. The talk will focus on the future of Barn Owls in Sufolk and how through BOSS the community can further enhance their conservation. We will learn about the Barn Owl and their needs for survival\, the licensed ringing and monitoring arrangements and the work involved in nest box installation. \n\nDoors open at 10.45am for 11.00am start.\nAdmission: Non-members – £5\, includes refreshments (cash payment preferred).\nNo charge for paid up members.\nThe talk is preceded by a members meeting at 10.00 am
URL:https://transitionwoodbridge.org.uk/event/boss-the-future-of-barn-owls/
LOCATION:Waldringfield Village Hall\, School Rd\, Waldringfield\, Suffolk\, IP12 4QP\, United Kingdom
CATEGORIES:Upcoming
ATTACH;FMTTYPE=image/jpeg:https://transitionwoodbridge.org.uk/wp-content/uploads/2025/01/barnowl.jpg
END:VEVENT
BEGIN:VEVENT
DTSTART;TZID=Europe/London:20250208T110000
DTEND;TZID=Europe/London:20250208T133000
DTSTAMP:20260424T160456
CREATED:20250108T165512Z
LAST-MODIFIED:20250108T165512Z
UID:15559-1739012400-1739021400@transitionwoodbridge.org.uk
SUMMARY:Seed and Plant Swap at Barleybird
DESCRIPTION:Last year\, the Seed and Plant Swap was a resounding success with over 70 people attending… so Barleybird thought they’d do it again! \nPlease ensure your seeds are clean and dry\, and clearly labelled with the variety and date. If you don’t have seeds to swap\, you are still welcome to collect some free of charge. You can bring: \n\nOpened or unopened packets of bought seed\nSaved seed (as long as you are confident they will breed true!)\n1-2 year old seeds if they have been stored well\nSpare seedlings & plants too!\n\nStay for chat over a cuppa and some delicious snacks from Wakelyns Bakery. \nPut your questions to experienced seed savers and growers David Price and Kate Ayre. \nGet information\, advice and free trees from Graham Pleasants\, Director at the Suffolk Tree Warden Network. \nEnjoy a rare opportunity to see behind the scenes of Hodmedod’s Bean Store and browse the packing shelves for the full range of pulses\, grains\, edible seeds and more. \nBooking is not required – find out more.
URL:https://transitionwoodbridge.org.uk/event/seed-and-plant-swap-at-barleybird/
LOCATION:The Depot\, London Road\, Beccles\, Suffolk\, NR34 8DQ\, United Kingdom
CATEGORIES:Upcoming
ATTACH;FMTTYPE=image/jpeg:https://transitionwoodbridge.org.uk/wp-content/uploads/2025/01/seeds.jpg
END:VEVENT
END:VCALENDAR