BEGIN:VCALENDAR
VERSION:2.0
PRODID:-//Transition Woodbridge - ECPv6.15.20//NONSGML v1.0//EN
CALSCALE:GREGORIAN
METHOD:PUBLISH
X-WR-CALNAME:Transition Woodbridge
X-ORIGINAL-URL:https://transitionwoodbridge.org.uk
X-WR-CALDESC:Events for Transition Woodbridge
REFRESH-INTERVAL;VALUE=DURATION:PT1H
X-Robots-Tag:noindex
X-PUBLISHED-TTL:PT1H
BEGIN:VTIMEZONE
TZID:Europe/London
BEGIN:DAYLIGHT
TZOFFSETFROM:+0000
TZOFFSETTO:+0100
TZNAME:BST
DTSTART:20230326T010000
END:DAYLIGHT
BEGIN:STANDARD
TZOFFSETFROM:+0100
TZOFFSETTO:+0000
TZNAME:GMT
DTSTART:20231029T010000
END:STANDARD
BEGIN:DAYLIGHT
TZOFFSETFROM:+0000
TZOFFSETTO:+0100
TZNAME:BST
DTSTART:20240331T010000
END:DAYLIGHT
BEGIN:STANDARD
TZOFFSETFROM:+0100
TZOFFSETTO:+0000
TZNAME:GMT
DTSTART:20241027T010000
END:STANDARD
BEGIN:DAYLIGHT
TZOFFSETFROM:+0000
TZOFFSETTO:+0100
TZNAME:BST
DTSTART:20250330T010000
END:DAYLIGHT
BEGIN:STANDARD
TZOFFSETFROM:+0100
TZOFFSETTO:+0000
TZNAME:GMT
DTSTART:20251026T010000
END:STANDARD
END:VTIMEZONE
BEGIN:VEVENT
DTSTART;TZID=Europe/London:20241126T190000
DTEND;TZID=Europe/London:20241126T203000
DTSTAMP:20260424T191103
CREATED:20240930T103456Z
LAST-MODIFIED:20240930T105716Z
UID:14353-1732647600-1732653000@transitionwoodbridge.org.uk
SUMMARY:Wildlife Live Webinar - Transforming Worlingham Marshes
DESCRIPTION:Join us to discover the transformation that has taken place at Worlingham Marshes and what is possible in the future. \nSuffolk Wildlife Trust’s webinars take place midweek evenings from 7pm via Zoom\, and can be enjoyed in the comfort of your own home. We cannot see nor hear any attendees\, so you can relax! But everyone is invited to ask questions via the Zoom Q&A panel at the end of the presentation. \nA missing piece of the Suffolk Broads landscape for wildlife and people\, Worlingham Marshes is at the very beginning of its journey from a private grazing marsh to a nature reserve. \nSince securing the land in the winter of 2023\, we have already seen a thrilling array of wildlife including kingfisher\, merlin\, short-eared owl\, marsh harrier\, otter\, and grass snake – giving us a sense of the potential the reserve has for wildlife. \nJoin Lewis Yates\, Worlingham Warden\, and Vicky Eyles\, Wilder Communities Officer\, for a talk about the transformation of Worlingham Marshes and the surrounding work with local landowners and community members to increase nature connection and improve the area for both wildlife and people. \nFind out more and book.
URL:https://transitionwoodbridge.org.uk/event/wildlife-live-webinar-transforming-worlingham-marshes/
CATEGORIES:Upcoming
ATTACH;FMTTYPE=image/png:https://transitionwoodbridge.org.uk/wp-content/uploads/2024/09/suffolkwildlife.png
ORGANIZER;CN="Suffolk Wildlife Trust":MAILTO:info@suffolkwildlifetrust.org
END:VEVENT
END:VCALENDAR