BEGIN:VCALENDAR
VERSION:2.0
PRODID:-//Transition Woodbridge - ECPv6.15.20//NONSGML v1.0//EN
CALSCALE:GREGORIAN
METHOD:PUBLISH
X-ORIGINAL-URL:https://transitionwoodbridge.org.uk
X-WR-CALDESC:Events for Transition Woodbridge
REFRESH-INTERVAL;VALUE=DURATION:PT1H
X-Robots-Tag:noindex
X-PUBLISHED-TTL:PT1H
BEGIN:VTIMEZONE
TZID:Europe/London
BEGIN:DAYLIGHT
TZOFFSETFROM:+0000
TZOFFSETTO:+0100
TZNAME:BST
DTSTART:20230326T010000
END:DAYLIGHT
BEGIN:STANDARD
TZOFFSETFROM:+0100
TZOFFSETTO:+0000
TZNAME:GMT
DTSTART:20231029T010000
END:STANDARD
BEGIN:DAYLIGHT
TZOFFSETFROM:+0000
TZOFFSETTO:+0100
TZNAME:BST
DTSTART:20240331T010000
END:DAYLIGHT
BEGIN:STANDARD
TZOFFSETFROM:+0100
TZOFFSETTO:+0000
TZNAME:GMT
DTSTART:20241027T010000
END:STANDARD
BEGIN:DAYLIGHT
TZOFFSETFROM:+0000
TZOFFSETTO:+0100
TZNAME:BST
DTSTART:20250330T010000
END:DAYLIGHT
BEGIN:STANDARD
TZOFFSETFROM:+0100
TZOFFSETTO:+0000
TZNAME:GMT
DTSTART:20251026T010000
END:STANDARD
END:VTIMEZONE
BEGIN:VEVENT
DTSTART;TZID=Europe/London:20241124T100000
DTEND;TZID=Europe/London:20241124T120000
DTSTAMP:20260424T203632
CREATED:20231114T121951Z
LAST-MODIFIED:20231114T121951Z
UID:3291-1732442400-1732449600@transitionwoodbridge.org.uk
SUMMARY:Rubbish Walk Woodbridge
DESCRIPTION:Join Jason on a litterpick around Woodbridge on the last Sunday of every month. Leave from the Tea Hut by the river at 10am.
URL:https://transitionwoodbridge.org.uk/event/rubbish-walk-woodbridge-13/
LOCATION:The Tea Hut\, The Tea Hut\, River Wall\, Woodbridge\, Suffolk\, IP12 4BB\, United Kingdom
CATEGORIES:Upcoming
ATTACH;FMTTYPE=image/jpeg:https://transitionwoodbridge.org.uk/wp-content/uploads/2019/07/Transistion-Woodbridge_LOGO-2.jpg
END:VEVENT
BEGIN:VEVENT
DTSTART;TZID=Europe/London:20241124T130000
DTEND;TZID=Europe/London:20241124T143000
DTSTAMP:20260424T203632
CREATED:20240930T105511Z
LAST-MODIFIED:20240930T105511Z
UID:14364-1732453200-1732458600@transitionwoodbridge.org.uk
SUMMARY:Guided walk at Foxburrow
DESCRIPTION:A guided walk with our wildlife guide through the wonderful reserve that is Foxburrow. The theme this month is ‘fieldfares and redwings’. \nDiscover Foxburrow reserve on a guided walk from our knowledgeable wildlife guide Margaret. Margaret will take you through the mosaic that is Foxburrow reserve and give you an overview to what is on the reserve currently and a little bit of history of the reserve. \nCome along whether you are a wildlife enthusiast or are looking to improve your ID skills\, everyone is welcome. We shall be exploring predominantly our red route which is a grass path and can be muddy in places. \nBinoculars are recommended – we sometimes have some to hire. \nTickets must be booked in advance. \nFind out more and book.
URL:https://transitionwoodbridge.org.uk/event/guided-walk-at-foxburrow-2/
LOCATION:Foxborrow Farm\, Foxborrow Farm\, Melton\, Woodbridge\, Suffolk\, IP121NA\, United Kingdom
CATEGORIES:Upcoming
ATTACH;FMTTYPE=image/jpeg:https://transitionwoodbridge.org.uk/wp-content/uploads/2024/08/walking-small.jpg
ORGANIZER;CN="Suffolk Wildlife Trust":MAILTO:info@suffolkwildlifetrust.org
END:VEVENT
END:VCALENDAR