BEGIN:VCALENDAR
VERSION:2.0
PRODID:-//Transition Woodbridge - ECPv6.15.20//NONSGML v1.0//EN
CALSCALE:GREGORIAN
METHOD:PUBLISH
X-WR-CALNAME:Transition Woodbridge
X-ORIGINAL-URL:https://transitionwoodbridge.org.uk
X-WR-CALDESC:Events for Transition Woodbridge
REFRESH-INTERVAL;VALUE=DURATION:PT1H
X-Robots-Tag:noindex
X-PUBLISHED-TTL:PT1H
BEGIN:VTIMEZONE
TZID:Europe/London
BEGIN:DAYLIGHT
TZOFFSETFROM:+0000
TZOFFSETTO:+0100
TZNAME:BST
DTSTART:20230326T010000
END:DAYLIGHT
BEGIN:STANDARD
TZOFFSETFROM:+0100
TZOFFSETTO:+0000
TZNAME:GMT
DTSTART:20231029T010000
END:STANDARD
BEGIN:DAYLIGHT
TZOFFSETFROM:+0000
TZOFFSETTO:+0100
TZNAME:BST
DTSTART:20240331T010000
END:DAYLIGHT
BEGIN:STANDARD
TZOFFSETFROM:+0100
TZOFFSETTO:+0000
TZNAME:GMT
DTSTART:20241027T010000
END:STANDARD
BEGIN:DAYLIGHT
TZOFFSETFROM:+0000
TZOFFSETTO:+0100
TZNAME:BST
DTSTART:20250330T010000
END:DAYLIGHT
BEGIN:STANDARD
TZOFFSETFROM:+0100
TZOFFSETTO:+0000
TZNAME:GMT
DTSTART:20251026T010000
END:STANDARD
END:VTIMEZONE
BEGIN:VEVENT
DTSTART;TZID=Europe/London:20241019T100000
DTEND;TZID=Europe/London:20241019T133000
DTSTAMP:20260424T220834
CREATED:20240814T175551Z
LAST-MODIFIED:20240814T175551Z
UID:12559-1729332000-1729344600@transitionwoodbridge.org.uk
SUMMARY:Wander in the Wilds - photography
DESCRIPTION:Learn how to use your camera to capture the best shots of Martlesham Wilds\, with award-winning photographer Kevin Sawford. \nOpen to all levels of photography from beginners to experts\, this ‘Wander in the Wilds’ will give you the opportunity to hone your existing photography skills or learn new ones as you take photos in the magical landscapes of this stunning new reserve in Suffolk. \nWhilst exploring the reserve in Autumn\, Kevin will guide you on the techniques you can employ to capture the perfect images of the surrounding landscape and its wildlife\, and he will provide you with hints & tips for getting the best out of your camera. You will receive one-to-one as well as group guidance on optimising your composition and have the chance to put some novel techniques into practice. \nFind out more\, including what to bring\, and book your place.
URL:https://transitionwoodbridge.org.uk/event/wander-in-the-wilds-photography/
LOCATION:Martlesham Wilds
CATEGORIES:Upcoming
ATTACH;FMTTYPE=image/jpeg:https://transitionwoodbridge.org.uk/wp-content/uploads/2024/08/camera.jpg
ORGANIZER;CN="Suffolk Wildlife Trust":MAILTO:info@suffolkwildlifetrust.org
END:VEVENT
END:VCALENDAR