BEGIN:VCALENDAR
VERSION:2.0
PRODID:-//Transition Woodbridge - ECPv6.15.20//NONSGML v1.0//EN
CALSCALE:GREGORIAN
METHOD:PUBLISH
X-WR-CALNAME:Transition Woodbridge
X-ORIGINAL-URL:https://transitionwoodbridge.org.uk
X-WR-CALDESC:Events for Transition Woodbridge
REFRESH-INTERVAL;VALUE=DURATION:PT1H
X-Robots-Tag:noindex
X-PUBLISHED-TTL:PT1H
BEGIN:VTIMEZONE
TZID:Europe/London
BEGIN:DAYLIGHT
TZOFFSETFROM:+0000
TZOFFSETTO:+0100
TZNAME:BST
DTSTART:20230326T010000
END:DAYLIGHT
BEGIN:STANDARD
TZOFFSETFROM:+0100
TZOFFSETTO:+0000
TZNAME:GMT
DTSTART:20231029T010000
END:STANDARD
BEGIN:DAYLIGHT
TZOFFSETFROM:+0000
TZOFFSETTO:+0100
TZNAME:BST
DTSTART:20240331T010000
END:DAYLIGHT
BEGIN:STANDARD
TZOFFSETFROM:+0100
TZOFFSETTO:+0000
TZNAME:GMT
DTSTART:20241027T010000
END:STANDARD
BEGIN:DAYLIGHT
TZOFFSETFROM:+0000
TZOFFSETTO:+0100
TZNAME:BST
DTSTART:20250330T010000
END:DAYLIGHT
BEGIN:STANDARD
TZOFFSETFROM:+0100
TZOFFSETTO:+0000
TZNAME:GMT
DTSTART:20251026T010000
END:STANDARD
END:VTIMEZONE
BEGIN:VEVENT
DTSTART;VALUE=DATE:20240712
DTEND;VALUE=DATE:20240805
DTSTAMP:20260425T023704
CREATED:20240717T145917Z
LAST-MODIFIED:20240717T145917Z
UID:9100-1720742400-1722815999@transitionwoodbridge.org.uk
SUMMARY:Big Butterfly Count
DESCRIPTION:The Big Butterfly Count is a UK-wide survey aimed at helping us assess the health of our environment simply by counting the number and type of butterflies (and some day-flying moths) we see. Anyone\, anywhere can take part in this nationwide citizen science initiative. Find out more about how to participate\, record and submit your sightings.
URL:https://transitionwoodbridge.org.uk/event/big-butterfly-count/
CATEGORIES:Upcoming
ATTACH;FMTTYPE=image/jpeg:https://transitionwoodbridge.org.uk/wp-content/uploads/2024/07/redad.jpg
END:VEVENT
BEGIN:VEVENT
DTSTART;VALUE=DATE:20240720
DTEND;VALUE=DATE:20240722
DTSTAMP:20260425T023704
CREATED:20240110T062903Z
LAST-MODIFIED:20240702T091029Z
UID:3458-1721433600-1721606399@transitionwoodbridge.org.uk
SUMMARY:Heritage Frame Baskets 2 Day Course
DESCRIPTION:
URL:https://transitionwoodbridge.org.uk/event/heritage-rame-baskets-2-day-course/
LOCATION:Wakelyns Farm
CATEGORIES:Upcoming
ATTACH;FMTTYPE=image/jpeg:https://transitionwoodbridge.org.uk/wp-content/uploads/2019/07/Transistion-Woodbridge_LOGO-2.jpg
END:VEVENT
BEGIN:VEVENT
DTSTART;TZID=Europe/London:20240721T180000
DTEND;TZID=Europe/London:20240721T200000
DTSTAMP:20260425T023704
CREATED:20240717T151351Z
LAST-MODIFIED:20240717T151351Z
UID:9112-1721584800-1721592000@transitionwoodbridge.org.uk
SUMMARY:Screening of film Heart of an Oak
DESCRIPTION:Suitable for all ages\, this wordless nature documentary showcases the spectacular forest ecosystem supported by a majestic\, 210-year-old French oak tree. Dispensing with voiceover\, the film instead fuses innovative camerawork with environmental sounds and a vibrant score to immerse the viewer in diverse life stories from root to branch. Its cast of characters includes ants\, acorn weevils\, field mice\, squirrels\, Eurasian jays and tawny owls.
URL:https://transitionwoodbridge.org.uk/event/screening-of-film-heart-of-an-oak/
LOCATION:Riverside Theatre\, Quayside\, Woodbridge\, Suffolk\, IP12 1BH\, United Kingdom
CATEGORIES:Upcoming
ATTACH;FMTTYPE=image/jpeg:https://transitionwoodbridge.org.uk/wp-content/uploads/2024/06/film.jpg
ORGANIZER;CN="The Riverside Theatre":MAILTO:mail@theriverside.co.uk
END:VEVENT
END:VCALENDAR