BEGIN:VCALENDAR
VERSION:2.0
PRODID:-//Transition Woodbridge - ECPv6.15.20//NONSGML v1.0//EN
CALSCALE:GREGORIAN
METHOD:PUBLISH
X-ORIGINAL-URL:https://transitionwoodbridge.org.uk
X-WR-CALDESC:Events for Transition Woodbridge
REFRESH-INTERVAL;VALUE=DURATION:PT1H
X-Robots-Tag:noindex
X-PUBLISHED-TTL:PT1H
BEGIN:VTIMEZONE
TZID:Europe/London
BEGIN:DAYLIGHT
TZOFFSETFROM:+0000
TZOFFSETTO:+0100
TZNAME:BST
DTSTART:20230326T010000
END:DAYLIGHT
BEGIN:STANDARD
TZOFFSETFROM:+0100
TZOFFSETTO:+0000
TZNAME:GMT
DTSTART:20231029T010000
END:STANDARD
BEGIN:DAYLIGHT
TZOFFSETFROM:+0000
TZOFFSETTO:+0100
TZNAME:BST
DTSTART:20240331T010000
END:DAYLIGHT
BEGIN:STANDARD
TZOFFSETFROM:+0100
TZOFFSETTO:+0000
TZNAME:GMT
DTSTART:20241027T010000
END:STANDARD
BEGIN:DAYLIGHT
TZOFFSETFROM:+0000
TZOFFSETTO:+0100
TZNAME:BST
DTSTART:20250330T010000
END:DAYLIGHT
BEGIN:STANDARD
TZOFFSETFROM:+0100
TZOFFSETTO:+0000
TZNAME:GMT
DTSTART:20251026T010000
END:STANDARD
END:VTIMEZONE
BEGIN:VEVENT
DTSTART;VALUE=DATE:20240712
DTEND;VALUE=DATE:20240805
DTSTAMP:20260425T023708
CREATED:20240717T145917Z
LAST-MODIFIED:20240717T145917Z
UID:9100-1720742400-1722815999@transitionwoodbridge.org.uk
SUMMARY:Big Butterfly Count
DESCRIPTION:The Big Butterfly Count is a UK-wide survey aimed at helping us assess the health of our environment simply by counting the number and type of butterflies (and some day-flying moths) we see. Anyone\, anywhere can take part in this nationwide citizen science initiative. Find out more about how to participate\, record and submit your sightings.
URL:https://transitionwoodbridge.org.uk/event/big-butterfly-count/
CATEGORIES:Upcoming
ATTACH;FMTTYPE=image/jpeg:https://transitionwoodbridge.org.uk/wp-content/uploads/2024/07/redad.jpg
END:VEVENT
BEGIN:VEVENT
DTSTART;TZID=Europe/London:20240713T100000
DTEND;TZID=Europe/London:20240713T120000
DTSTAMP:20260425T023708
CREATED:20231117T094335Z
LAST-MODIFIED:20231117T094335Z
UID:3331-1720864800-1720872000@transitionwoodbridge.org.uk
SUMMARY:Martlesham Repair Hub
DESCRIPTION:
URL:https://transitionwoodbridge.org.uk/event/martlesham-repair-hub-6/
LOCATION:Martlesham Parish Rooms\, Felixstowe Road\,\, Martlesham\, Suffolk\, IP12 4PB
CATEGORIES:Upcoming
ATTACH;FMTTYPE=image/jpeg:https://transitionwoodbridge.org.uk/wp-content/uploads/2019/07/Transistion-Woodbridge_LOGO-2.jpg
ORGANIZER;CN="Martlesham Climate Action":MAILTO:martleshamclimateaction@btinternet.com
END:VEVENT
BEGIN:VEVENT
DTSTART;TZID=Europe/London:20240713T140000
DTEND;TZID=Europe/London:20240713T163000
DTSTAMP:20260425T023708
CREATED:20240701T150956Z
LAST-MODIFIED:20240701T151125Z
UID:8263-1720879200-1720888200@transitionwoodbridge.org.uk
SUMMARY:A Butterfly Walk in an ancient Mid-Suffolk woodland
DESCRIPTION:On Saturday 13 July Suffolk Wildlife Trust’s Woodbridge Wildlife Group invite you to join them for a Butterfly Walk to the ancient Bonny Wood Nature Reserve near Barking starting at 2 pm. \n“We are meeting at Barking Tye Village Hall from where we will take the 15-20 minute walk along public footpaths to this delightful reserve” said Phil Smith\, Chairman of the Woodbridge Wildlife Group. “Bonny Wood is part of Barking Tye Woods\, a site of special scientific interest and\, weather permitting\, is a good place to spot a range of butterflies. We’ll also be on the lookout for woodland flowers and birds.” \nThe walk starts from Barking Tye Village Hall car park\, IP6 8HP. Participants should bring binoculars and wear strong and waterproof footwear\, as this reserve can be wet and muddy. Bring a drink and sun hat too. Places on this walk are strictly limited and must be pre-booked by contacting Suffolk Wildlife Trust. The cost is £5 per person with under 25s free. The walk is suitable for children over 10. Dogs are not allowed on this walk. \nBook your place here\, on the Suffolk Wildlife Trust website.
URL:https://transitionwoodbridge.org.uk/event/a-butterfly-walk-in-an-ancient-mid-suffolk-woodland/
LOCATION:Barking Tye Village Hall car park\, Barking Tye Village Hall car park\, Barking Tye\, IP6 8HP\, United Kingdom
CATEGORIES:Upcoming
ATTACH;FMTTYPE=image/jpeg:https://transitionwoodbridge.org.uk/wp-content/uploads/2024/07/butterfly.jpg
ORGANIZER;CN="Suffolk Wildlife Trust":MAILTO:info@suffolkwildlifetrust.org
END:VEVENT
END:VCALENDAR