BEGIN:VCALENDAR
VERSION:2.0
PRODID:-//Transition Woodbridge - ECPv6.15.20//NONSGML v1.0//EN
CALSCALE:GREGORIAN
METHOD:PUBLISH
X-WR-CALNAME:Transition Woodbridge
X-ORIGINAL-URL:https://transitionwoodbridge.org.uk
X-WR-CALDESC:Events for Transition Woodbridge
REFRESH-INTERVAL;VALUE=DURATION:PT1H
X-Robots-Tag:noindex
X-PUBLISHED-TTL:PT1H
BEGIN:VTIMEZONE
TZID:Europe/London
BEGIN:DAYLIGHT
TZOFFSETFROM:+0000
TZOFFSETTO:+0100
TZNAME:BST
DTSTART:20230326T010000
END:DAYLIGHT
BEGIN:STANDARD
TZOFFSETFROM:+0100
TZOFFSETTO:+0000
TZNAME:GMT
DTSTART:20231029T010000
END:STANDARD
BEGIN:DAYLIGHT
TZOFFSETFROM:+0000
TZOFFSETTO:+0100
TZNAME:BST
DTSTART:20240331T010000
END:DAYLIGHT
BEGIN:STANDARD
TZOFFSETFROM:+0100
TZOFFSETTO:+0000
TZNAME:GMT
DTSTART:20241027T010000
END:STANDARD
BEGIN:DAYLIGHT
TZOFFSETFROM:+0000
TZOFFSETTO:+0100
TZNAME:BST
DTSTART:20250330T010000
END:DAYLIGHT
BEGIN:STANDARD
TZOFFSETFROM:+0100
TZOFFSETTO:+0000
TZNAME:GMT
DTSTART:20251026T010000
END:STANDARD
END:VTIMEZONE
BEGIN:VEVENT
DTSTART;TZID=Europe/London:20240708T163000
DTEND;TZID=Europe/London:20240711T190000
DTSTAMP:20260425T023704
CREATED:20240625T120709Z
LAST-MODIFIED:20240625T120709Z
UID:8127-1720456200-1720724400@transitionwoodbridge.org.uk
SUMMARY:Screening of the film Wilding
DESCRIPTION:The film Wilding is screening at the cinema at Woodbridge Riverside for four days. \nBased on Isabella Tree’s best-selling book by the same title\, Wilding tells the incredible story of a young couple that bets on nature for the future of their failing\, four-hundred-year-old estate. They set to work with their groundbreaking vision\, battling entrenched tradition and major forces along the way\, daring to place the fate of their farm in the hands of nature. Ripping down the fences\, they set the land back to the wild and entrust its recovery to a motley mix of animals both tame and wild. It is the beginning of a grand experiment that will become one of the most significant rewilding experiments in Europe and beyond. \nFind out more and book tickets.
URL:https://transitionwoodbridge.org.uk/event/screening-of-the-film-wilding/
LOCATION:Riverside Theatre\, Quayside\, Woodbridge\, Suffolk\, IP12 1BH\, United Kingdom
CATEGORIES:Upcoming
ATTACH;FMTTYPE=image/jpeg:https://transitionwoodbridge.org.uk/wp-content/uploads/2024/06/film.jpg
ORGANIZER;CN="The Riverside Theatre":MAILTO:mail@theriverside.co.uk
END:VEVENT
END:VCALENDAR